BEGIN:VCALENDAR
VERSION:2.0
PRODID:-//Conejo Valley Parent Guide - ECPv6.15.20//NONSGML v1.0//EN
CALSCALE:GREGORIAN
METHOD:PUBLISH
X-ORIGINAL-URL:https://cvparentguide.com
X-WR-CALDESC:Events for Conejo Valley Parent Guide
REFRESH-INTERVAL;VALUE=DURATION:PT1H
X-Robots-Tag:noindex
X-PUBLISHED-TTL:PT1H
BEGIN:VTIMEZONE
TZID:America/Los_Angeles
BEGIN:DAYLIGHT
TZOFFSETFROM:-0800
TZOFFSETTO:-0700
TZNAME:PDT
DTSTART:20250309T100000
END:DAYLIGHT
BEGIN:STANDARD
TZOFFSETFROM:-0700
TZOFFSETTO:-0800
TZNAME:PST
DTSTART:20251102T090000
END:STANDARD
BEGIN:DAYLIGHT
TZOFFSETFROM:-0800
TZOFFSETTO:-0700
TZNAME:PDT
DTSTART:20260308T100000
END:DAYLIGHT
BEGIN:STANDARD
TZOFFSETFROM:-0700
TZOFFSETTO:-0800
TZNAME:PST
DTSTART:20261101T090000
END:STANDARD
BEGIN:DAYLIGHT
TZOFFSETFROM:-0800
TZOFFSETTO:-0700
TZNAME:PDT
DTSTART:20270314T100000
END:DAYLIGHT
BEGIN:STANDARD
TZOFFSETFROM:-0700
TZOFFSETTO:-0800
TZNAME:PST
DTSTART:20271107T090000
END:STANDARD
END:VTIMEZONE
BEGIN:VEVENT
DTSTART;TZID=America/Los_Angeles:20260423T173000
DTEND;TZID=America/Los_Angeles:20260529T220000
DTSTAMP:20260423T030103
CREATED:20250823T154933Z
LAST-MODIFIED:20250823T154933Z
UID:10007703-1776965400-1780092000@cvparentguide.com
SUMMARY:Nights of The Jack
DESCRIPTION:Halloween Magic Awaits! ✨🎃\nExperience an Immersive Halloween Experience filled with:\nStunning professional lighting displays\nSpooky + fun Halloween designs\nAn unbelievable pumpkin carving showcase you won’t forget \n🎟️ Get your tickets now and save 15% with code: CARVE15 (expires 9/7) \nThis is one of the ultimate family Halloween events in Southern California — don’t miss the chance to make memories under the glowing lights of carved pumpkins and seasonal magic. 🍂👨‍👩‍👧‍👦
URL:https://cvparentguide.com/calendar/nights-of-the-jack/2026-04-23/
LOCATION:King Gillette Ranch\, King Gillette Ranch\, Calabasas\, CA
CATEGORIES:Big Kid,Family,South Valley,Toddler,Tween & Teen
END:VEVENT
BEGIN:VEVENT
DTSTART;TZID=America/Los_Angeles:20260503T100000
DTEND;TZID=America/Los_Angeles:20260503T140000
DTSTAMP:20260423T030103
CREATED:20250825T022835Z
LAST-MODIFIED:20250825T022835Z
UID:10007948-1777802400-1777816800@cvparentguide.com
SUMMARY:Free Family Sunday
DESCRIPTION:Our Chain of Hangars is open for you to explore from 10:00am until 2:00pm. (Except when cancelled for rain.) And it’s all free! \nDon’t forget to pick up a free map from our home museum hangar\, and start your tour. You are free to visit the hangars in any order you wish\, either by walking the airport\, or catching the tram. \nKids (Ages 8-17) Free First Flights through EAA sign up: Young Eagles | EAA Chapter 723 (eaa723.org) Sign-ups are available two weeks prior to the event. Scroll down to find the Santa Paula Young Eagles event.  If you can’t find it\, you can come in and sign up on-site on a first-come\, first-served basis.
URL:https://cvparentguide.com/calendar/free-family-sunday/2026-05-03/
LOCATION:The Aviation Museum of Santa Paula\, 800 E. Santa Maria Street #E\, Santa Paula\, CA
CATEGORIES:Big Kid,East Valley,Family,Toddler,Tween & Teen
END:VEVENT
BEGIN:VEVENT
DTSTART;TZID=America/Los_Angeles:20260503T110000
DTEND;TZID=America/Los_Angeles:20260503T210000
DTSTAMP:20260423T030103
CREATED:20250909T210514Z
LAST-MODIFIED:20250909T210609Z
UID:10008781-1777806000-1777842000@cvparentguide.com
SUMMARY:Sensory Sensitive Sundays @ Chuck E. Cheese
DESCRIPTION:Every child deserves a chance to have fun\nAt Chuck E. Cheese Thousand Oaks\, Sensory Sensitive Sundays are special hours designed to provide children with sensory sensitivities and their families a quieter\, more comfortable experience. With dimmed lighting\, reduced noise levels\, and a calm atmosphere\, we’ve made it easier for everyone to enjoy our games\, food\, and activities in a setting that feels just right. \nGame room\nDuring Sensory Sensitive Sundays at Chuck E. Cheese Thousand Oaks\, our game room transforms into a quieter\, more soothing space where children with sensory sensitivities can enjoy all their favorite games without the overwhelming sights and sounds
URL:https://cvparentguide.com/calendar/sensory-sensitive-sundays-chuck-e-cheese/2026-05-03/
LOCATION:Chuck E. Cheese TO\, 130 W. Hillcrest Dr.\, Thousand Oaks\, CA
CATEGORIES:Big Kid,Central Valley,Family,North Valley,Toddler,Tween & Teen
END:VEVENT
END:VCALENDAR