BEGIN:VCALENDAR
VERSION:2.0
PRODID:-//Conejo Valley Parent Guide - ECPv6.15.20//NONSGML v1.0//EN
CALSCALE:GREGORIAN
METHOD:PUBLISH
X-WR-CALNAME:Conejo Valley Parent Guide
X-ORIGINAL-URL:https://cvparentguide.com
X-WR-CALDESC:Events for Conejo Valley Parent Guide
REFRESH-INTERVAL;VALUE=DURATION:PT1H
X-Robots-Tag:noindex
X-PUBLISHED-TTL:PT1H
BEGIN:VTIMEZONE
TZID:America/Los_Angeles
BEGIN:DAYLIGHT
TZOFFSETFROM:-0800
TZOFFSETTO:-0700
TZNAME:PDT
DTSTART:20240310T100000
END:DAYLIGHT
BEGIN:STANDARD
TZOFFSETFROM:-0700
TZOFFSETTO:-0800
TZNAME:PST
DTSTART:20241103T090000
END:STANDARD
BEGIN:DAYLIGHT
TZOFFSETFROM:-0800
TZOFFSETTO:-0700
TZNAME:PDT
DTSTART:20250309T100000
END:DAYLIGHT
BEGIN:STANDARD
TZOFFSETFROM:-0700
TZOFFSETTO:-0800
TZNAME:PST
DTSTART:20251102T090000
END:STANDARD
BEGIN:DAYLIGHT
TZOFFSETFROM:-0800
TZOFFSETTO:-0700
TZNAME:PDT
DTSTART:20260308T100000
END:DAYLIGHT
BEGIN:STANDARD
TZOFFSETFROM:-0700
TZOFFSETTO:-0800
TZNAME:PST
DTSTART:20261101T090000
END:STANDARD
END:VTIMEZONE
BEGIN:VEVENT
DTSTART;TZID=America/Los_Angeles:20250823T080000
DTEND;TZID=America/Los_Angeles:20250823T100000
DTSTAMP:20260421T134758
CREATED:20250818T212501Z
LAST-MODIFIED:20250818T212501Z
UID:10007486-1755936000-1755943200@cvparentguide.com
SUMMARY:Conejo Cruise in
DESCRIPTION:Rev up your engines and roll into a morning of classic cars\, cool trucks\, and roaring motorcycles at the Conejo Cruise-In! Join us at Dos Vientos Community Center for a fun\, free\, and friendly gathering—no registration needed\, just drive up and enjoy
URL:https://cvparentguide.com/calendar/conejo-cruise-in/
LOCATION:Dos Vientos Community Center\, 4801 Borchard Road\, Newbury Park\, CA
CATEGORIES:Central Valley,Family
END:VEVENT
BEGIN:VEVENT
DTSTART;TZID=America/Los_Angeles:20250824T100000
DTEND;TZID=America/Los_Angeles:20250824T160000
DTSTAMP:20260421T134758
CREATED:20250823T150610Z
LAST-MODIFIED:20250823T150753Z
UID:10007487-1756029600-1756051200@cvparentguide.com
SUMMARY:Villian Takeover: Pixie Hollow Trade Fair
DESCRIPTION:Cast a spell\, come join the way\, Disney villains rule the 805 today ……….. \nBeware and prepare \nPixie Hollow is not just a market\, it’s an experience 🧡🖤🧡🖤\nCraft vendors\, food vendors\, sweet treats\, music\, photo ops\, disney theme vendors\, surprises & giveaways ❤️‍🔥 \n🚨 FREE ENTRY!\nFUN FOR THE WHOLE FAMILY! \nEAGLES LODGE parking lot\n4684 Saviers Rd\nOxnard\, CA 93033
URL:https://cvparentguide.com/calendar/villian-takeover-pixie-hollow-trade-fair/
LOCATION:Eagles Lodge\, 4684 Saviers Rd\, Oxnard\, CA
CATEGORIES:Family,North Valley
END:VEVENT
BEGIN:VEVENT
DTSTART;TZID=America/Los_Angeles:20250827T100000
DTEND;TZID=America/Los_Angeles:20250827T110000
DTSTAMP:20260421T134758
CREATED:20250823T153144Z
LAST-MODIFIED:20250823T153144Z
UID:10007492-1756288800-1756292400@cvparentguide.com
SUMMARY:Talk\, Read\, Sing Play Group
DESCRIPTION:Come enjoy some fresh air and outdoor fun with us! \nAll families with children newborn to age 5 are invited to our Talk\, Read\, Sing Playgroup. \nMake new friends and enjoy fun activities!\nFree\, and registration is not required.\nContact us with any questions: 805-869-1317 or NfL@First5Ventura.org
URL:https://cvparentguide.com/calendar/talk-read-sing-play-group/
LOCATION:Nyeland Acres Community Park\, 3334 Santa Clara Avenue\, Oxnard\, CA
CATEGORIES:Infant,New Mom,North Valley,Toddler
END:VEVENT
BEGIN:VEVENT
DTSTART;TZID=America/Los_Angeles:20250827T160000
DTEND;TZID=America/Los_Angeles:20250827T180000
DTSTAMP:20260421T134758
CREATED:20250818T205433Z
LAST-MODIFIED:20250818T205433Z
UID:10007485-1756310400-1756317600@cvparentguide.com
SUMMARY:Pop-up & Play
DESCRIPTION:Join us for an afternoon of connection\, creativity\, and coastal fun with the Blue Crèche village! Our play date is designed to bring families together\, build our community\, and give you a chance to meet our directors\, Katie and Amanda. \n \nWe’ll start with a light\, family activity —then enjoy plenty of open-ended play and conversation. This is a perfect opportunity to: \n\n\nIntroduce yourself to the Blue Crèche team \n\n\nLearn more about our philosophy and vision \n\n\nStay in touch and get updates on our space \n\n\nMeet other families in Ventura \n\n\n \nWho: Families with children ages 0 and 5 years (feel free to bring other siblings too!) \nWhere: Mission Park in downtown Ventura (further location details upon RSVP) \nWhat’s happening: \n\n\nCreative stations: watercolors\, clay\, sand sensory bins\, and beading \n\n\nSpace for kids to explore\, parents to mingle\, and new friendships to grow \n\n\nBONUS: Why come? Because community is where it is at! And you will receive the first scheduled tour of the Creche when our building is complete
URL:https://cvparentguide.com/calendar/pop-up-play/
LOCATION:Mission Park\, 185 E Santa Clara St\, Ventura\, CA
CATEGORIES:Family,Infant,New Mom,North Valley,Toddler
END:VEVENT
BEGIN:VEVENT
DTSTART;TZID=America/Los_Angeles:20250829T093000
DTEND;TZID=America/Los_Angeles:20250829T110000
DTSTAMP:20260421T134758
CREATED:20250823T151539Z
LAST-MODIFIED:20250823T151539Z
UID:10007489-1756459800-1756465200@cvparentguide.com
SUMMARY:Pitter Patter Open House
DESCRIPTION:We’re opening our doors for a FREE Peek & Pastries Open House 🍩💛\nCome explore our classroom\, enjoy breakfast goodies\, and connect with other families in our community. Everyone’s invited — bring your friends too! Please RSVP
URL:https://cvparentguide.com/calendar/pitter-patter-open-house/
LOCATION:Mae Boyar Park\, 130 Kanan Road\, Oak Park\, CA
CATEGORIES:New Mom,North Valley,Toddler
END:VEVENT
BEGIN:VEVENT
DTSTART;TZID=America/Los_Angeles:20250829T183000
DTEND;TZID=America/Los_Angeles:20250829T200000
DTSTAMP:20260421T134758
CREATED:20250823T160627Z
LAST-MODIFIED:20250823T160627Z
UID:10007898-1756492200-1756497600@cvparentguide.com
SUMMARY:Family Paint Night
DESCRIPTION:Join us at the studio this month for Family Paint Night! Paint a masterpiece of your own on wood panel– fun for all ages to do! \nRegister online today! Click the link in our bio to visit arttrek.org/fampaint 🌴 \nFamily Paint Night\nFriday\, August 29th\n6:30-8:00 PM\n$15 PP\nAll ages!\nRegister online at arttrek.org/fampaint
URL:https://cvparentguide.com/calendar/family-paint-night/
LOCATION:Art Trek\, 1144 Tourmaline Dr\, Newbury Park\, CA
CATEGORIES:Big Kid,Central Valley,Family,Toddler,Tween & Teen
END:VEVENT
BEGIN:VEVENT
DTSTART;TZID=America/Los_Angeles:20250830T100000
DTEND;TZID=America/Los_Angeles:20250830T130000
DTSTAMP:20260421T134758
CREATED:20250814T164644Z
LAST-MODIFIED:20250817T155204Z
UID:10002567-1756548000-1756558800@cvparentguide.com
SUMMARY:Cinema Saturdays: The Goonies
DESCRIPTION:Join the Goonies on an unforgettable adventure as they search for hidden treasure and face off against a family of criminals! Filled with laughs\, thrills and friendship\, this classic is a must see.Join the Goonies on an unforgettable adventure as they search for hidden treasure and face off against a family of criminals! Filled with laughs\, thrills and friendship\, this classic is a must see.
URL:https://cvparentguide.com/calendar/cinema-saturdays-the-goonies/
LOCATION:Camarillo Library\, 4101 Las Posas Rd\, Camarillo\, CA
CATEGORIES:Big Kid,Family,North Valley,Tween & Teen
END:VEVENT
BEGIN:VEVENT
DTSTART;TZID=America/Los_Angeles:20250830T120000
DTEND;TZID=America/Los_Angeles:20250830T140000
DTSTAMP:20260421T134758
CREATED:20250813T194501Z
LAST-MODIFIED:20250817T155153Z
UID:10000819-1756555200-1756562400@cvparentguide.com
SUMMARY:The Amazing Dave Show!
DESCRIPTION:Janss Marketplace announces the themes for the 2025 FREE Kids Fun Zone\, held from 12 – 2 p.m. on the last Saturday of each month from May through September. Each month children\, ages 12 and younger\, who are accompanied by an adult\, are invited to enjoy free shows\, crafts\, music and dance at the Kids Fun Zone at Janss Marketplace \n Register for one\, or all Kids Fun Zone events at www.janssmarketplace.com/events.
URL:https://cvparentguide.com/calendar/the-amazing-dave-show/
LOCATION:Janss Marketplace\, 275 North Moorpark Road East\, Thousand Oaks\, CA
CATEGORIES:Big Kid,Central Valley,Toddler
END:VEVENT
BEGIN:VEVENT
DTSTART;TZID=America/Los_Angeles:20250830T170000
DTEND;TZID=America/Los_Angeles:20250830T200000
DTSTAMP:20260421T134758
CREATED:20250824T210053Z
LAST-MODIFIED:20250824T210053Z
UID:10007926-1756573200-1756584000@cvparentguide.com
SUMMARY:PNO: Pokemon Boss Battle
DESCRIPTION:Calling all ninjas and Pokémon trainers!The Shadow Clan has unleashed a wild team of rogue Pokémon to invade the dojo—and it’s time to team up\, power up\, and battle back with epic moves\, teamwork\, and pure ninja skill! \nJoin us for a legendary drop-off night where kids dive into action-packed ninja missions\, Pokémon-themed boss battles\, and end the night with a well-earned pizza party! \nGold Coast Pizza Night | 5 PM – 8 PM | Ages 4+ \nRegister now and let the pizza party begin!
URL:https://cvparentguide.com/calendar/pno-pokemon-boss-battle/
LOCATION:Gold Coast Gymnastics\, 4005 E Main St\, Ventura\, CA
CATEGORIES:Big Kid,North Valley,Toddler,Tween & Teen
END:VEVENT
BEGIN:VEVENT
DTSTART;TZID=America/Los_Angeles:20250831T090000
DTEND;TZID=America/Los_Angeles:20250831T110000
DTSTAMP:20260421T134758
CREATED:20250812T230337Z
LAST-MODIFIED:20250817T155125Z
UID:10000017-1756630800-1756638000@cvparentguide.com
SUMMARY:Rancho Madera Walk
DESCRIPTION:Join Mingle & Stroll at Rancho Madera. \nMeet at Rancho Madera Community Gazebos by the restrooms. Followed by Bakers Daughter
URL:https://cvparentguide.com/calendar/rancho-madera-walk/
LOCATION:Rancho Madera Park\, 556 Lake Park Dr\, Simi Valley\, CA
CATEGORIES:Big Kid,East Valley,Infant,New Mom,Toddler
END:VEVENT
BEGIN:VEVENT
DTSTART;TZID=America/Los_Angeles:20250831T100000
DTEND;TZID=America/Los_Angeles:20250831T160000
DTSTAMP:20260421T134758
CREATED:20250826T171250Z
LAST-MODIFIED:20250826T171250Z
UID:10008006-1756634400-1756656000@cvparentguide.com
SUMMARY:Craft & Food Market ft. Buzz & Woody
DESCRIPTION:
URL:https://cvparentguide.com/calendar/craft-food-market-ft-buzz-woody/
LOCATION:Market\, 1450 S. Oxnard Blvd\, Oxnard\, CA
CATEGORIES:Big Kid,Family,Infant,North Valley,Toddler,Tween & Teen
END:VEVENT
BEGIN:VEVENT
DTSTART;TZID=America/Los_Angeles:20250901T110000
DTEND;TZID=America/Los_Angeles:20250901T140000
DTSTAMP:20260421T134758
CREATED:20250813T201259Z
LAST-MODIFIED:20250817T155113Z
UID:10001591-1756724400-1756735200@cvparentguide.com
SUMMARY:10th Annual Labor Day Tractor Fair
DESCRIPTION:FREE EVENT! \nJoin us for the Agriculture Museum’s 10th Annual Labor Day Tractor Fair on September 1st\, immediately following the Santa Paula Parade. This beloved community event celebrates Santa Paula’s rich agricultural heritage with family-friendly activities\, live music by the Van Allen Twins\, captivating presentations and tours\, and a deep appreciation for our local farming culture. \nThe fair offers a fresh perspective on bridging farming’s past\, present\, and future through engaging exhibits and interactive activities. It aims to unite our community\, promote sustainable farming practices\, and inspire the next generation to explore rewarding careers in agriculture. \nDon’t miss this opportunity to experience the heart of Santa Paula’s agricultural legacy at the Annual Labor Day Tractor Fair. \nThis event is made possible by our sponsors: Topa Topa Flywheelers\, AgWest Farm Credit\, and the UCANR Thelma Hansen Fund.
URL:https://cvparentguide.com/calendar/10th-annual-labor-day-tractor-fair/
LOCATION:Agriculture Museum\, 926 Railroad Ave\, Santa Paula\, CA
CATEGORIES:East Valley,Family
END:VEVENT
BEGIN:VEVENT
DTSTART;TZID=America/Los_Angeles:20250901T140000
DTEND;TZID=America/Los_Angeles:20250901T220000
DTSTAMP:20260421T134758
CREATED:20250826T162955Z
LAST-MODIFIED:20250826T162955Z
UID:10008003-1756735200-1756764000@cvparentguide.com
SUMMARY:Simi Fall Days Carnival
DESCRIPTION:Join us at @svtowncenter this Friday\, August 29 through – September 1\, 2025 for 4 days of thrilling rides\, family fun\, shopping & entertainment!\n✅ Free Admission\n✅ Free Parking\n🎟️ Presale Deal: 10 Rides for $30 (ends Aug 29 @ 4:59pm)\nDon’t miss out – bring your family & friends for an unforgettable weekend! 🍁 \n\nGet tickets now https://www.ticketleap.events/tickets/kastl-amusements/simi-fall-days-carnival-2025 \nVariety of THRILLING CARNIVAL RIDES for ALL Ages. Minimum height requirement 36 inches on many Kiddy Rides to ride alone. SUPER SHOT DROP TOWER\, STARSHIP\, YO YO SWING RIDE\, CLIFFHANGER FUN HOUSE\, TEA CUPS SUPER SLIDE and MANY MORE rides. \nPURCHASE PRESALE CARNIVAL RIDE TICKETS & SAVE $$$$ 10 CARNIVAL RIDES for $30–Sales end August 29 at 4:59pm Presale Tickets purchased only require ONE TICKET PER RIDE. \nONSITE TICKETS purchased during the event: \n****Rides require 4 to 8 Tickets per person when purchased on site***** \nCOME JOIN THE FUN!!! \nHours ⏰ \nAugust 29th 5PM-10PM \nAugust 30th 2PM-10PM \nAugust 31st 2PM-10PM \nSeptember 1st 2PM-10PM \nDon’t miss out – bring your family & friends for an unforgettable weekend! 🍁
URL:https://cvparentguide.com/calendar/simi-fall-days-carnival/2025-09-01/
LOCATION:Simi Valley Town Center\, 1555 Simi Town Center Way\, Simi Valley\, CA
CATEGORIES:Big Kid,East Valley,Family,Toddler,Tween & Teen
END:VEVENT
BEGIN:VEVENT
DTSTART;TZID=America/Los_Angeles:20250904T110000
DTEND;TZID=America/Los_Angeles:20250904T120000
DTSTAMP:20260421T134758
CREATED:20250812T222107Z
LAST-MODIFIED:20250817T154958Z
UID:10000010-1756983600-1756987200@cvparentguide.com
SUMMARY:Little Oaks Kids Club
DESCRIPTION:Where imagination grows and little ones thrive. \nWelcome to the newly reimagined Little Oaks Kids Club—a monthly series of engaging\, family-friendly events designed for toddlers and young children. From themed crafts and music to magical storytimes\, each event brings joy\, creativity\, and connection to your little ones—all for free. \nLittle Oaks Live! ft. The BeatBuds \nThursday\, September 4 at 11AM – 12PM \nGet ready to sing\, dance\, and rock out with The BeatBuds at Little Oaks Live!\, a fun-filled\, high-energy music experience perfect for toddlers and young children. \nEnjoy interactive songs\, movement\, and memory-making fun — all for free! \n📍Level 1 near near Hallmark and Macy’s Women’s and Kids \n🎟️ Free to attend — RSVP here
URL:https://cvparentguide.com/calendar/little-oaks-kids-club-2/
LOCATION:Oaks Mall\, 394 W Hillcrest Dr\, Thousand Oaks\, CA
CATEGORIES:Central Valley,Toddler
END:VEVENT
BEGIN:VEVENT
DTSTART;TZID=America/Los_Angeles:20250904T110000
DTEND;TZID=America/Los_Angeles:20250904T140000
DTSTAMP:20260421T134758
CREATED:20250830T011345Z
LAST-MODIFIED:20250830T013110Z
UID:10008081-1756983600-1756994400@cvparentguide.com
SUMMARY:Beach\, Babies & Bagels Play Date
DESCRIPTION:Join us for our very first meetup— Beach\, babies\, & bagels!! 🌊⛱️🥯🐚🫶🏼 \nGluten free + reg bagels will be available!! Coffee & other wellness bevys will be provided for the mamas too 😇🙃🫶🏼 \nLocation will be posted on our WhatsApp! 📲\nI know having ANOTHER group chat app can be annoying (sry) but doing it this way to keep it safe & secure for everyone who decides to come 🙏🏼🫶🏼 \nBring your sand toys\, surfboards\, boogie boards\, wetsuits\, and sunscreen!!! 🧴🌞😎 \nThe weather is supposed to be fab! Hope to see you all there!!! \nPlease message Coastal Mamas Collective on Ig to  be added to their private WhatsApp chat where all of the playgroup meetup info & locations will be posted 📍
URL:https://cvparentguide.com/calendar/beach-babies-bagels/
LOCATION:CA
CATEGORIES:Big Kid,Infant,North Valley,Toddler
END:VEVENT
BEGIN:VEVENT
DTSTART;TZID=America/Los_Angeles:20250905T170000
DTEND;TZID=America/Los_Angeles:20250905T200000
DTSTAMP:20260421T134758
CREATED:20250826T163810Z
LAST-MODIFIED:20250826T163810Z
UID:10008004-1757091600-1757102400@cvparentguide.com
SUMMARY:KPOP DEMON HUNTERS MOVIE NIGHT
DESCRIPTION:oin us for an epic night of fun\, food and Kpop magic:\n\n\n Make glow-in-the-dark Huntrix slime\n make&play (crafting + 3D printing + games)\n Pizza\, snacks & drinks included\n Watch Kpop Demon Hunters on the big screen while lounging on inflatable beds\n BYOB – Bring Your Own Blanket to get comfy!\n\n\n $55/maker\n Drop-offs OK for ages 5+\n We need at least 5 makers to make this event happen so tell your friends!\n\n\nSpots are limited! Don’t miss out on this ultra-glow movie night!\n\n\nSign up here: https://www.signupgenius.com/…/10C0E4BADAC2CA0FFC43…
URL:https://cvparentguide.com/calendar/kpop-demon-hunters-movie-night/
LOCATION:Maker Studio\, 1555 Simi Town Center Way Unit 660\, Simi Valley\, CA
CATEGORIES:Big Kid,East Valley,Tween & Teen
END:VEVENT
BEGIN:VEVENT
DTSTART;TZID=America/Los_Angeles:20250905T180000
DTEND;TZID=America/Los_Angeles:20250905T200000
DTSTAMP:20260421T134758
CREATED:20250823T161401Z
LAST-MODIFIED:20250823T161401Z
UID:10007901-1757095200-1757102400@cvparentguide.com
SUMMARY:Autumn Paint & Sip
DESCRIPTION:Paint Night is Back! 🎨 🍂\nFriday September 5th at LuckyDogCoffee\n6-8pm\n$40/painter\nAll ages welcome! \n🥐 ☕️ 🍷\nfood and drinks available for purchase
URL:https://cvparentguide.com/calendar/autumn-paint-sip/
LOCATION:Lucky Dog Cafe\, 2139 Tapo St #113\, Simi Valley\, CA
CATEGORIES:Big Kid,East Valley,Family,Tween & Teen
END:VEVENT
BEGIN:VEVENT
DTSTART;TZID=America/Los_Angeles:20250906T100000
DTEND;TZID=America/Los_Angeles:20250906T120000
DTSTAMP:20260421T134758
CREATED:20250905T163809Z
LAST-MODIFIED:20250905T163809Z
UID:10008410-1757152800-1757160000@cvparentguide.com
SUMMARY:Cappuccinos\, Crafts & Care
DESCRIPTION:Cappuccinos\, Crafts & Care — A Complimentary Family Wellness Break ☕️🎨💙\nConejo 101 and the Wellness in Motion series kick-off— come sip\, connect\, and explore quick family-friendly wellness! \n– 10 AM – Arrivals & Cappuccinos – visit with our wellness experts\n– 10:30 AM Ask-the-Doctor talk: Protecting Growing Spines (Dr. David Diehl)\n– Complimentary Posture checks for kids + complimentary computerized nerve scans for adults\n– Kids’ craft station + coffee & connections lounge \n🎁 Conejo 101 Signature Giveaway – First 35 kids get FREE Kids Meal Vouchers (Fresh Brothers + Wood Ranch).\n🎉 Dress-up bonus: sports/princess/hero outfits earn a Pizookie award from BJ’s!\n✅ Complimentary Family RSVP required. Arrive 10:00–10:30 a.m. for giveaways.\n📍 Hosted at Dr. David Diehl’s office (open-house style)\n👉 RSVP
URL:https://cvparentguide.com/calendar/cappuccinos-crafts-care/
LOCATION:Maximized Life Chiropractic\, 280 North Westlake Boulevard #100\, Westlake Village\, CA
CATEGORIES:Big Kid,Central Valley,Family,Infant,New Mom,Toddler,Tween & Teen
END:VEVENT
BEGIN:VEVENT
DTSTART;TZID=America/Los_Angeles:20250906T100000
DTEND;TZID=America/Los_Angeles:20250906T130000
DTSTAMP:20260421T134758
CREATED:20250815T205055Z
LAST-MODIFIED:20250817T154925Z
UID:10003969-1757152800-1757163600@cvparentguide.com
SUMMARY:Day at The Park (ASD)
DESCRIPTION:Let’s gather for a “Day at the Park” and create unforgettable memories with our ASD Community in Ventura County! Autism Society Ventura County invites ASD families to “Day at the Park” to celebrate on Saturday\, Sept. 6th (10 AM – 1 PM) at the Old Meadows Park in Thousand Oaks! There will be Fun Sensory Activities\, Adaptive Golf by Recovery Shot Healing through Golf\, Giant Bubbles\, Bouncy Obstacle Course\, STEM Activities\, AMR Ambulance “Touch A Truck”\, ASVC Resource booth and more! Grab your favorite snacks\, lunch\, blankets & picnic chairs and join us for a fun-filled Adventure at the Park! \nRegistration Link
URL:https://cvparentguide.com/calendar/day-at-the-park-asd/
LOCATION:Old Meadows Park\, 1600 Marview Dr\, Thousand Oaks\, CA
CATEGORIES:Big Kid,Central Valley,Toddler
END:VEVENT
BEGIN:VEVENT
DTSTART;TZID=America/Los_Angeles:20250906T100000
DTEND;TZID=America/Los_Angeles:20250906T160000
DTSTAMP:20260421T134758
CREATED:20250826T173913Z
LAST-MODIFIED:20250826T173913Z
UID:10008008-1757152800-1757174400@cvparentguide.com
SUMMARY:Art Walk
DESCRIPTION:This event is by the people for the people of Oxnard!\n.\nOxnard is overflowing with talent- let’s show it off!\n.\n❤️Saturday September 6th 10:00 am to 4:00 pm\n.\nLet’s turn the streets into a gallery\, and show the talent of 805.
URL:https://cvparentguide.com/calendar/art-walk/
LOCATION:Downtown Oxnard\, 519 South C Street\, Oxnard\, CA
CATEGORIES:Big Kid,Family,Infant,New Mom,North Valley,Toddler,Tween & Teen
END:VEVENT
BEGIN:VEVENT
DTSTART;TZID=America/Los_Angeles:20250906T100000
DTEND;TZID=America/Los_Angeles:20250906T170000
DTSTAMP:20260421T134758
CREATED:20250823T154310Z
LAST-MODIFIED:20250823T154310Z
UID:10007493-1757152800-1757178000@cvparentguide.com
SUMMARY:FREE kids' water bottle at Lowe's
DESCRIPTION:Lowe’s is giving away a FREE kids’ water bottle and stickers on Sept. 6!\n\n\nTo claim your freebie:\n\n\n1) Become a Lowe’s rewards member — the rewards program is completely free to join.\n\n\n2)Head to Lowe’s on Sept. 6 right at 10 a.m. to be among the first 250 members at the store.\n\n\n3) Scan your member ID to claim the water bottle and stickers.\n\n\nItems are available while supplies last. https://zdcs.link/z3G8pq
URL:https://cvparentguide.com/calendar/free-kids-water-bottle-at-lowes/
LOCATION:Oxnard Lowe’s\, 301 W Gonzales Rd\, Oxnard\, CA
CATEGORIES:Big Kid,Central Valley,East Valley,Family,North Valley
END:VEVENT
BEGIN:VEVENT
DTSTART;TZID=America/Los_Angeles:20250906T110000
DTEND;TZID=America/Los_Angeles:20250906T130000
DTSTAMP:20260421T134758
CREATED:20250905T172828Z
LAST-MODIFIED:20250905T172828Z
UID:10008414-1757156400-1757163600@cvparentguide.com
SUMMARY:Community Rock Painting
DESCRIPTION:Hey Ventura friends! We’d love for you to join us this Saturday for a fun and colorful Community Rock Painting event benefiting The Lemon Blossom Library!\nAll you need to bring is one rock — we’ll provide the paint\, brushes\, and all the supplies to help you make something beautiful. 🪨💛\nThis is a family friendly event\, open to everyone\, and it’s the perfect way to spend a little time together while supporting a local project that celebrates books\, creativity\, and community. 🌼📚 \n👉 Please RSVP if you can (it helps us have enough supplies ready!)\n📞 805-533-8786\n📧 Contact@childhoodmatter.org
URL:https://cvparentguide.com/calendar/community-rock-painting/
LOCATION:Childhood Matters Wellness Center\, 2982 Martha Dr\, Ventura\, CA
CATEGORIES:Big Kid,Family,North Valley,Toddler,Tween & Teen
END:VEVENT
BEGIN:VEVENT
DTSTART;TZID=America/Los_Angeles:20250906T110000
DTEND;TZID=America/Los_Angeles:20250906T150000
DTSTAMP:20260421T134758
CREATED:20250905T163433Z
LAST-MODIFIED:20250905T163433Z
UID:10008409-1757156400-1757170800@cvparentguide.com
SUMMARY:Fall Vibes Market
DESCRIPTION:🛍️ 40+ vendors\n🖌Free Kids crafts by @leesactivityworkshop\n🤡 Face Paint by @natties_magibrush\n🎨 Live texture painting by @texture_bytay\n📸 Photo backdrop\n🎥 Photobooth by @vcnextlevelphotobooth\n🎈Animal balloons by @aramaniaballoonartist\n👑 Charm bar by @shopjardinla & @coastalcharmgirls\n🫟Slime Bar by @las2besties.shop\n💫 Laser engraving by @angelsandanchors_1\n💎 Permanent jewelry\n🐶 Pet Station by @lovelypawlane\n🩷 Labubu accessories \, 3D and clothes\n💅 Nail bar by @sg_nailsbyari\n🧲 Magnet Bar by @ourpurpleprints\n🎁 Amazing prices\n🎶 DJ\nAND MORE !!!
URL:https://cvparentguide.com/calendar/fall-vibes-market-2/
LOCATION:The Collection\, 2751 Park View Court\, Oxnard\, CA
CATEGORIES:Big Kid,Family,North Valley,Toddler,Tween & Teen
END:VEVENT
BEGIN:VEVENT
DTSTART;TZID=America/Los_Angeles:20250906T110000
DTEND;TZID=America/Los_Angeles:20250906T150000
DTSTAMP:20260421T134758
CREATED:20250816T162439Z
LAST-MODIFIED:20250817T154918Z
UID:10005392-1757156400-1757170800@cvparentguide.com
SUMMARY:Fall Vibes Market
DESCRIPTION:Join us for our Fall Vibes Market!\n\n\nCelebrate the season with a cozy gathering of local makers\, handcrafted goods\, and creative energy. From unique finds to artisanal treats\, it’s the perfect place to shop small and support local. \nGrab your crew\, enjoy the crisp-weather vibes\, and explore an inspiring mix of one-of-a-kind creations. Mark your calendar—Fall festivities start here!
URL:https://cvparentguide.com/calendar/fall-vibes-market/
LOCATION:The Collection\, 2751 Park View Court\, Oxnard\, CA
CATEGORIES:Family,North Valley
END:VEVENT
BEGIN:VEVENT
DTSTART;TZID=America/Los_Angeles:20250906T170000
DTEND;TZID=America/Los_Angeles:20250906T200000
DTSTAMP:20260421T134758
CREATED:20250813T193608Z
LAST-MODIFIED:20250817T154903Z
UID:10000450-1757178000-1757188800@cvparentguide.com
SUMMARY:Owl Release Front Lawn at the Stagecoach Inn
DESCRIPTION:Join us as we\, once again\, release a previously injured owl back into nature. Presented by the Ojai Raptor Wildlife Rehabilitation & Education Center. It’s truly a beautiful experience.
URL:https://cvparentguide.com/calendar/owl-release-front-lawn-at-the-stagecoach-inn/
LOCATION:Stagecoach Inn\, 51 S. Ventu Park Rd.\, Newbury Park\, CA
CATEGORIES:Central Valley,Family
END:VEVENT
BEGIN:VEVENT
DTSTART;TZID=America/Los_Angeles:20250906T183000
DTEND;TZID=America/Los_Angeles:20250906T210000
DTSTAMP:20260421T134758
CREATED:20250813T200218Z
LAST-MODIFIED:20250817T154853Z
UID:10001588-1757183400-1757192400@cvparentguide.com
SUMMARY:Seaside Movie Night: Jaws
DESCRIPTION:Starting after sunset at Ventura Harbor Village Main Lawn. Plan to arrive early to enjoy live DJ or bands\, and grab dinner and dessert at one of the Village’s seaside restaurants. Movie-goers are encouraged to bring blankets and lawn chairs. \nAll events are pending weather conditions.
URL:https://cvparentguide.com/calendar/seaside-movie-night-jaws/
LOCATION:Ventura Harbor Village\, 1583 Spinnaker Dr.\, Ventura\, CA
CATEGORIES:Family,North Valley,Tween & Teen
END:VEVENT
BEGIN:VEVENT
DTSTART;TZID=America/Los_Angeles:20250907T090000
DTEND;TZID=America/Los_Angeles:20250907T110000
DTSTAMP:20260421T134758
CREATED:20250905T174902Z
LAST-MODIFIED:20250905T174902Z
UID:10008415-1757235600-1757242800@cvparentguide.com
SUMMARY:Mom Walk
DESCRIPTION:Followed by coffee at Five07
URL:https://cvparentguide.com/calendar/mom-walk/
LOCATION:Conejo Creek North\, 1379 E Janss Rd\, Thousand Oaks\, CA
CATEGORIES:Family,Infant,New Mom,Toddler
END:VEVENT
BEGIN:VEVENT
DTSTART;TZID=America/Los_Angeles:20250907T110000
DTEND;TZID=America/Los_Angeles:20250907T120000
DTSTAMP:20260421T134758
CREATED:20250812T224353Z
LAST-MODIFIED:20250817T154844Z
UID:10000013-1757242800-1757246400@cvparentguide.com
SUMMARY:Cool Kids Love Music
DESCRIPTION:
URL:https://cvparentguide.com/calendar/cool-kids-love-music/
LOCATION:Strey Cellars\, 951 Rice Ave\, Oxnard\, CA
CATEGORIES:Big Kid,North Valley,Toddler
END:VEVENT
BEGIN:VEVENT
DTSTART;TZID=America/Los_Angeles:20250907T120000
DTEND;TZID=America/Los_Angeles:20250907T150000
DTSTAMP:20260421T134758
CREATED:20250825T021247Z
LAST-MODIFIED:20250825T021247Z
UID:10007935-1757246400-1757257200@cvparentguide.com
SUMMARY:Free Family Day: Indigenous Arts and Culture
DESCRIPTION:Join us for Free Family Day inside SPAM’s Cole Creativity Center on Our September event invites families to explore the rich traditions\, stories\, and artistic expressions of Indigenous cultures through hands-on art activities designed for all ages. Guests will learn about Indigenous materials\, symbols\, and techniques while creating their own inspired artworks. Admission is free\, all are welcome\, and all materials are provided. \nAt 1 PM\, Tonetta Lone Elk\, a Northern Cheyenne Native American and Ventura County educator\, will lead a book reading and hands-on activity that explores pictographs and the visual storytelling traditions of her ancestors.
URL:https://cvparentguide.com/calendar/free-family-day-indigenous-arts-and-culture/
LOCATION:Santa Paula Art Museum\, 117 N 10th St\, Santa Paula\, CA
CATEGORIES:Big Kid,East Valley,Family,Toddler,Tween & Teen
END:VEVENT
BEGIN:VEVENT
DTSTART;TZID=America/Los_Angeles:20250907T150000
DTEND;TZID=America/Los_Angeles:20250907T220000
DTSTAMP:20260421T134758
CREATED:20250813T202435Z
LAST-MODIFIED:20250817T154951Z
UID:10001595-1757257200-1757282400@cvparentguide.com
SUMMARY:805 Night Market
DESCRIPTION:Experience the 805 Night Market\, where vibrant flavors\, unique shopping\, and live entertainment come together for an unforgettable night. Explore international cuisine\, handcrafted goods\, and a lively atmosphere filled with culture and community.
URL:https://cvparentguide.com/calendar/805-night-market/2025-09-07/
LOCATION:Oaks Mall\, 394 W Hillcrest Dr\, Thousand Oaks\, CA
CATEGORIES:Central Valley,Family
END:VEVENT
END:VCALENDAR