BEGIN:VCALENDAR
VERSION:2.0
PRODID:-//Conejo Valley Parent Guide - ECPv6.15.20//NONSGML v1.0//EN
CALSCALE:GREGORIAN
METHOD:PUBLISH
X-ORIGINAL-URL:https://cvparentguide.com
X-WR-CALDESC:Events for Conejo Valley Parent Guide
REFRESH-INTERVAL;VALUE=DURATION:PT1H
X-Robots-Tag:noindex
X-PUBLISHED-TTL:PT1H
BEGIN:VTIMEZONE
TZID:America/Los_Angeles
BEGIN:DAYLIGHT
TZOFFSETFROM:-0800
TZOFFSETTO:-0700
TZNAME:PDT
DTSTART:20250309T100000
END:DAYLIGHT
BEGIN:STANDARD
TZOFFSETFROM:-0700
TZOFFSETTO:-0800
TZNAME:PST
DTSTART:20251102T090000
END:STANDARD
BEGIN:DAYLIGHT
TZOFFSETFROM:-0800
TZOFFSETTO:-0700
TZNAME:PDT
DTSTART:20260308T100000
END:DAYLIGHT
BEGIN:STANDARD
TZOFFSETFROM:-0700
TZOFFSETTO:-0800
TZNAME:PST
DTSTART:20261101T090000
END:STANDARD
BEGIN:DAYLIGHT
TZOFFSETFROM:-0800
TZOFFSETTO:-0700
TZNAME:PDT
DTSTART:20270314T100000
END:DAYLIGHT
BEGIN:STANDARD
TZOFFSETFROM:-0700
TZOFFSETTO:-0800
TZNAME:PST
DTSTART:20271107T090000
END:STANDARD
END:VTIMEZONE
BEGIN:VEVENT
DTSTART;TZID=America/Los_Angeles:20260424T080000
DTEND;TZID=America/Los_Angeles:20260424T170000
DTSTAMP:20260424T045512
CREATED:20251001T221034Z
LAST-MODIFIED:20251001T221034Z
UID:10009589-1777017600-1777050000@cvparentguide.com
SUMMARY:Floating Pumpkin Patch
DESCRIPTION:Our pool has turned into a Floating Pumpkin Patch! From Oct. 1 – Oct. 24\, join us for our Annual Fundraiser benefiting Stop Drowning Now. 🧡 Every pumpkin purchased helps support water safety education and the mission to eliminate drowning. 🌊✨
URL:https://cvparentguide.com/calendar/floating-pumpkin-patch/2026-04-24/
LOCATION:Daland Swim School\, 135 East Wilbur Road\, Thousand Oaks\, CA
CATEGORIES:Big Kid,Central Valley,Family,Infant,Toddler,Tween & Teen
END:VEVENT
BEGIN:VEVENT
DTSTART;TZID=America/Los_Angeles:20260424T180000
DTEND;TZID=America/Los_Angeles:20260424T210000
DTSTAMP:20260424T045512
CREATED:20251005T193651Z
LAST-MODIFIED:20251005T193651Z
UID:10010436-1777053600-1777064400@cvparentguide.com
SUMMARY:Halloween Boo-tacular
DESCRIPTION:Boo-tacular is back and the party lasts all October at Chuck E. Cheese Thousand Oaks! Enjoy safe nightly trick-or-treating with Airheads® candy\, spooky shows\, tasty seasonal treats\, and prizes you won’t find anywhere else. Put on your costume\, grab the family\, and join the ultimate Halloween celebration. Kids in costume get 500 free tickets all month. Plus\, buy 60 points and get 30 points free with our Halloween coupon. Celebrate Halloween all month long at Chuck E. Cheese  with nightly trick-or-treating with Airheads® candy in a safe\, family-friendly environment during DJ Munch’s Haunted House Party. Every hour from 6 pm to close at\, DJ Munch’s Haunted House Party in Thousand Oaks takes over with spooky music\, dancing and surprises. \nAt Halloween Boo-tacular™\, sink your fangs into our fan-favorite Pumpkin-shaped Pepperoni Pizza\, Slime Cookie and Dippin’ Dots Eye Scream® dessert\, through October 31st.
URL:https://cvparentguide.com/calendar/halloween-boo-tacular/2026-04-24/
LOCATION:Chuck E. Cheese TO\, 130 W. Hillcrest Dr.\, Thousand Oaks\, CA
CATEGORIES:Big Kid,Central Valley,Family,Infant,New Mom,North Valley,Toddler
END:VEVENT
BEGIN:VEVENT
DTSTART;TZID=America/Los_Angeles:20260425T120000
DTEND;TZID=America/Los_Angeles:20260425T130000
DTSTAMP:20260424T045512
CREATED:20250815T221156Z
LAST-MODIFIED:20250815T221156Z
UID:10004860-1777118400-1777122000@cvparentguide.com
SUMMARY:Story Time at The Open Book
DESCRIPTION:Join us every Saturday at noon for a special storytime for your little ones! Coloring pages provided.
URL:https://cvparentguide.com/calendar/story-time-at-the-open-book/2026-04-25/
LOCATION:Oaks Mall\, 394 W Hillcrest Dr\, Thousand Oaks\, CA
CATEGORIES:Central Valley
END:VEVENT
BEGIN:VEVENT
DTSTART;TZID=America/Los_Angeles:20260425T150000
DTEND;TZID=America/Los_Angeles:20260425T170000
DTSTAMP:20260424T045512
CREATED:20250827T174541Z
LAST-MODIFIED:20250827T174541Z
UID:10008079-1777129200-1777136400@cvparentguide.com
SUMMARY:Dinosaur World Live!
DESCRIPTION:Grab your compass and join our intrepid explorer across uncharted territories to discover a pre-historic world of astonishing (and remarkably life-like) dinosaurs. Meet a host of impressive creatures\, including every child’s favorite flesh-eating giant\, the Tyrannosaurus Rex\, a Triceratops\, Giraffatitan\, Microraptor and Segnosaurus!
URL:https://cvparentguide.com/calendar/dinosaur-world-live/
LOCATION:Fred Kavli Theatre\, 2100 E. Thousand Oaks Boulevard\, Thousand Oaks\, CA\, United States
CATEGORIES:Big Kid,Central Valley,Family,Toddler
END:VEVENT
BEGIN:VEVENT
DTSTART;TZID=America/Los_Angeles:20260426T100000
DTEND;TZID=America/Los_Angeles:20260426T140000
DTSTAMP:20260424T045512
CREATED:20250816T170235Z
LAST-MODIFIED:20250816T170235Z
UID:10006473-1777197600-1777212000@cvparentguide.com
SUMMARY:Westlake Village Farmer's Market
DESCRIPTION:Located in plaża parking lot\, free parking in lot. \n\nInstagram: @thewestlakevillagefm
URL:https://cvparentguide.com/calendar/westlake-village-farmers-market/2026-04-26/
LOCATION:Joi Cafe\, 2797 Agoura Rd\, Westlake Village\, CA
CATEGORIES:Central Valley
END:VEVENT
BEGIN:VEVENT
DTSTART;TZID=America/Los_Angeles:20260428T101500
DTEND;TZID=America/Los_Angeles:20260428T104500
DTSTAMP:20260424T045512
CREATED:20250813T214602Z
LAST-MODIFIED:20250817T154626Z
UID:10002260-1777371300-1777373100@cvparentguide.com
SUMMARY:Baby Story Time
DESCRIPTION:Baby Storytime In-Person\n\n  \nJoin us at the Grant R. Brimhall Library for 20 minutes of storytelling fun! This is a lapsit storytime for babies 0-12 months. Walk-ins welcome! \nStorytime Guidelines \n\nPlease follow the suggested ages listed for each program.\nWe make every attempt to begin on time. As it can be distracting to participants\, please arrive on time for programs. Doors may be closed and admittance to programs may not be possible after the program is underway (or has started).\nChanging tables are available and located in the public restrooms.\nSnacks should be eaten outside of the storytime room.\nOur number one rule is to have fun\, so if your child is having a bad day (or a bad moment) please step outside the storytime area so that everyone can continue having fun. You may come back into the room when your child is ready.\n\nAll programs are subject to change or cancellation without prior notice.
URL:https://cvparentguide.com/calendar/baby-story-time/2026-04-28/
LOCATION:Brimhall Library\, 1401 E. Janss Road\, Thousand Oaks\, CA\, United States
CATEGORIES:Central Valley,Infant
END:VEVENT
BEGIN:VEVENT
DTSTART;TZID=America/Los_Angeles:20260428T110000
DTEND;TZID=America/Los_Angeles:20260428T120000
DTSTAMP:20260424T045512
CREATED:20250813T212920Z
LAST-MODIFIED:20250907T173807Z
UID:10008462-1777374000-1777377600@cvparentguide.com
SUMMARY:Conversations with Mom
DESCRIPTION:For mothers with babies 0-6 months old. \nThis free\, ongoing group is an opportunity for moms and their newborns to get together in a relaxed environment to express the joys and concerns of being a new mother. This support group covers a variety of topics\, offering the opportunity to meet new moms in the community\, and provides a place to ask questions and get information.  Meets in Marvin E. Smith Community Room
URL:https://cvparentguide.com/calendar/conversations-with-mom/2026-04-28/
LOCATION:Brimhall Library\, 1401 E. Janss Road\, Thousand Oaks\, CA\, United States
CATEGORIES:Central Valley
END:VEVENT
BEGIN:VEVENT
DTSTART;TZID=America/Los_Angeles:20260429T100000
DTEND;TZID=America/Los_Angeles:20260429T110000
DTSTAMP:20260424T045512
CREATED:20251005T191304Z
LAST-MODIFIED:20251005T191304Z
UID:10010201-1777456800-1777460400@cvparentguide.com
SUMMARY:Kids Club @ The Lakes
DESCRIPTION:Every Wednesday on The Lawn. \nKids\, parents and caregivers are invited to experience a weekly dose of fun\, featuring live music\, storytelling\, puppet shows and so much more! \n\n\n\n\n10/8: Party Pal Puppets: Puppet Playtime\n\n\n10/22: Baila Baila\n\n\n10/29: Halloween Marionette Puppet Show with Franklin Haynes
URL:https://cvparentguide.com/calendar/kids-club-the-lakes/2026-04-29/
LOCATION:The Lakes at Thousand Oaks\, 2200 E. Thousand Oaks Blvd\, Thousand Oaks\, United States
CATEGORIES:Central Valley,Family,Infant,New Mom,Toddler
END:VEVENT
BEGIN:VEVENT
DTSTART;TZID=America/Los_Angeles:20260429T110000
DTEND;TZID=America/Los_Angeles:20260429T120000
DTSTAMP:20260424T045512
CREATED:20250815T210903Z
LAST-MODIFIED:20250815T210903Z
UID:10004009-1777460400-1777464000@cvparentguide.com
SUMMARY:Wednesday Morning Storytime
DESCRIPTION:Join us every Wednesday at 11am for a storytime adventure!
URL:https://cvparentguide.com/calendar/wednesday-morning-storytime/2026-04-29/
LOCATION:TO Barnes & Noble\, 160 S. Westlake Blvd Ste M\, Thousand Oaks\, CA\, United States
CATEGORIES:Central Valley
END:VEVENT
BEGIN:VEVENT
DTSTART;TZID=America/Los_Angeles:20260430T110000
DTEND;TZID=America/Los_Angeles:20260430T160000
DTSTAMP:20260424T045512
CREATED:20250816T165638Z
LAST-MODIFIED:20250816T165638Z
UID:10006212-1777546800-1777564800@cvparentguide.com
SUMMARY:Thousand Oaks Farmer's Market
DESCRIPTION:Since 1991\, Conejo Valley residents wanting the freshest in California produce have been shopping at our Thousand Oaks location. It’s a great place for the whole family to discover new tastes! Enjoy a wonderful outdoor shopping experience with California farmers bringing you the freshest\, vine and tree ripened fruits and vegetables. Other California agricultural items include fresh meat products\, herbs\, honey\, eggs\, whole and shelled nuts\, fruit juices\, jams\, jellies\, cut flowers\, potted plants\, and wine.
URL:https://cvparentguide.com/calendar/thousand-oaks-farmers-market/2026-04-30/
LOCATION:Oaks Mall\, 394 W Hillcrest Dr\, Thousand Oaks\, CA
CATEGORIES:Central Valley
END:VEVENT
BEGIN:VEVENT
DTSTART;TZID=America/Los_Angeles:20260502T070000
DTEND;TZID=America/Los_Angeles:20260502T100000
DTSTAMP:20260424T045512
CREATED:20250816T155603Z
LAST-MODIFIED:20250818T212549Z
UID:10005217-1777705200-1777716000@cvparentguide.com
SUMMARY:Cars & Coffee
DESCRIPTION:
URL:https://cvparentguide.com/calendar/cars-coffee-2/2026-05-02/
LOCATION:Oaks Mall\, 394 W Hillcrest Dr\, Thousand Oaks\, CA
CATEGORIES:Central Valley,Family
END:VEVENT
BEGIN:VEVENT
DTSTART;TZID=America/Los_Angeles:20260502T090000
DTEND;TZID=America/Los_Angeles:20260502T113000
DTSTAMP:20260424T045512
CREATED:20250815T215630Z
LAST-MODIFIED:20250817T154934Z
UID:10004771-1777712400-1777721400@cvparentguide.com
SUMMARY:Home Depot Kids Workshop
DESCRIPTION:The Home Depot Kids Workshops is a free hands-on learning experience that encourages skill-building and creativity in children ages 5-12. Skills such as following step-by-step instructions\, working with hand tools like hammers and screwdrivers\, and painting. The Workshops are hosted by store associates who also serve as Workshop Captains. Children should be accompanied by a parent or guardian to assist them with completing the workshop kit. The time for completing the kits varies but usually takes 30 minutes. Each child can bring home a newly constructed project\, a Kids Workshops apron\, an achievement pin\, and a certificate. These Workshops are held on the first Saturday of each month\, starting at 9am\, while supplies last\, in all stores nationwide. The Home Depot Kids Workshops schedule is available here. Be sure to register to secure your spot. \n\n\nEvery Kids Workshops kit comes with a related STEAM activity to continue learning and playing with your workshop creation in an unexpected new way. Completing these extension activities with your child can help spark their imagination and develop core problem-solving skills. Each extension activity also calls out a related Pro Trades career. Check out Science Fair Central to keep making\, creating and exploring after the workshop. \n 
URL:https://cvparentguide.com/calendar/home-depot-kids-workshop/2026-05-02/
LOCATION:TO Home Depot\, 2745 Teller Rd\, Thousand Oaks\, CA
CATEGORIES:Big Kid,Central Valley,East Valley,North Valley,Toddler
END:VEVENT
BEGIN:VEVENT
DTSTART;TZID=America/Los_Angeles:20260503T110000
DTEND;TZID=America/Los_Angeles:20260503T210000
DTSTAMP:20260424T045512
CREATED:20250909T210514Z
LAST-MODIFIED:20250909T210609Z
UID:10008781-1777806000-1777842000@cvparentguide.com
SUMMARY:Sensory Sensitive Sundays @ Chuck E. Cheese
DESCRIPTION:Every child deserves a chance to have fun\nAt Chuck E. Cheese Thousand Oaks\, Sensory Sensitive Sundays are special hours designed to provide children with sensory sensitivities and their families a quieter\, more comfortable experience. With dimmed lighting\, reduced noise levels\, and a calm atmosphere\, we’ve made it easier for everyone to enjoy our games\, food\, and activities in a setting that feels just right. \nGame room\nDuring Sensory Sensitive Sundays at Chuck E. Cheese Thousand Oaks\, our game room transforms into a quieter\, more soothing space where children with sensory sensitivities can enjoy all their favorite games without the overwhelming sights and sounds
URL:https://cvparentguide.com/calendar/sensory-sensitive-sundays-chuck-e-cheese/2026-05-03/
LOCATION:Chuck E. Cheese TO\, 130 W. Hillcrest Dr.\, Thousand Oaks\, CA
CATEGORIES:Big Kid,Central Valley,Family,North Valley,Toddler,Tween & Teen
END:VEVENT
BEGIN:VEVENT
DTSTART;TZID=America/Los_Angeles:20260509T080000
DTEND;TZID=America/Los_Angeles:20260509T100000
DTSTAMP:20260424T045512
CREATED:20250816T155955Z
LAST-MODIFIED:20250818T212634Z
UID:10005277-1778313600-1778320800@cvparentguide.com
SUMMARY:County Line Cars & Coffee
DESCRIPTION:A monthly Auto event on 2nd Saturdays from 8am-10am.
URL:https://cvparentguide.com/calendar/county-line-cars-coffee/2026-05-09/
LOCATION:The Promenade\, 140 Promenade Way\, Westlake Village\, CA
CATEGORIES:Central Valley,Family
END:VEVENT
BEGIN:VEVENT
DTSTART;TZID=America/Los_Angeles:20260512T110000
DTEND;TZID=America/Los_Angeles:20260512T160000
DTSTAMP:20260424T045512
CREATED:20250909T211007Z
LAST-MODIFIED:20250909T211007Z
UID:10008797-1778583600-1778601600@cvparentguide.com
SUMMARY:Homeschool Play Days @ Chuck E. Cheese
DESCRIPTION:On the 2nd Tuesday of every month\, join us for Homeschool Play Days! From open – 4pm\, score 90-minutes of All You Can Play games\, a reusable Play Pass card\, unlimited soft drinks\, and all the E-Tickets you can earn on gameplay for just $11.99 per kid. A savings of up to $30 off! \nSimply arrive at your Fun Center and tell a cast member you’re there for Homeschool Play Day to receive this offer.
URL:https://cvparentguide.com/calendar/homeschool-play-days-chuck-e-cheese/2026-05-12/
LOCATION:Chuck E. Cheese TO\, 130 W. Hillcrest Dr.\, Thousand Oaks\, CA
CATEGORIES:Big Kid,Central Valley,Family,North Valley,Tween & Teen
END:VEVENT
END:VCALENDAR