BEGIN:VCALENDAR
VERSION:2.0
PRODID:-//Conejo Valley Parent Guide - ECPv6.15.20//NONSGML v1.0//EN
CALSCALE:GREGORIAN
METHOD:PUBLISH
X-ORIGINAL-URL:https://cvparentguide.com
X-WR-CALDESC:Events for Conejo Valley Parent Guide
REFRESH-INTERVAL;VALUE=DURATION:PT1H
X-Robots-Tag:noindex
X-PUBLISHED-TTL:PT1H
BEGIN:VTIMEZONE
TZID:America/Los_Angeles
BEGIN:DAYLIGHT
TZOFFSETFROM:-0800
TZOFFSETTO:-0700
TZNAME:PDT
DTSTART:20250309T100000
END:DAYLIGHT
BEGIN:STANDARD
TZOFFSETFROM:-0700
TZOFFSETTO:-0800
TZNAME:PST
DTSTART:20251102T090000
END:STANDARD
BEGIN:DAYLIGHT
TZOFFSETFROM:-0800
TZOFFSETTO:-0700
TZNAME:PDT
DTSTART:20260308T100000
END:DAYLIGHT
BEGIN:STANDARD
TZOFFSETFROM:-0700
TZOFFSETTO:-0800
TZNAME:PST
DTSTART:20261101T090000
END:STANDARD
BEGIN:DAYLIGHT
TZOFFSETFROM:-0800
TZOFFSETTO:-0700
TZNAME:PDT
DTSTART:20270314T100000
END:DAYLIGHT
BEGIN:STANDARD
TZOFFSETFROM:-0700
TZOFFSETTO:-0800
TZNAME:PST
DTSTART:20271107T090000
END:STANDARD
END:VTIMEZONE
BEGIN:VEVENT
DTSTART;TZID=America/Los_Angeles:20260428T103000
DTEND;TZID=America/Los_Angeles:20260428T113000
DTSTAMP:20260425T082237
CREATED:20250814T195153Z
LAST-MODIFIED:20250907T174211Z
UID:10008726-1777372200-1777375800@cvparentguide.com
SUMMARY:Get Ready for School Storytime
DESCRIPTION:This storytime focuses on school readiness\, concept learning\, and early literacy skills. It is aimed at ages 3-5 but the whole family is welcome. Join us for stories\, songs\, rhymes\, and fun activities! 
URL:https://cvparentguide.com/calendar/get-ready-for-school-storytime/2026-04-28/
LOCATION:Simi Valley Library\, 2969 Tapo Canyon Rd\, Simi Valley\, CA
CATEGORIES:East Valley
END:VEVENT
BEGIN:VEVENT
DTSTART;TZID=America/Los_Angeles:20260428T110000
DTEND;TZID=America/Los_Angeles:20260428T150000
DTSTAMP:20260425T082237
CREATED:20250816T172555Z
LAST-MODIFIED:20250816T172555Z
UID:10007257-1777374000-1777388400@cvparentguide.com
SUMMARY:Simi Valley Farmer's Market
DESCRIPTION:Join us every Tuesday from 11:00 am to 3:00pm for a fresh and vibrant experience at our Farmers’ Market!\n\n\n✨ What to Expect:\n\n\n• 🥦 Fresh and locally sourced produce\n• 🍲 Hot and delicious food options\n• 🛍️ Prepackaged\, healthy snacks\n\n\nEmbrace a healthier lifestyle and support local farmers! Bring your friends\, family\, and coworkers to enjoy the goodness of farm-fresh products.
URL:https://cvparentguide.com/calendar/simi-valley-farmers-market-2/2026-04-28/
LOCATION:Adventist Health\, 3000 Sycamore Drive\, Simi Valley\, CA
CATEGORIES:East Valley
END:VEVENT
BEGIN:VEVENT
DTSTART;TZID=America/Los_Angeles:20260428T130000
DTEND;TZID=America/Los_Angeles:20260428T140000
DTSTAMP:20260425T082237
CREATED:20250814T192633Z
LAST-MODIFIED:20250814T192633Z
UID:10003009-1777381200-1777384800@cvparentguide.com
SUMMARY:Little Explorers
DESCRIPTION:Hands-on fun for ages 3 through 7! Each week features playful activities that encourage creativity\, movement\, and discovery. Grown-ups are encouraged to participate. \n\nAugust 19: Art Party\nAugust 26: Goodbye Summer
URL:https://cvparentguide.com/calendar/little-explorers/2026-04-28/
LOCATION:Moorpark Library\, 699 Moorpark Ave\, Moorpark\, CA
CATEGORIES:East Valley
END:VEVENT
END:VCALENDAR