BEGIN:VCALENDAR
VERSION:2.0
PRODID:-//Conejo Valley Parent Guide - ECPv6.15.20//NONSGML v1.0//EN
CALSCALE:GREGORIAN
METHOD:PUBLISH
X-ORIGINAL-URL:https://cvparentguide.com
X-WR-CALDESC:Events for Conejo Valley Parent Guide
REFRESH-INTERVAL;VALUE=DURATION:PT1H
X-Robots-Tag:noindex
X-PUBLISHED-TTL:PT1H
BEGIN:VTIMEZONE
TZID:America/Los_Angeles
BEGIN:DAYLIGHT
TZOFFSETFROM:-0800
TZOFFSETTO:-0700
TZNAME:PDT
DTSTART:20240310T100000
END:DAYLIGHT
BEGIN:STANDARD
TZOFFSETFROM:-0700
TZOFFSETTO:-0800
TZNAME:PST
DTSTART:20241103T090000
END:STANDARD
BEGIN:DAYLIGHT
TZOFFSETFROM:-0800
TZOFFSETTO:-0700
TZNAME:PDT
DTSTART:20250309T100000
END:DAYLIGHT
BEGIN:STANDARD
TZOFFSETFROM:-0700
TZOFFSETTO:-0800
TZNAME:PST
DTSTART:20251102T090000
END:STANDARD
BEGIN:DAYLIGHT
TZOFFSETFROM:-0800
TZOFFSETTO:-0700
TZNAME:PDT
DTSTART:20260308T100000
END:DAYLIGHT
BEGIN:STANDARD
TZOFFSETFROM:-0700
TZOFFSETTO:-0800
TZNAME:PST
DTSTART:20261101T090000
END:STANDARD
END:VTIMEZONE
BEGIN:VEVENT
DTSTART;TZID=America/Los_Angeles:20250906T100000
DTEND;TZID=America/Los_Angeles:20250906T170000
DTSTAMP:20260421T044328
CREATED:20250823T154310Z
LAST-MODIFIED:20250823T154310Z
UID:10007493-1757152800-1757178000@cvparentguide.com
SUMMARY:FREE kids' water bottle at Lowe's
DESCRIPTION:Lowe’s is giving away a FREE kids’ water bottle and stickers on Sept. 6!\n\n\nTo claim your freebie:\n\n\n1) Become a Lowe’s rewards member — the rewards program is completely free to join.\n\n\n2)Head to Lowe’s on Sept. 6 right at 10 a.m. to be among the first 250 members at the store.\n\n\n3) Scan your member ID to claim the water bottle and stickers.\n\n\nItems are available while supplies last. https://zdcs.link/z3G8pq
URL:https://cvparentguide.com/calendar/free-kids-water-bottle-at-lowes/
LOCATION:Oxnard Lowe’s\, 301 W Gonzales Rd\, Oxnard\, CA
CATEGORIES:Big Kid,Central Valley,East Valley,Family,North Valley
END:VEVENT
BEGIN:VEVENT
DTSTART;TZID=America/Los_Angeles:20250907T120000
DTEND;TZID=America/Los_Angeles:20250907T150000
DTSTAMP:20260421T044328
CREATED:20250825T021247Z
LAST-MODIFIED:20250825T021247Z
UID:10007935-1757246400-1757257200@cvparentguide.com
SUMMARY:Free Family Day: Indigenous Arts and Culture
DESCRIPTION:Join us for Free Family Day inside SPAM’s Cole Creativity Center on Our September event invites families to explore the rich traditions\, stories\, and artistic expressions of Indigenous cultures through hands-on art activities designed for all ages. Guests will learn about Indigenous materials\, symbols\, and techniques while creating their own inspired artworks. Admission is free\, all are welcome\, and all materials are provided. \nAt 1 PM\, Tonetta Lone Elk\, a Northern Cheyenne Native American and Ventura County educator\, will lead a book reading and hands-on activity that explores pictographs and the visual storytelling traditions of her ancestors.
URL:https://cvparentguide.com/calendar/free-family-day-indigenous-arts-and-culture/
LOCATION:Santa Paula Art Museum\, 117 N 10th St\, Santa Paula\, CA
CATEGORIES:Big Kid,East Valley,Family,Toddler,Tween & Teen
END:VEVENT
BEGIN:VEVENT
DTSTART;TZID=America/Los_Angeles:20250909T153000
DTEND;TZID=America/Los_Angeles:20250909T170000
DTSTAMP:20260421T044328
CREATED:20250823T160935Z
LAST-MODIFIED:20250823T160935Z
UID:10007899-1757431800-1757437200@cvparentguide.com
SUMMARY:Teddy Bear Tea Party
DESCRIPTION:Bring your teddy bear and join us for a delightful afternoon tea! We’ll be serving “tea” (lemonade) and yummy treats\, making fun teddy bear crafts and playing teddy bear-themed games 🧸 \nSign up here
URL:https://cvparentguide.com/calendar/teddy-bear-tea-party/
LOCATION:Maker Studio\, 1555 Simi Town Center Way Unit 660\, Simi Valley\, CA
CATEGORIES:Big Kid,East Valley,Toddler,Tween & Teen
END:VEVENT
BEGIN:VEVENT
DTSTART;TZID=America/Los_Angeles:20250912T180000
DTEND;TZID=America/Los_Angeles:20250912T210000
DTSTAMP:20260421T044328
CREATED:20250909T021939Z
LAST-MODIFIED:20250909T021939Z
UID:10008765-1757700000-1757710800@cvparentguide.com
SUMMARY:Girls Night Out
DESCRIPTION:There’s still space to register\, if your 8–14-year-old is looking for a fun night of cosmetology\, music\, games\, and much more\, sign up now!
URL:https://cvparentguide.com/calendar/girls-night-out/
LOCATION:Berylwood Park\, 1955 Bridget Ave\, Simi Valley\, CA
CATEGORIES:Big Kid,East Valley,Tween & Teen
END:VEVENT
BEGIN:VEVENT
DTSTART;TZID=America/Los_Angeles:20250913T100000
DTEND;TZID=America/Los_Angeles:20250913T140000
DTSTAMP:20260421T044328
CREATED:20250830T015312Z
LAST-MODIFIED:20250830T015312Z
UID:10008082-1757757600-1757772000@cvparentguide.com
SUMMARY:Pre-Halloween Celebration
DESCRIPTION:🎃👻 Something spooky (and fun!) is coming to Simi Valley! 🕸️🕷️\nJoin us for a Pre-Halloween Celebration at the Simi Valley Community Market\, hosted at Crunch Fitness Simi Valley! 💪🎉\nThis spooktacular event will feature:\n🛍️ Local Vendors & Small Businesses – come support your community and shop unique\, handcrafted goods!\n🎶 Live Music – enjoy some hauntingly good tunes while you browse!\n🌮🍧 Delicious Food Vendors – grab a bite and satisfy your spooky cravings!\n🧛‍♀️ Costume Fun – dress up early and get into the Halloween spirit!\nBring your friends\, your family\, and your best Halloween vibes! 👻🧙‍♀️\nWhether you’re coming for the shopping\, the music\, or the food\, there’s something for everyone!\n📣 Free entry! Come support local and celebrate the season early!
URL:https://cvparentguide.com/calendar/pre-halloween-celebration/
LOCATION:Crunch Fitness Simi Valley\, 2655 Erringer Rd\, Simi Valley\, CA
CATEGORIES:Big Kid,East Valley,Family,Toddler,Tween & Teen
END:VEVENT
BEGIN:VEVENT
DTSTART;TZID=America/Los_Angeles:20250913T104500
DTEND;TZID=America/Los_Angeles:20250913T120000
DTSTAMP:20260421T044328
CREATED:20250909T015430Z
LAST-MODIFIED:20250909T015430Z
UID:10008759-1757760300-1757764800@cvparentguide.com
SUMMARY:Family Day at the Moorpark Zoo
DESCRIPTION: Don’t forget: sunscreen\, water\, snacks & hats\n🎟 Be sure to grab your tickets ahead of time if you can! \nIt’s going to be a fun-filled day with the animals — we can’t wait to see you there! 🐾💛
URL:https://cvparentguide.com/calendar/family-day-at-the-moorpark-zoo/
LOCATION:The Teaching Zoo at Moorpark College\, 7075 Campus Rd\, Moorpark\, CA
CATEGORIES:Big Kid,East Valley,Family,Infant,New Mom,Toddler,Tween & Teen
END:VEVENT
BEGIN:VEVENT
DTSTART;TZID=America/Los_Angeles:20250913T160000
DTEND;TZID=America/Los_Angeles:20250913T200000
DTSTAMP:20260421T044328
CREATED:20250816T162129Z
LAST-MODIFIED:20250817T154713Z
UID:10005391-1757779200-1757793600@cvparentguide.com
SUMMARY:SKATE TO THE FUTURE
DESCRIPTION:
URL:https://cvparentguide.com/calendar/skate-to-the-future/
LOCATION:Simi Valley Town Center\, 1555 Simi Town Center Way\, Simi Valley\, CA
CATEGORIES:East Valley,Family
END:VEVENT
BEGIN:VEVENT
DTSTART;TZID=America/Los_Angeles:20250913T183000
DTEND;TZID=America/Los_Angeles:20250913T230000
DTSTAMP:20260421T044328
CREATED:20250824T014626Z
LAST-MODIFIED:20250824T014626Z
UID:10007913-1757788200-1757804400@cvparentguide.com
SUMMARY:Movies in the Park: Sonic 3
DESCRIPTION:The City of Moorpark presents Movies in the Park at Arroyo Vista Community Park. Movies begin at dusk. Gates open an hour prior. Bring lawn chairs\, blankets\, and enjoy the movie. Vendors available\, or bring your own snacks. No animals allowed (except service animals). Free admission. \n\n\nSeptember 13: Sonic 3 (PG)
URL:https://cvparentguide.com/calendar/movies-in-the-park-sonic-3/
LOCATION:Arroyo Vista\, 4550 Tierra Rejada Rd\, Moorpark\, CA
CATEGORIES:Big Kid,East Valley,Family,Tween & Teen
END:VEVENT
BEGIN:VEVENT
DTSTART;TZID=America/Los_Angeles:20250913T200000
DTEND;TZID=America/Los_Angeles:20250913T220000
DTSTAMP:20260421T044328
CREATED:20250906T184143Z
LAST-MODIFIED:20250906T184143Z
UID:10008420-1757793600-1757800800@cvparentguide.com
SUMMARY:MOVIE NIGHT: Lilo & Stitch
DESCRIPTION:September is here\, and they’ve got a FREE outdoor screening 🎬 of Disney’s Lilo & Stitch 🏝️🐾 at the @svtowncenter Parking Lot on 🗓 Saturday\, September 13th! \nThe movie takes off around ⏰ 8 PM (when the stars decide to join the party 🌟).\nThey’ve got:\nFREE donuts 🍩 (back by popular demand!)\nFREE popcorn 🍿 (because a movie without popcorn is like Stitch without mischief!)\nFREE family fun 🤩 (because we adore our community!)\nSo\, grab those cozy blankets\, haul your lawn chairs\, and get ready to chuckle\, munch\, and belt out tunes with Stitch under the starlit sky. \nLet’s craft another unforgettable evening\, Simi Valley—see you there!
URL:https://cvparentguide.com/calendar/movie-night-lilo-stitch/
LOCATION:Simi Valley Town Center\, 1555 Simi Town Center Way\, Simi Valley\, CA
CATEGORIES:Big Kid,East Valley,Family,Toddler,Tween & Teen
END:VEVENT
BEGIN:VEVENT
DTSTART;TZID=America/Los_Angeles:20250914T120000
DTEND;TZID=America/Los_Angeles:20250914T140000
DTSTAMP:20260421T044328
CREATED:20250825T020436Z
LAST-MODIFIED:20250825T020955Z
UID:10007933-1757851200-1757858400@cvparentguide.com
SUMMARY:Kids' Clay & Cookies: Polymer
DESCRIPTION:It’s sculpting time at SPAM’s Cole Creativity Center! In Kids’ Clay & Cookies: Polymer\, young artists (ages 9 and up) will join teaching artist Haya Cuzick for a fun\, hands-on class where they’ll create their very own adorable polymer creation. We’ll fuel the creativity with sweet treats (cookies\, of course!) and provide all the supplies your kiddo needs to bring their creation to life. Best part? We fire the polymer clay during class to harden their sculptures\, so everyone gets to take their masterpiece home the very same day. \nParents are welcome to drop off\, or stay and sculpt alongside your child (just be sure to reserve an extra spot for yourself). \n. Preregistration is required.
URL:https://cvparentguide.com/calendar/kids-clay-cookies-polymer/
LOCATION:Santa Paula Art Museum\, 117 N 10th St\, Santa Paula\, CA
CATEGORIES:Big Kid,East Valley,Tween & Teen
END:VEVENT
BEGIN:VEVENT
DTSTART;TZID=America/Los_Angeles:20250914T150000
DTEND;TZID=America/Los_Angeles:20250914T170000
DTSTAMP:20260421T044328
CREATED:20250825T020919Z
LAST-MODIFIED:20250825T020919Z
UID:10007934-1757862000-1757869200@cvparentguide.com
SUMMARY:Kids' Paint & Sip: Bears and Boba
DESCRIPTION:Get ready for a beary fun afternoon at SPAM’s Cole Creativity Center! In Kids’ Paint and Sip: Bears and Boba\, young artists (ages 7+) will join teaching artist Haya Cuzick for a playful\, step-by-step painting adventure\, creating their own bright and cheerful bear-themed masterpiece with acrylics. Between brushstrokes\, they’ll sip on cool\, refreshing boba to keep the creativity flowing. \nParents can drop off\, or grab a brush and join the fun (just be sure to reserve your own spot). All art supplies (and boba!) are included. \nBeginners are welcome and all materials are provided. Preregistration is required.
URL:https://cvparentguide.com/calendar/kids-paint-sip-bears-and-boba/
LOCATION:Santa Paula Art Museum\, 117 N 10th St\, Santa Paula\, CA
CATEGORIES:Big Kid,East Valley,Tween & Teen
END:VEVENT
BEGIN:VEVENT
DTSTART;TZID=America/Los_Angeles:20250917T100000
DTEND;TZID=America/Los_Angeles:20250917T120000
DTSTAMP:20260421T044328
CREATED:20250904T182005Z
LAST-MODIFIED:20250904T182005Z
UID:10008257-1758103200-1758110400@cvparentguide.com
SUMMARY:Moorpark Coffee & Play Date
DESCRIPTION:WE’LL MEET AT POINDEXTER PARK. ENJOY THE PARK AND LET THE LITTLES PLAY BECAUSE CAFE LINDA WILL BE SETTING UP AT THE PARK FOR US! HONEY SHINE CALENDULA WILL ALSO BE THERE TO SHARE ABOUT THEIR NATURAL HEALING PRODUCTS! \n​WE CANT WAIT TO SEE YOU THERE 💕
URL:https://cvparentguide.com/calendar/moorpark-coffee-play-date/
LOCATION:Poindexter Park\, 500 Poindexter Ave\, Moorpark\, CA
CATEGORIES:Big Kid,East Valley,Infant,New Mom,Toddler
END:VEVENT
BEGIN:VEVENT
DTSTART;TZID=America/Los_Angeles:20250918T180000
DTEND;TZID=America/Los_Angeles:20250918T200000
DTSTAMP:20260421T044328
CREATED:20250823T162428Z
LAST-MODIFIED:20250823T162428Z
UID:10007904-1758218400-1758225600@cvparentguide.com
SUMMARY:Autumn Paint & Sip
DESCRIPTION:Out first Autumn paint night\nJoin us in starting off the season with this fun fall design. All ages welcome. Text for sign up. Spots will fill up fast
URL:https://cvparentguide.com/calendar/autumn-paint-sip-2/
LOCATION:Chuy’s Simi\, 1397 E Los Angeles Ave\, Simi Valley\, CA
CATEGORIES:Big Kid,East Valley,Family,Tween & Teen
END:VEVENT
BEGIN:VEVENT
DTSTART;TZID=America/Los_Angeles:20250920T100000
DTEND;TZID=America/Los_Angeles:20250920T130000
DTSTAMP:20260421T044328
CREATED:20250815T213436Z
LAST-MODIFIED:20250817T154634Z
UID:10004759-1758362400-1758373200@cvparentguide.com
SUMMARY:DIY-U Kids’ Workshops by Lowe’s
DESCRIPTION:Football Spirit Board\nGet into the NFL season with Lowe’s Home Town Scoreboard workshop! Kids get to build their favorite team’s scoreboard\, learn simple mechanics and add excitement to their space. It’s the perfect workshop for young sports fans.\n\n\nWorkshops are hosted by our Red Vests from 10:00am – 1:00pm\, in-store only\, must register. \nDon’t Forget! Your confirmation email is your ticket; confirm you have selected the correct store\, date\, time and number of mini-builders. Submitted registrations cannot be edited or undone. We look forward to building with you and your little ones! \n\nRegister Here
URL:https://cvparentguide.com/calendar/diy-u-kids-workshops-by-lowes/
LOCATION:TO Lowe’s\, 1027 Academy Drive\, Thousand Oaks\, CA
CATEGORIES:Big Kid,Central Valley,East Valley,North Valley,Toddler
END:VEVENT
BEGIN:VEVENT
DTSTART;TZID=America/Los_Angeles:20250920T120000
DTEND;TZID=America/Los_Angeles:20250920T160000
DTSTAMP:20260421T044328
CREATED:20250912T215948Z
LAST-MODIFIED:20250912T215948Z
UID:10009381-1758369600-1758384000@cvparentguide.com
SUMMARY:National All Star Cheer & Dance Day
DESCRIPTION:The Open House will feature some of our local business owners and offer a FREE cheer and dance clinic! We would love to invite you to join us!\n\n\n*Bounce Houses*Face Painting*Hair Tinsel*Yummy Treats* and more!\n\n\nWe will host a FREE Cheer & Dance clinic from 1-2:30pm as well! If you would like to join us please RSVP here:
URL:https://cvparentguide.com/calendar/national-all-star-cheer-dance-day/
LOCATION:CheerForce Simi Valley\, 5898 Condor Dr\, Suite 230\, Moorpark\, CA
CATEGORIES:Big Kid,East Valley,Tween & Teen
END:VEVENT
BEGIN:VEVENT
DTSTART;TZID=America/Los_Angeles:20250921T100000
DTEND;TZID=America/Los_Angeles:20250921T190000
DTSTAMP:20260421T044328
CREATED:20250825T015520Z
LAST-MODIFIED:20250825T015520Z
UID:10007932-1758448800-1758481200@cvparentguide.com
SUMMARY:Chuy’s End of Summer Block Party
DESCRIPTION:Join us for a two-day community celebration full of live music\, vendors\, food\, and family fun!\n What to Expect:• Live music and entertainment (including a country-themed day on Sunday)• Delicious food & drinks from Chuy’s• Local vendors and shopping• Fun for all ages\n Free & Open to the Public – Bring your friends and family
URL:https://cvparentguide.com/calendar/chuys-end-of-summer-block-party/2025-09-21/
LOCATION:Chuy’s Simi\, 1397 E Los Angeles Ave\, Simi Valley\, CA
CATEGORIES:Big Kid,East Valley,Family,Infant,New Mom,Toddler,Tween & Teen
END:VEVENT
BEGIN:VEVENT
DTSTART;TZID=America/Los_Angeles:20250926T100000
DTEND;TZID=America/Los_Angeles:20250926T110000
DTSTAMP:20260421T044328
CREATED:20250910T223504Z
LAST-MODIFIED:20250910T223504Z
UID:10008853-1758880800-1758884400@cvparentguide.com
SUMMARY:Clothing Swap
DESCRIPTION:Hi! Come to our Clothing Swap on Friday\, Sept. 26th from 10am – 11am. \nLocation: First 5 Ventura County Neighborhoods for Learning \nAll families with children newborn to age 5 are invited to participate. \n👚🩳Donations of gently used clothing in infant\, children’s\, or adult sizes are encouraged — but not required — to participate. \nDonations will be accepted at our Santa Paula\, Fillmore\, and Ventura NfL locations beginning on 9/15\, or can be brought with you to the event on 9/26. \nRegistration is not required. For more info\, contact us at 805-869-1317 or NfL@first5ventura.org
URL:https://cvparentguide.com/calendar/clothing-swap/
LOCATION:Blanchard Elementary\, 115 N. Peck Road\, Santa Paula\, CA
CATEGORIES:Big Kid,East Valley,Family,Infant,New Mom,Toddler,Tween & Teen
END:VEVENT
BEGIN:VEVENT
DTSTART;TZID=America/Los_Angeles:20250927T100000
DTEND;TZID=America/Los_Angeles:20250927T160000
DTSTAMP:20260421T044328
CREATED:20250910T213845Z
LAST-MODIFIED:20250910T213845Z
UID:10008851-1758967200-1758988800@cvparentguide.com
SUMMARY:Hispanic Heritage Festival
DESCRIPTION:Get ready for a fun\, family-friendly day filled with:\n🎶Live music & dance\n🍴Delicious food\n🧑‍🧑‍🧒‍🧒Community activities for all ages\n🎉Free entry\, everyone’s invited!
URL:https://cvparentguide.com/calendar/hispanic-heritage-festival/
LOCATION:Simi Valley Cultural Arts Center\, 3050 E Los Angeles Ave\, Simi Valley\, CA
CATEGORIES:Big Kid,East Valley,Family,Infant,New Mom,Toddler,Tween & Teen
END:VEVENT
BEGIN:VEVENT
DTSTART;TZID=America/Los_Angeles:20251003T103000
DTEND;TZID=America/Los_Angeles:20251003T120000
DTSTAMP:20260421T044328
CREATED:20251001T223358Z
LAST-MODIFIED:20251001T223358Z
UID:10009778-1759487400-1759492800@cvparentguide.com
SUMMARY:Halloween Slime make&play
DESCRIPTION:✨ Halloween Slime make&play ✨🎃 \nEnjoy open studio time then mix\, stretch and squish your very own creepy\, gooey\, Halloween-themed slime! 👻🧪 \n👧 Drop-off welcome for ages 5 & up only\n🧪 Minimum of 3 makers required for this event to run \nSign up here:
URL:https://cvparentguide.com/calendar/halloween-slime-makeplay/
LOCATION:Maker Studio\, 1555 Simi Town Center Way Unit 660\, Simi Valley\, CA
CATEGORIES:Big Kid,East Valley,Toddler,Tween & Teen
END:VEVENT
BEGIN:VEVENT
DTSTART;TZID=America/Los_Angeles:20251003T153000
DTEND;TZID=America/Los_Angeles:20251003T163000
DTSTAMP:20260421T044328
CREATED:20251001T220336Z
LAST-MODIFIED:20251001T220336Z
UID:10009382-1759505400-1759509000@cvparentguide.com
SUMMARY:Zombie Dolls & Frankenbears
DESCRIPTION:It’s almost time for Courageous Chronicles! This month we’re making Zombie Dolls & Frankenbears 🎃 Make sure to stop by on Friday\, October 3rd at 3:30 PM for a spooky Courageous Chronicles 👻This program is designed for ages 9 to 12 years old.
URL:https://cvparentguide.com/calendar/zombie-dolls-frankenbears/
LOCATION:Simi Valley Library\, 2969 Tapo Canyon Rd\, Simi Valley\, CA
CATEGORIES:Big Kid,East Valley
END:VEVENT
BEGIN:VEVENT
DTSTART;TZID=America/Los_Angeles:20251003T180000
DTEND;TZID=America/Los_Angeles:20251003T210000
DTSTAMP:20260421T044328
CREATED:20251001T223132Z
LAST-MODIFIED:20251001T223132Z
UID:10009777-1759514400-1759525200@cvparentguide.com
SUMMARY:PNO: Hotel Transylvania
DESCRIPTION:call us to sign your kid up for a PSN on Friday night! 🥰\nMiss Mara\, Miss Nina\, and hours of running around the gym\, eating\, and having fun!
URL:https://cvparentguide.com/calendar/pno-hotel-transylvania/
LOCATION:Busy Bugs Gymnastics\, 1792 Erringer Rd\, Simi Valley\, CA
CATEGORIES:Big Kid,East Valley,Toddler,Tween & Teen
END:VEVENT
BEGIN:VEVENT
DTSTART;TZID=America/Los_Angeles:20251005T120000
DTEND;TZID=America/Los_Angeles:20251005T150000
DTSTAMP:20260421T044328
CREATED:20250825T021459Z
LAST-MODIFIED:20250825T021459Z
UID:10007936-1759665600-1759676400@cvparentguide.com
SUMMARY:Free Family Day: Happy Halloween
DESCRIPTION:Join us for Free Family Day inside SPAM’s Cole Creativity Center. Our October event invites families to get into the Halloween spirit through scary fun art projects\, including skeleton window hangings\, painted mini-pumpkins\, and more. Admission is free\, all are welcome\, and all materials are provided.
URL:https://cvparentguide.com/calendar/free-family-day-happy-halloween/
LOCATION:Santa Paula Art Museum\, 117 N 10th St\, Santa Paula\, CA
CATEGORIES:Big Kid,East Valley,Family,Infant,New Mom,Toddler,Tween & Teen
END:VEVENT
BEGIN:VEVENT
DTSTART;TZID=America/Los_Angeles:20251005T160000
DTEND;TZID=America/Los_Angeles:20251005T180000
DTSTAMP:20260421T044328
CREATED:20250812T223059Z
LAST-MODIFIED:20250817T154410Z
UID:10000012-1759680000-1759687200@cvparentguide.com
SUMMARY:Trunk or Treat & Ice Skating
DESCRIPTION:Mark your calendars for the 3rd Annual Iceoplex Trunk or Treat on October 5th — where the candy is cold\, the costumes are cool\, and the memories are bone-chillingly fun! 💀🍬 \n🚗 Want to be part of the eerie excitement? Trunk registration is now OPEN! Bring your best haunted setup and compete to see who has the spookiest ride! Sign up in bio or scan the QR code in image above. 👆🏻 \n📸 Missed last year? Don’t ghost us again — it was a scream! \n👻 Come in costume for public skate… but beware! For your safety on the ice\, no masks or dangling costume items are allowed — we want all the ghouls and goblins to stay safe while skating through the fog! \nIt’s an evening packed with:\n🦇 Candy\n🧛‍♂️ Costumes\n🧊 Ice skating under spooky lights\n🎶 Haunted hits\n🎃 And creepy community fun for all ages! \nDon’t miss this frightfully fantastic night — where the only thing scarier than missing out… is not wearing your costume! 🕷️
URL:https://cvparentguide.com/calendar/trunk-or-treat-ice-skating/
LOCATION:Iceoplex\, 131 W Easy St\, Simi Valley\, CA
CATEGORIES:Big Kid,East Valley,Family,Tween & Teen
END:VEVENT
BEGIN:VEVENT
DTSTART;TZID=America/Los_Angeles:20251006T150000
DTEND;TZID=America/Los_Angeles:20251006T163000
DTSTAMP:20260421T044328
CREATED:20251001T221209Z
LAST-MODIFIED:20251001T221209Z
UID:10009773-1759762800-1759768200@cvparentguide.com
SUMMARY:Mad Hatter Tea Party
DESCRIPTION:🎩✨ We’re All a Little Mad Here… Especially for Halloween! 👻🫖 \nJoin us for a spooktacular Mad Hatter Tea Party to celebrate National Mad Hatter Day — with a fun Halloween twist! 🎃 \nJoin us for a whimsical tea party where the tea is actually… lemonade! Sip\, snack and enjoy lots of fun treats while we play games\, get silly and hang out! \n👶 All ages are welcome… drop-off is available for ages 5+\n✨ Minimum 5 makers required for the event to run \nIt’s going to be a delightfully mad afternoon! Don’t be late for this very important date! 🕰️🧡 \nSign up here
URL:https://cvparentguide.com/calendar/mad-hatter-tea-party/
LOCATION:Maker Studio\, 1555 Simi Town Center Way Unit 660\, Simi Valley\, CA
CATEGORIES:Big Kid,East Valley,Tween & Teen
END:VEVENT
BEGIN:VEVENT
DTSTART;TZID=America/Los_Angeles:20251009T153000
DTEND;TZID=America/Los_Angeles:20251009T163000
DTSTAMP:20260421T044328
CREATED:20251005T190613Z
LAST-MODIFIED:20251005T190613Z
UID:10010171-1760023800-1760027400@cvparentguide.com
SUMMARY:Make a Ghost Worksh
DESCRIPTION:Cheesecloth Ghost Workshop \nJoin us for a spooktacular two-part workshop where we’ll create magical\, light-up cheesecloth ghosts! The perfect handmade Halloween decoration! \n🗓️ Dates: Tuesday\, October 8\, 3:30 – 4:30 & Wednesday\, October 9\, 4:00 – 4:30\n💰 Cost: $25 (covers both sessions)\n📍 MakerStudio\n🎨 Ages: 5 & up\n⚠️ Minimum of 4 makers required to run this workshop \nSpots are limited! Sign up here
URL:https://cvparentguide.com/calendar/make-a-ghost-worksh/2025-10-09/
LOCATION:Maker Studio\, 1555 Simi Town Center Way Unit 660\, Simi Valley\, CA
CATEGORIES:Big Kid,East Valley,Tween & Teen
END:VEVENT
BEGIN:VEVENT
DTSTART;TZID=America/Los_Angeles:20251009T180000
DTEND;TZID=America/Los_Angeles:20251009T200000
DTSTAMP:20260421T044328
CREATED:20250823T161900Z
LAST-MODIFIED:20250823T161900Z
UID:10007903-1760032800-1760040000@cvparentguide.com
SUMMARY:Ghost Paint & Sip
DESCRIPTION:Check out our Halloween themed Ghost paint & Sip. All ages welcome. Text for sign ups! Spots will go fast!
URL:https://cvparentguide.com/calendar/ghost-paint-sip/
LOCATION:Chuy’s Simi\, 1397 E Los Angeles Ave\, Simi Valley\, CA
CATEGORIES:Big Kid,East Valley,Family,Tween & Teen
END:VEVENT
BEGIN:VEVENT
DTSTART;TZID=America/Los_Angeles:20251010T163000
DTEND;TZID=America/Los_Angeles:20251010T193000
DTSTAMP:20260421T044328
CREATED:20250830T024232Z
LAST-MODIFIED:20250830T024232Z
UID:10008255-1760113800-1760124600@cvparentguide.com
SUMMARY:Family Fridays on the Farm
DESCRIPTION:Mark your calendars for Family Fridays on the Farm: September 12th! 🌿✨⁠\n⁠\nSpend the evening with us in the garden\, where the whole family can enjoy live music\, BBQ\, kids activities\, and family-friendly tours around the farm. It’s the perfect way to unwind\, connect\, and make memories together. 💛⁠\n⁠\n📍 September 12 & October 10 | 4:30–7:30 PM⁠\n🚗 Parking: $25 per car — limited spots\, must pre-purchase online — unfortunately\, you will be turned away if you don’t have a parking pass! ⁠\n⁠\nHere’s a peek at what’s in store:⁠\n🎶 Live music by Mark Masson Trio⁠\n🔥 Regeneratively raised meat from this land\, prepared by @zefbbq⁠\n🍷 Local wine\, beer & honey lemonade cocktails ⁠\n🎨 Kids Activities⁠ ($20)\n🐄 Family Farm Tours — drive-around style\, great for kids! ($5/person)⁠\n⁠\nCome hungry\, bring your friends\, and join us for a night of farm fun before summer ends! 🌱🎶🔥⁠
URL:https://cvparentguide.com/calendar/family-fridays-on-the-farm/2025-10-10/
LOCATION:Apricot Lane Farms\, 10700 Broadway Rd\, Moorpark\, CA
CATEGORIES:Big Kid,East Valley,Family,Infant,New Mom,Toddler,Tween & Teen
END:VEVENT
BEGIN:VEVENT
DTSTART;TZID=America/Los_Angeles:20251013T153000
DTEND;TZID=America/Los_Angeles:20251013T163000
DTSTAMP:20260421T044328
CREATED:20251005T192937Z
LAST-MODIFIED:20251005T192937Z
UID:10010233-1760369400-1760373000@cvparentguide.com
SUMMARY:Halloween Terrariums
DESCRIPTION:Get spooky and creative with us as we make Halloween terrariums — tiny worlds filled with haunted scenes\, pumpkins\, ghosts\, and more! 👻✨ \nWe need a minimum of 5 makers to make the magic happen.\n✅ Drop-off OK for kids ages 5 and up. \nSpots are limited — come build your very own spooky scene in a jar!\n👉 Sign up here
URL:https://cvparentguide.com/calendar/halloween-terrariums/
LOCATION:Maker Studio\, 1555 Simi Town Center Way Unit 660\, Simi Valley\, CA
CATEGORIES:Big Kid,East Valley,Toddler,Tween & Teen
END:VEVENT
BEGIN:VEVENT
DTSTART;TZID=America/Los_Angeles:20251015T153000
DTEND;TZID=America/Los_Angeles:20251015T163000
DTSTAMP:20260421T044328
CREATED:20251010T015218Z
LAST-MODIFIED:20251010T015218Z
UID:10010707-1760542200-1760545800@cvparentguide.com
SUMMARY:Pumpkin Painting
DESCRIPTION:It’s time to get creative for fall!! BYOP (bring your own pumpkin) and join us for an hour of hands-on fun decorating and designing your very own pumpkin masterpiece. 🎨✨ \nWe’ll have a huge variety of art and craft supplies ready for you to use — from paint\, markers\, and glitter to googly eyes and spooky accessories. Whether you want to make it cute\, creepy\, colorful\, or classic\, it’s totally up to you! 👻💛
URL:https://cvparentguide.com/calendar/pumpkin-painting/
LOCATION:Maker Studio\, 1555 Simi Town Center Way Unit 660\, Simi Valley\, CA
CATEGORIES:Big Kid,East Valley,Toddler,Tween & Teen
END:VEVENT
BEGIN:VEVENT
DTSTART;TZID=America/Los_Angeles:20251017T093000
DTEND;TZID=America/Los_Angeles:20251029T110000
DTSTAMP:20260421T044328
CREATED:20251005T192128Z
LAST-MODIFIED:20251005T194849Z
UID:10010231-1760693400-1761735600@cvparentguide.com
SUMMARY:Pumpkin Play Day
DESCRIPTION:Hi\, what are you doing Friday\, October 17th from 9:30am to 11am? \nHopefully you’ll be with us for a Pumpkin Play Day! \nFamilies with children newborn to age 5 are invited. \nCome enjoy music and festive fall activities such as playing with pumpkin play dough\, finger painting\, and stamping with paint. \nF5VC Neighborhoods for Learning at Ruben Castro Center\n612 Spring Road\, Suite 401\, Building B\, in Moorpark \nRegistration is not required. Contact us with any questions\, 805-869-1317 or NfL@first5ventura.org
URL:https://cvparentguide.com/calendar/pumpkin-play-day/
LOCATION:Ruben Castro Center\, 612 Spring Road\, Suite 401\, Building B\, Moorpark\, United States
CATEGORIES:East Valley,Infant,New Mom,Toddler
END:VEVENT
END:VCALENDAR