BEGIN:VCALENDAR
VERSION:2.0
PRODID:-//Conejo Valley Parent Guide - ECPv6.15.20//NONSGML v1.0//EN
CALSCALE:GREGORIAN
METHOD:PUBLISH
X-ORIGINAL-URL:https://cvparentguide.com
X-WR-CALDESC:Events for Conejo Valley Parent Guide
REFRESH-INTERVAL;VALUE=DURATION:PT1H
X-Robots-Tag:noindex
X-PUBLISHED-TTL:PT1H
BEGIN:VTIMEZONE
TZID:America/Los_Angeles
BEGIN:DAYLIGHT
TZOFFSETFROM:-0800
TZOFFSETTO:-0700
TZNAME:PDT
DTSTART:20240310T100000
END:DAYLIGHT
BEGIN:STANDARD
TZOFFSETFROM:-0700
TZOFFSETTO:-0800
TZNAME:PST
DTSTART:20241103T090000
END:STANDARD
BEGIN:DAYLIGHT
TZOFFSETFROM:-0800
TZOFFSETTO:-0700
TZNAME:PDT
DTSTART:20250309T100000
END:DAYLIGHT
BEGIN:STANDARD
TZOFFSETFROM:-0700
TZOFFSETTO:-0800
TZNAME:PST
DTSTART:20251102T090000
END:STANDARD
BEGIN:DAYLIGHT
TZOFFSETFROM:-0800
TZOFFSETTO:-0700
TZNAME:PDT
DTSTART:20260308T100000
END:DAYLIGHT
BEGIN:STANDARD
TZOFFSETFROM:-0700
TZOFFSETTO:-0800
TZNAME:PST
DTSTART:20261101T090000
END:STANDARD
BEGIN:DAYLIGHT
TZOFFSETFROM:-0800
TZOFFSETTO:-0700
TZNAME:PDT
DTSTART:20270314T100000
END:DAYLIGHT
BEGIN:STANDARD
TZOFFSETFROM:-0700
TZOFFSETTO:-0800
TZNAME:PST
DTSTART:20271107T090000
END:STANDARD
END:VTIMEZONE
BEGIN:VEVENT
DTSTART;TZID=America/Los_Angeles:20251025T113000
DTEND;TZID=America/Los_Angeles:20251025T130000
DTSTAMP:20260425T125942
CREATED:20251009T235000Z
LAST-MODIFIED:20251009T235000Z
UID:10010693-1761391800-1761397200@cvparentguide.com
SUMMARY:Pumpkins & Petals Experience
DESCRIPTION:Fall florals meet spooky chic! Design your own floral centerpiece using fresh blooms arranged inside a pumpkin. Learn floral techniques\, color pairing\, and styling tips while creating your perfect fall arrangement.
URL:https://cvparentguide.com/calendar/pumpkins-petals-experience/
LOCATION:Flower & Flour Studio\, 30313 Canwood Street\, # 22\, Agoura Hills\, United States
CATEGORIES:Big Kid,South Valley,Tween & Teen
ORGANIZER;CN="Flower & Flour Studio":MAILTO:info@flowerandflourstudio.com
END:VEVENT
BEGIN:VEVENT
DTSTART;TZID=America/Los_Angeles:20251025T130000
DTEND;TZID=America/Los_Angeles:20251025T160000
DTSTAMP:20260425T125942
CREATED:20250904T203938Z
LAST-MODIFIED:20250904T203938Z
UID:10008272-1761397200-1761408000@cvparentguide.com
SUMMARY:Pumpkin Party
DESCRIPTION:The Leonis Adobe Museum in Old Town Calabasas hosts its annual family-friendly Halloween Party on Saturday\, October 25th from 1:00 pm – 4:00 pm. The fun includes hands-on crafts\, live music\, and demonstrations of rancho life in the 1880s. Costumes are admired; not required. \nAdmission is $8 – FREE for under 2 Y/O and museum members. Tickets can be purchased at the door. For more information\, call the Leonis Adobe Museum at (818)222-6511 or email contact@leonisadobemuseum.org.
URL:https://cvparentguide.com/calendar/pumpkin-party/
LOCATION:Leonis Adobe Museum\, 23537 Calabasas Road\, Calabasas\, CA
CATEGORIES:Big Kid,Family,Infant,New Mom,South Valley,Toddler,Tween & Teen
END:VEVENT
BEGIN:VEVENT
DTSTART;TZID=America/Los_Angeles:20251026T130000
DTEND;TZID=America/Los_Angeles:20251026T160000
DTSTAMP:20260425T125942
CREATED:20250814T185007Z
LAST-MODIFIED:20250814T185007Z
UID:10002583-1761483600-1761494400@cvparentguide.com
SUMMARY:Duplo Sundays
DESCRIPTION:Creativity alive! Build a fort or a space ship or whatever you are in the mood for. We would love to display your creation in the library!
URL:https://cvparentguide.com/calendar/duplo-sundays/2025-10-26/
LOCATION:Oak Park Library\, 899 North Kanan Road\, Oak Park\, CA
CATEGORIES:South Valley
END:VEVENT
BEGIN:VEVENT
DTSTART;TZID=America/Los_Angeles:20251026T133000
DTEND;TZID=America/Los_Angeles:20251026T150000
DTSTAMP:20260425T125942
CREATED:20251009T235332Z
LAST-MODIFIED:20251010T014136Z
UID:10010695-1761485400-1761490800@cvparentguide.com
SUMMARY:Spooky Halloween Pies Workshop
DESCRIPTION:Mini pies\, major Halloween vibes! Bake and design spooky mini pies — from jack-o’-lanterns to cobwebs & ghost cutouts — that are almost too cute to eat! The perfect sweet finale to Halloween weekend. \nBe Sure to mention Conejo Valley Parent Guide sent you for a special discount!
URL:https://cvparentguide.com/calendar/spooky-halloween-pies-workshop/2025-10-26/2/
LOCATION:Flower & Flour Studio\, 30313 Canwood Street\, # 22\, Agoura Hills\, United States
CATEGORIES:Big Kid,South Valley,Toddler,Tween & Teen
ORGANIZER;CN="Flower & Flour Studio":MAILTO:info@flowerandflourstudio.com
END:VEVENT
BEGIN:VEVENT
DTSTART;TZID=America/Los_Angeles:20251029T170000
DTEND;TZID=America/Los_Angeles:20251029T183000
DTSTAMP:20260425T125942
CREATED:20251021T003822Z
LAST-MODIFIED:20251021T003822Z
UID:10010716-1761757200-1761762600@cvparentguide.com
SUMMARY:Glinda the Good Witch Event
DESCRIPTION:Come and Defy gravity with Glinda the good witch on Wednesday October 29th from 5:00pm-6:30pm. Food and treats included. Must call to book your spot. Space is limited. 818-991-5437
URL:https://cvparentguide.com/calendar/glinda-the-good-witch-event/
LOCATION:We Rock the Spectrum\, 30315 Canwood St\, Agoura Hills\, CA
CATEGORIES:Big Kid,South Valley,Toddler
END:VEVENT
BEGIN:VEVENT
DTSTART;TZID=America/Los_Angeles:20251206T130000
DTEND;TZID=America/Los_Angeles:20251206T160000
DTSTAMP:20260425T125942
CREATED:20250904T204100Z
LAST-MODIFIED:20250904T204100Z
UID:10008273-1765026000-1765036800@cvparentguide.com
SUMMARY:Holiday Roundup
DESCRIPTION:The Leonis Adobe Museum in Old Town Calabasas hosts its annual winter event\, Holiday Roundup\, on Saturday\, December 6th from 1:00 pm – 4:00 pm. The fun includes hands-on crafts\, live music\, and demonstrations of rancho life in the 1880s. Parents can shop for holiday gifts in our curated gift shop. \nAdmission is $8 – FREE for under 2 Y/O and museum members. Tickets can be purchased at the door. For more information\, call the Leonis Adobe Museum at (818)222-6511 or email contact@leonisadobemuseum.org.
URL:https://cvparentguide.com/calendar/holiday-roundup/
LOCATION:Leonis Adobe Museum\, 23537 Calabasas Road\, Calabasas\, CA
CATEGORIES:Big Kid,Family,Infant,New Mom,South Valley,Toddler,Tween & Teen
END:VEVENT
BEGIN:VEVENT
DTSTART;TZID=America/Los_Angeles:20260319T173000
DTEND;TZID=America/Los_Angeles:20260424T220000
DTSTAMP:20260425T125942
CREATED:20250823T154933Z
LAST-MODIFIED:20250823T154933Z
UID:10007668-1773941400-1777068000@cvparentguide.com
SUMMARY:Nights of The Jack
DESCRIPTION:Halloween Magic Awaits! ✨🎃\nExperience an Immersive Halloween Experience filled with:\nStunning professional lighting displays\nSpooky + fun Halloween designs\nAn unbelievable pumpkin carving showcase you won’t forget \n🎟️ Get your tickets now and save 15% with code: CARVE15 (expires 9/7) \nThis is one of the ultimate family Halloween events in Southern California — don’t miss the chance to make memories under the glowing lights of carved pumpkins and seasonal magic. 🍂👨‍👩‍👧‍👦
URL:https://cvparentguide.com/calendar/nights-of-the-jack/2026-03-19/
LOCATION:King Gillette Ranch\, King Gillette Ranch\, Calabasas\, CA
CATEGORIES:Big Kid,Family,South Valley,Toddler,Tween & Teen
END:VEVENT
BEGIN:VEVENT
DTSTART;TZID=America/Los_Angeles:20260418T080000
DTEND;TZID=America/Los_Angeles:20260418T130000
DTSTAMP:20260425T125942
CREATED:20250816T171017Z
LAST-MODIFIED:20250816T171017Z
UID:10006733-1776499200-1776517200@cvparentguide.com
SUMMARY:Calabasas Farmer's Market
DESCRIPTION:Weekly Saturday Morning Community Event In The Heart of Old Town Calabasas! Artisan Crafted Goods\, Freshly Prepared Food & Local Produce Await! Come Discover Your Community! Free parking in the dirt lot.
URL:https://cvparentguide.com/calendar/calabasas-farmers-market/2026-04-18/
LOCATION:Old Town Calabasas\, 23504 Calabasas Rd\, Calabasas\, CA
CATEGORIES:South Valley
END:VEVENT
BEGIN:VEVENT
DTSTART;TZID=America/Los_Angeles:20260423T113000
DTEND;TZID=America/Los_Angeles:20260423T130000
DTSTAMP:20260425T125942
CREATED:20250814T185402Z
LAST-MODIFIED:20250814T185402Z
UID:10002619-1776943800-1776949200@cvparentguide.com
SUMMARY:Oak Park Toddler Play
DESCRIPTION:Come stay and play with us after our Storytime every Thursday from 11:30am to 1pm! All are welcome.
URL:https://cvparentguide.com/calendar/oak-park-toddler-play/2026-04-23/
LOCATION:Oak Park Library\, 899 North Kanan Road\, Oak Park\, CA
CATEGORIES:South Valley
END:VEVENT
BEGIN:VEVENT
DTSTART;TZID=America/Los_Angeles:20260423T200000
DTEND;TZID=America/Los_Angeles:20260423T200000
DTSTAMP:20260425T125942
CREATED:20250904T210028Z
LAST-MODIFIED:20251005T201145Z
UID:10010661-1776974400-1776974400@cvparentguide.com
SUMMARY:Toddler Fall Pumpkin Patch Story Time
DESCRIPTION:Pumpkin Patch Story Time is a program offered by the Calabasas Public Library. \nThe Children’s Librarian reads\, sings and entertains children during the story time. \nFall Pumpkin Patch Story Time\nThursday\, September 11th through October 16th. \nLap Sit ages up to 24 months –  10:30 a.m. \nToddler ages 2 to 4 years – 11:00 a.m. \nStory times will be held in the Multi-Purpose Room. \nGo to the front of the library and follow signs.
URL:https://cvparentguide.com/calendar/toddler-fall-pumpkin-patch-story-time/2026-04-23/
LOCATION:Calabasas Public Library\, 200 Civic Center Way\, Calabasas\, CA
CATEGORIES:Infant,New Mom,South Valley,Toddler
END:VEVENT
BEGIN:VEVENT
DTSTART;TZID=America/Los_Angeles:20260424T110000
DTEND;TZID=America/Los_Angeles:20260424T120000
DTSTAMP:20260425T125942
CREATED:20250815T211125Z
LAST-MODIFIED:20250815T211125Z
UID:10004270-1777028400-1777032000@cvparentguide.com
SUMMARY:Children's Storytime
DESCRIPTION:Join us every Saturday at 11am by the stage in the Children’s Department for Storytime!  We will be reading new titles or favorite selections. Come see what our Booksellers are reading today!
URL:https://cvparentguide.com/calendar/childrens-storytime/2026-04-24/
LOCATION:Calabasas Barnes & Noble\, 4735 Commons Way\, Calabasas\, CA
CATEGORIES:South Valley
END:VEVENT
END:VCALENDAR