BEGIN:VCALENDAR
VERSION:2.0
PRODID:-//Conejo Valley Parent Guide - ECPv6.15.20//NONSGML v1.0//EN
CALSCALE:GREGORIAN
METHOD:PUBLISH
X-WR-CALNAME:Conejo Valley Parent Guide
X-ORIGINAL-URL:https://cvparentguide.com
X-WR-CALDESC:Events for Conejo Valley Parent Guide
REFRESH-INTERVAL;VALUE=DURATION:PT1H
X-Robots-Tag:noindex
X-PUBLISHED-TTL:PT1H
BEGIN:VTIMEZONE
TZID:America/Los_Angeles
BEGIN:DAYLIGHT
TZOFFSETFROM:-0800
TZOFFSETTO:-0700
TZNAME:PDT
DTSTART:20240310T100000
END:DAYLIGHT
BEGIN:STANDARD
TZOFFSETFROM:-0700
TZOFFSETTO:-0800
TZNAME:PST
DTSTART:20241103T090000
END:STANDARD
BEGIN:DAYLIGHT
TZOFFSETFROM:-0800
TZOFFSETTO:-0700
TZNAME:PDT
DTSTART:20250309T100000
END:DAYLIGHT
BEGIN:STANDARD
TZOFFSETFROM:-0700
TZOFFSETTO:-0800
TZNAME:PST
DTSTART:20251102T090000
END:STANDARD
BEGIN:DAYLIGHT
TZOFFSETFROM:-0800
TZOFFSETTO:-0700
TZNAME:PDT
DTSTART:20260308T100000
END:DAYLIGHT
BEGIN:STANDARD
TZOFFSETFROM:-0700
TZOFFSETTO:-0800
TZNAME:PST
DTSTART:20261101T090000
END:STANDARD
BEGIN:DAYLIGHT
TZOFFSETFROM:-0800
TZOFFSETTO:-0700
TZNAME:PDT
DTSTART:20270314T100000
END:DAYLIGHT
BEGIN:STANDARD
TZOFFSETFROM:-0700
TZOFFSETTO:-0800
TZNAME:PST
DTSTART:20271107T090000
END:STANDARD
END:VTIMEZONE
BEGIN:VEVENT
DTSTART;TZID=America/Los_Angeles:20260421T113000
DTEND;TZID=America/Los_Angeles:20260421T123000
DTSTAMP:20260425T082124
CREATED:20250910T224116Z
LAST-MODIFIED:20250910T224425Z
UID:10008916-1776771000-1776774600@cvparentguide.com
SUMMARY:Music and Movement In The Park
DESCRIPTION:Step into a magical morning where music meets discovery! Join us Tuesdays & Saturdays at at Mel Vincent Park in Camarillo for a music class for infants and toddlers 0-4 years old. Enjoy live acoustic music\, movement\, and play outdoors! Siblings 0-4 included in registration fee. Bring a blanket and come connect\, explore\, and boogie with us!
URL:https://cvparentguide.com/calendar/music-and-movement-in-the-park/2026-04-21/
LOCATION:Mel Vincent Park\, 668 Calistoga Rd\, Camarillo\, CA
CATEGORIES:Infant,New Mom,North Valley,Toddler
END:VEVENT
BEGIN:VEVENT
DTSTART;TZID=America/Los_Angeles:20260421T110000
DTEND;TZID=America/Los_Angeles:20260421T150000
DTSTAMP:20260425T082124
CREATED:20250816T172555Z
LAST-MODIFIED:20250816T172555Z
UID:10007256-1776769200-1776783600@cvparentguide.com
SUMMARY:Simi Valley Farmer's Market
DESCRIPTION:Join us every Tuesday from 11:00 am to 3:00pm for a fresh and vibrant experience at our Farmers’ Market!\n\n\n✨ What to Expect:\n\n\n• 🥦 Fresh and locally sourced produce\n• 🍲 Hot and delicious food options\n• 🛍️ Prepackaged\, healthy snacks\n\n\nEmbrace a healthier lifestyle and support local farmers! Bring your friends\, family\, and coworkers to enjoy the goodness of farm-fresh products.
URL:https://cvparentguide.com/calendar/simi-valley-farmers-market-2/2026-04-21/
LOCATION:Adventist Health\, 3000 Sycamore Drive\, Simi Valley\, CA
CATEGORIES:East Valley
END:VEVENT
BEGIN:VEVENT
DTSTART;TZID=America/Los_Angeles:20260421T110000
DTEND;TZID=America/Los_Angeles:20260421T123000
DTSTAMP:20260425T082124
CREATED:20250814T190038Z
LAST-MODIFIED:20250814T190038Z
UID:10002753-1776769200-1776774600@cvparentguide.com
SUMMARY:Come and Play
DESCRIPTION:Calling all toddlers\, parents\, and caregivers! Come gather\, meet new friends\, play with our selection of toys\, and find great books to take home. All are welcome!
URL:https://cvparentguide.com/calendar/come-and-play/2026-04-21/
LOCATION:Oak Park Library\, 899 North Kanan Road\, Oak Park\, CA
CATEGORIES:North Valley
END:VEVENT
BEGIN:VEVENT
DTSTART;TZID=America/Los_Angeles:20260421T110000
DTEND;TZID=America/Los_Angeles:20260421T120000
DTSTAMP:20260425T082124
CREATED:20250813T212920Z
LAST-MODIFIED:20250907T173807Z
UID:10008461-1776769200-1776772800@cvparentguide.com
SUMMARY:Conversations with Mom
DESCRIPTION:For mothers with babies 0-6 months old. \nThis free\, ongoing group is an opportunity for moms and their newborns to get together in a relaxed environment to express the joys and concerns of being a new mother. This support group covers a variety of topics\, offering the opportunity to meet new moms in the community\, and provides a place to ask questions and get information.  Meets in Marvin E. Smith Community Room
URL:https://cvparentguide.com/calendar/conversations-with-mom/2026-04-21/
LOCATION:Brimhall Library\, 1401 E. Janss Road\, Thousand Oaks\, CA\, United States
CATEGORIES:Central Valley
END:VEVENT
BEGIN:VEVENT
DTSTART;TZID=America/Los_Angeles:20260421T103000
DTEND;TZID=America/Los_Angeles:20260421T113000
DTSTAMP:20260425T082124
CREATED:20250814T195153Z
LAST-MODIFIED:20250907T174211Z
UID:10008725-1776767400-1776771000@cvparentguide.com
SUMMARY:Get Ready for School Storytime
DESCRIPTION:This storytime focuses on school readiness\, concept learning\, and early literacy skills. It is aimed at ages 3-5 but the whole family is welcome. Join us for stories\, songs\, rhymes\, and fun activities! 
URL:https://cvparentguide.com/calendar/get-ready-for-school-storytime/2026-04-21/
LOCATION:Simi Valley Library\, 2969 Tapo Canyon Rd\, Simi Valley\, CA
CATEGORIES:East Valley
END:VEVENT
BEGIN:VEVENT
DTSTART;TZID=America/Los_Angeles:20260421T103000
DTEND;TZID=America/Los_Angeles:20260421T110000
DTSTAMP:20260425T082124
CREATED:20250814T164201Z
LAST-MODIFIED:20250814T164201Z
UID:10002463-1776767400-1776769200@cvparentguide.com
SUMMARY:Toddler Storytime
DESCRIPTION:Join us for Toddler Storytime\, where little ones ages 1-3 dive into the joy of early literacy! Filled with fun stories\, playful songs and engaging fingerplays\, our sessions spark curiosity and build early reading skills. Caregivers\, come along for tips on boosting your toddler’s language development in a lively\, welcoming space. We can’t wait to see you there—let’s make learning magical together!
URL:https://cvparentguide.com/calendar/toddler-storytime-2/2026-04-21/
LOCATION:Camarillo Library\, 4101 Las Posas Rd\, Camarillo\, CA
CATEGORIES:North Valley
END:VEVENT
BEGIN:VEVENT
DTSTART;TZID=America/Los_Angeles:20260421T101500
DTEND;TZID=America/Los_Angeles:20260421T104500
DTSTAMP:20260425T082124
CREATED:20250813T214602Z
LAST-MODIFIED:20250817T154626Z
UID:10002259-1776766500-1776768300@cvparentguide.com
SUMMARY:Baby Story Time
DESCRIPTION:Baby Storytime In-Person\n\n  \nJoin us at the Grant R. Brimhall Library for 20 minutes of storytelling fun! This is a lapsit storytime for babies 0-12 months. Walk-ins welcome! \nStorytime Guidelines \n\nPlease follow the suggested ages listed for each program.\nWe make every attempt to begin on time. As it can be distracting to participants\, please arrive on time for programs. Doors may be closed and admittance to programs may not be possible after the program is underway (or has started).\nChanging tables are available and located in the public restrooms.\nSnacks should be eaten outside of the storytime room.\nOur number one rule is to have fun\, so if your child is having a bad day (or a bad moment) please step outside the storytime area so that everyone can continue having fun. You may come back into the room when your child is ready.\n\nAll programs are subject to change or cancellation without prior notice.
URL:https://cvparentguide.com/calendar/baby-story-time/2026-04-21/
LOCATION:Brimhall Library\, 1401 E. Janss Road\, Thousand Oaks\, CA\, United States
CATEGORIES:Central Valley,Infant
END:VEVENT
BEGIN:VEVENT
DTSTART;TZID=America/Los_Angeles:20260420T103000
DTEND;TZID=America/Los_Angeles:20260420T113000
DTSTAMP:20260425T082124
CREATED:20250814T185719Z
LAST-MODIFIED:20250814T185719Z
UID:10002681-1776681000-1776684600@cvparentguide.com
SUMMARY:Soliz Storytime & Sensory Play
DESCRIPTION:Join us for Storytime and Sensory Play! \nFirst 5 will be presenting bilingual Storytime on the second Monday of the month.
URL:https://cvparentguide.com/calendar/soliz-storytime-sensory-play/2026-04-20/
LOCATION:Albert H. Soliz Library\, 2820 Jourdan Street\, Oxnard\, CA
CATEGORIES:North Valley
END:VEVENT
BEGIN:VEVENT
DTSTART;TZID=America/Los_Angeles:20260420T103000
DTEND;TZID=America/Los_Angeles:20260420T110000
DTSTAMP:20260425T082124
CREATED:20250814T194457Z
LAST-MODIFIED:20250814T194457Z
UID:10003345-1776681000-1776682800@cvparentguide.com
SUMMARY:Baby Storytime
DESCRIPTION:Moms\, Dads\, and caregivers! Join us in the children’s room for this free baby lapsit program. Read books and sing lap songs every Monday at 10:30 am. This program is designed for children ages 0-12 months\, but everyone is welcome.
URL:https://cvparentguide.com/calendar/baby-storytime/2026-04-20/
LOCATION:Simi Valley Library\, 2969 Tapo Canyon Rd\, Simi Valley\, CA
CATEGORIES:East Valley
END:VEVENT
BEGIN:VEVENT
DTSTART;TZID=America/Los_Angeles:20260419T100000
DTEND;TZID=America/Los_Angeles:20260419T140000
DTSTAMP:20260425T082124
CREATED:20250816T170235Z
LAST-MODIFIED:20250816T170235Z
UID:10006472-1776592800-1776607200@cvparentguide.com
SUMMARY:Westlake Village Farmer's Market
DESCRIPTION:Located in plaża parking lot\, free parking in lot. \n\nInstagram: @thewestlakevillagefm
URL:https://cvparentguide.com/calendar/westlake-village-farmers-market/2026-04-19/
LOCATION:Joi Cafe\, 2797 Agoura Rd\, Westlake Village\, CA
CATEGORIES:Central Valley
END:VEVENT
BEGIN:VEVENT
DTSTART;TZID=America/Los_Angeles:20260418T120000
DTEND;TZID=America/Los_Angeles:20260418T130000
DTSTAMP:20260425T082124
CREATED:20250815T221156Z
LAST-MODIFIED:20250815T221156Z
UID:10004859-1776513600-1776517200@cvparentguide.com
SUMMARY:Story Time at The Open Book
DESCRIPTION:Join us every Saturday at noon for a special storytime for your little ones! Coloring pages provided.
URL:https://cvparentguide.com/calendar/story-time-at-the-open-book/2026-04-18/
LOCATION:Oaks Mall\, 394 W Hillcrest Dr\, Thousand Oaks\, CA
CATEGORIES:Central Valley
END:VEVENT
BEGIN:VEVENT
DTSTART;TZID=America/Los_Angeles:20260418T110000
DTEND;TZID=America/Los_Angeles:20260418T120000
DTSTAMP:20260425T082124
CREATED:20250815T212707Z
LAST-MODIFIED:20250815T212707Z
UID:10004533-1776510000-1776513600@cvparentguide.com
SUMMARY:Weekly Storytime
DESCRIPTION:Join us every Saturday at 11am for a fun reading of Children’s stories.  All ages are welcome!
URL:https://cvparentguide.com/calendar/weekly-storytime/2026-04-18/
LOCATION:Ventura Barnes & Noble\, 4820 Telephone Road\, Ventura\, CA
CATEGORIES:North Valley
END:VEVENT
BEGIN:VEVENT
DTSTART;TZID=America/Los_Angeles:20260418T103000
DTEND;TZID=America/Los_Angeles:20260418T113000
DTSTAMP:20260425T082124
CREATED:20250814T200002Z
LAST-MODIFIED:20250814T200136Z
UID:10003743-1776508200-1776511800@cvparentguide.com
SUMMARY:Family Storytime + Creativity Corner
DESCRIPTION:Bring your family for a storytime that is fun for children of all ages! Listen to stories\, sing songs\, and do fun activities! \nJoin us right after storytime for an activity that will spark your child’s creativity! \n 
URL:https://cvparentguide.com/calendar/family-storytime/2026-04-18/
LOCATION:Simi Valley Library\, 2969 Tapo Canyon Rd\, Simi Valley\, CA
CATEGORIES:East Valley
END:VEVENT
BEGIN:VEVENT
DTSTART;TZID=America/Los_Angeles:20260418T080000
DTEND;TZID=America/Los_Angeles:20260418T130000
DTSTAMP:20260425T082125
CREATED:20250816T171017Z
LAST-MODIFIED:20250816T171017Z
UID:10006733-1776499200-1776517200@cvparentguide.com
SUMMARY:Calabasas Farmer's Market
DESCRIPTION:Weekly Saturday Morning Community Event In The Heart of Old Town Calabasas! Artisan Crafted Goods\, Freshly Prepared Food & Local Produce Await! Come Discover Your Community! Free parking in the dirt lot.
URL:https://cvparentguide.com/calendar/calabasas-farmers-market/2026-04-18/
LOCATION:Old Town Calabasas\, 23504 Calabasas Rd\, Calabasas\, CA
CATEGORIES:South Valley
END:VEVENT
BEGIN:VEVENT
DTSTART;TZID=America/Los_Angeles:20260418T080000
DTEND;TZID=America/Los_Angeles:20260418T120000
DTSTAMP:20260425T082125
CREATED:20250816T165502Z
LAST-MODIFIED:20250816T165502Z
UID:10005950-1776499200-1776513600@cvparentguide.com
SUMMARY:Camarillo Farmer's Market
DESCRIPTION:From produce\, fruit\, and eggs to baked goods\, sausage\, and tamales\, you’ll find delicious fresh food at the Camarillo Market. And because it’s all from local farms\, the variety of goods changes each week through the seasons. You can taste the difference because it all comes straight from the farm to the market\, ripe and ready to enjoy. It is California farm-fresh food from real farmers every Saturday morning at the Camarillo Farmers Market. Our vendors sell a wide selection of the highest quality locally grown produce\, eggs\, cheeses\, bread\, pastries\, woodwork\, metalwork\, jewelry\, clothing\, pottery\, and much more. \nThe market is managed and run by volunteers. Shopping at the Farmers Market provides much-needed funding for the grief & bereavement programs at Livingston’s Grief & Bereavement Center. Annually\, nearly 400 grieving family members—including students—receive individual and family grief and bereavement counseling to help them heal from losing a loved one. All services are provided free of charge because of the Famers Market support.
URL:https://cvparentguide.com/calendar/camarillo-farmers-market/2026-04-18/
LOCATION:Old Town Camarillo
CATEGORIES:North Valley
END:VEVENT
BEGIN:VEVENT
DTSTART;TZID=America/Los_Angeles:20260418T070000
DTEND;TZID=America/Los_Angeles:20260418T100000
DTSTAMP:20260425T082125
CREATED:20250816T155458Z
LAST-MODIFIED:20250818T212604Z
UID:10005097-1776495600-1776506400@cvparentguide.com
SUMMARY:Cars & Coffee
DESCRIPTION:
URL:https://cvparentguide.com/calendar/cars-coffee/2026-04-18/
LOCATION:Oaks Mall\, 394 W Hillcrest Dr\, Thousand Oaks\, CA
CATEGORIES:Central Valley,Family
END:VEVENT
BEGIN:VEVENT
DTSTART;TZID=America/Los_Angeles:20260414T110000
DTEND;TZID=America/Los_Angeles:20260414T160000
DTSTAMP:20260425T082125
CREATED:20250909T211007Z
LAST-MODIFIED:20250909T211007Z
UID:10008796-1776164400-1776182400@cvparentguide.com
SUMMARY:Homeschool Play Days @ Chuck E. Cheese
DESCRIPTION:On the 2nd Tuesday of every month\, join us for Homeschool Play Days! From open – 4pm\, score 90-minutes of All You Can Play games\, a reusable Play Pass card\, unlimited soft drinks\, and all the E-Tickets you can earn on gameplay for just $11.99 per kid. A savings of up to $30 off! \nSimply arrive at your Fun Center and tell a cast member you’re there for Homeschool Play Day to receive this offer.
URL:https://cvparentguide.com/calendar/homeschool-play-days-chuck-e-cheese/2026-04-14/
LOCATION:Chuck E. Cheese TO\, 130 W. Hillcrest Dr.\, Thousand Oaks\, CA
CATEGORIES:Big Kid,Central Valley,Family,North Valley,Tween & Teen
END:VEVENT
BEGIN:VEVENT
DTSTART;TZID=America/Los_Angeles:20260411T080000
DTEND;TZID=America/Los_Angeles:20260411T100000
DTSTAMP:20260425T082125
CREATED:20250816T155955Z
LAST-MODIFIED:20250818T212634Z
UID:10005276-1775894400-1775901600@cvparentguide.com
SUMMARY:County Line Cars & Coffee
DESCRIPTION:A monthly Auto event on 2nd Saturdays from 8am-10am.
URL:https://cvparentguide.com/calendar/county-line-cars-coffee/2026-04-11/
LOCATION:The Promenade\, 140 Promenade Way\, Westlake Village\, CA
CATEGORIES:Central Valley,Family
END:VEVENT
BEGIN:VEVENT
DTSTART;TZID=America/Los_Angeles:20260405T110000
DTEND;TZID=America/Los_Angeles:20260405T210000
DTSTAMP:20260425T082125
CREATED:20250909T210514Z
LAST-MODIFIED:20250909T210609Z
UID:10008780-1775386800-1775422800@cvparentguide.com
SUMMARY:Sensory Sensitive Sundays @ Chuck E. Cheese
DESCRIPTION:Every child deserves a chance to have fun\nAt Chuck E. Cheese Thousand Oaks\, Sensory Sensitive Sundays are special hours designed to provide children with sensory sensitivities and their families a quieter\, more comfortable experience. With dimmed lighting\, reduced noise levels\, and a calm atmosphere\, we’ve made it easier for everyone to enjoy our games\, food\, and activities in a setting that feels just right. \nGame room\nDuring Sensory Sensitive Sundays at Chuck E. Cheese Thousand Oaks\, our game room transforms into a quieter\, more soothing space where children with sensory sensitivities can enjoy all their favorite games without the overwhelming sights and sounds
URL:https://cvparentguide.com/calendar/sensory-sensitive-sundays-chuck-e-cheese/2026-04-05/
LOCATION:Chuck E. Cheese TO\, 130 W. Hillcrest Dr.\, Thousand Oaks\, CA
CATEGORIES:Big Kid,Central Valley,Family,North Valley,Toddler,Tween & Teen
END:VEVENT
BEGIN:VEVENT
DTSTART;TZID=America/Los_Angeles:20260405T100000
DTEND;TZID=America/Los_Angeles:20260405T140000
DTSTAMP:20260425T082125
CREATED:20250825T022835Z
LAST-MODIFIED:20250825T022835Z
UID:10007947-1775383200-1775397600@cvparentguide.com
SUMMARY:Free Family Sunday
DESCRIPTION:Our Chain of Hangars is open for you to explore from 10:00am until 2:00pm. (Except when cancelled for rain.) And it’s all free! \nDon’t forget to pick up a free map from our home museum hangar\, and start your tour. You are free to visit the hangars in any order you wish\, either by walking the airport\, or catching the tram. \nKids (Ages 8-17) Free First Flights through EAA sign up: Young Eagles | EAA Chapter 723 (eaa723.org) Sign-ups are available two weeks prior to the event. Scroll down to find the Santa Paula Young Eagles event.  If you can’t find it\, you can come in and sign up on-site on a first-come\, first-served basis.
URL:https://cvparentguide.com/calendar/free-family-sunday/2026-04-05/
LOCATION:The Aviation Museum of Santa Paula\, 800 E. Santa Maria Street #E\, Santa Paula\, CA
CATEGORIES:Big Kid,East Valley,Family,Toddler,Tween & Teen
END:VEVENT
BEGIN:VEVENT
DTSTART;TZID=America/Los_Angeles:20260404T090000
DTEND;TZID=America/Los_Angeles:20260404T113000
DTSTAMP:20260425T082125
CREATED:20250815T215630Z
LAST-MODIFIED:20250817T154934Z
UID:10004770-1775293200-1775302200@cvparentguide.com
SUMMARY:Home Depot Kids Workshop
DESCRIPTION:The Home Depot Kids Workshops is a free hands-on learning experience that encourages skill-building and creativity in children ages 5-12. Skills such as following step-by-step instructions\, working with hand tools like hammers and screwdrivers\, and painting. The Workshops are hosted by store associates who also serve as Workshop Captains. Children should be accompanied by a parent or guardian to assist them with completing the workshop kit. The time for completing the kits varies but usually takes 30 minutes. Each child can bring home a newly constructed project\, a Kids Workshops apron\, an achievement pin\, and a certificate. These Workshops are held on the first Saturday of each month\, starting at 9am\, while supplies last\, in all stores nationwide. The Home Depot Kids Workshops schedule is available here. Be sure to register to secure your spot. \n\n\nEvery Kids Workshops kit comes with a related STEAM activity to continue learning and playing with your workshop creation in an unexpected new way. Completing these extension activities with your child can help spark their imagination and develop core problem-solving skills. Each extension activity also calls out a related Pro Trades career. Check out Science Fair Central to keep making\, creating and exploring after the workshop. \n 
URL:https://cvparentguide.com/calendar/home-depot-kids-workshop/2026-04-04/
LOCATION:TO Home Depot\, 2745 Teller Rd\, Thousand Oaks\, CA
CATEGORIES:Big Kid,Central Valley,East Valley,North Valley,Toddler
END:VEVENT
BEGIN:VEVENT
DTSTART;TZID=America/Los_Angeles:20260403T140000
DTEND;TZID=America/Los_Angeles:20260403T153000
DTSTAMP:20260425T082125
CREATED:20250904T212702Z
LAST-MODIFIED:20250904T212702Z
UID:10008401-1775224800-1775230200@cvparentguide.com
SUMMARY:Create & Celebrate
DESCRIPTION:Travel the world without leaving the library! Learn about traditions\, holidays\, and art styles while creating something special together. All ages welcome—perfect for curious kids and their grown-ups! \nSeptember 5: Mini Piñatas \nOctober 3: Sugar Skulls \nNovember 7: Dream Catchers
URL:https://cvparentguide.com/calendar/create-celebrate/2026-04-03/
LOCATION:Moorpark Library\, 699 Moorpark Ave\, Moorpark\, CA
CATEGORIES:Big Kid,East Valley,Family,Toddler,Tween & Teen
END:VEVENT
BEGIN:VEVENT
DTSTART;TZID=America/Los_Angeles:20260402T170000
DTEND;TZID=America/Los_Angeles:20260402T210000
DTSTAMP:20260425T082125
CREATED:20250826T174122Z
LAST-MODIFIED:20250826T174122Z
UID:10008016-1775149200-1775163600@cvparentguide.com
SUMMARY:First Thursdays Oxnard
DESCRIPTION:First Thursdays Food Trucks happens monthly at Plaza Park bringing an international menu of savory and sweet selections from the County’s best gourmet trucks. Seating is available or bring you own lawn chair or picnic blanket.
URL:https://cvparentguide.com/calendar/first-thursdays-oxnard/2026-04-02/
LOCATION:Plaza Park\, 500 S C St\, Oxnard\, CA
CATEGORIES:Age,Family,North Valley
END:VEVENT
BEGIN:VEVENT
DTSTART;TZID=America/Los_Angeles:20260329T070000
DTEND;TZID=America/Los_Angeles:20260329T100000
DTSTAMP:20260425T082125
CREATED:20250816T160525Z
LAST-MODIFIED:20250818T212540Z
UID:10005336-1774767600-1774778400@cvparentguide.com
SUMMARY:Cars & Coffee
DESCRIPTION:Cars & Coffee Ventura meets from 7am-10am on the LAST SUNDAY of every month at. Open to everyone!
URL:https://cvparentguide.com/calendar/cars-coffee-3/2026-03-29/
LOCATION:Ventura Cars & Coffee\, 4360 East Main St\, Ventura\, CA
CATEGORIES:Family,North Valley
END:VEVENT
BEGIN:VEVENT
DTSTART;TZID=America/Los_Angeles:20260319T173000
DTEND;TZID=America/Los_Angeles:20260424T220000
DTSTAMP:20260425T082125
CREATED:20250823T154933Z
LAST-MODIFIED:20250823T154933Z
UID:10007668-1773941400-1777068000@cvparentguide.com
SUMMARY:Nights of The Jack
DESCRIPTION:Halloween Magic Awaits! ✨🎃\nExperience an Immersive Halloween Experience filled with:\nStunning professional lighting displays\nSpooky + fun Halloween designs\nAn unbelievable pumpkin carving showcase you won’t forget \n🎟️ Get your tickets now and save 15% with code: CARVE15 (expires 9/7) \nThis is one of the ultimate family Halloween events in Southern California — don’t miss the chance to make memories under the glowing lights of carved pumpkins and seasonal magic. 🍂👨‍👩‍👧‍👦
URL:https://cvparentguide.com/calendar/nights-of-the-jack/2026-03-19/
LOCATION:King Gillette Ranch\, King Gillette Ranch\, Calabasas\, CA
CATEGORIES:Big Kid,Family,South Valley,Toddler,Tween & Teen
END:VEVENT
BEGIN:VEVENT
DTSTART;TZID=America/Los_Angeles:20260103T110000
DTEND;TZID=America/Los_Angeles:20260103T123000
DTSTAMP:20260425T082125
CREATED:20250824T021252Z
LAST-MODIFIED:20250824T021252Z
UID:10007919-1767438000-1767443400@cvparentguide.com
SUMMARY:SMG: Sensory Friendly Movie
DESCRIPTION:Our sensory friendly Special Needs Screenings present movies with the lights up\, the volume low\, and moving around\, talking\, and even dancing in the aisles are welcome. Special Needs Screenings are shown on select Saturdays at 11:00am at all SMG locations unless noted otherwise. Tickets are available at the Box Office only as early as the Wednesday prior to these screenings. Tickets are free tor all attendees and seating is first come\, first served. Parental guidance is suggested.\n\n \n\nOctober 4: Gabby’s Dollhouse\n\n \n\nOctober 18: Tron Ares\n\n \n\nNovember 29: Wicked\n\n \n\nDecember 6: Zootopia 2\n\n \n\nDecember 27: The Spongebob Movie\n\n \n\nJanuary 3: Avatar\n\nMore Info
URL:https://cvparentguide.com/calendar/smg-sensory-friendly-movie/2026-01-03/
LOCATION:Studio Movie Grill\, 1555 Simi Town Center Way\, Simi Valley\, CA
CATEGORIES:Big Kid,East Valley,Family,Toddler,Tween & Teen
END:VEVENT
BEGIN:VEVENT
DTSTART;TZID=America/Los_Angeles:20251229T190000
DTEND;TZID=America/Los_Angeles:20251229T210000
DTSTAMP:20260425T082125
CREATED:20250827T174328Z
LAST-MODIFIED:20250827T174328Z
UID:10008078-1767034800-1767042000@cvparentguide.com
SUMMARY:A MAGICAL CIRQUE CHRISTMAS
DESCRIPTION:A Magical Cirque Christmas is a dazzling holiday variety show that captivates audiences of all ages. Bursting with festive charm\, laugh-out-loud comedy\, and heartwarming magic\, this high-flying spectacle showcases the extraordinary talents of the world’s most elite cirque performers. From gravity-defying acrobatics to jaw-dropping feats of strength and agility\, every act is set to a modern soundtrack of beloved Christmas classics. It’s a spellbinding winter journey through music\, movement\, and holiday joy—perfect for the whole family.
URL:https://cvparentguide.com/calendar/a-magical-cirque-christmas/
LOCATION:Fred Kavli Theatre\, 2100 E. Thousand Oaks Boulevard\, Thousand Oaks\, CA\, United States
CATEGORIES:Big Kid,Central Valley,Family,Toddler,Tween & Teen
END:VEVENT
BEGIN:VEVENT
DTSTART;TZID=America/Los_Angeles:20251220T100000
DTEND;TZID=America/Los_Angeles:20251220T130000
DTSTAMP:20260425T082125
CREATED:20250815T214829Z
LAST-MODIFIED:20250817T154046Z
UID:10004762-1766224800-1766235600@cvparentguide.com
SUMMARY:DIY-U Kids’ Workshops by Lowe’s
DESCRIPTION:Sleigh Ride\nGet ready to sleigh the season with Lowe’s Sleigh Ride Toy workshop! Mini-builders get to build and decorate their own toy complete with reindeer\, sleigh and Santa. This magical project brings holiday cheer while teaching kids basic construction and fine motor skills. A great way to get into the holiday spirit and create a toy they’ll treasure.\n\n\nWorkshops are hosted by our Red Vests from 10:00am – 1:00pm\, MUST REGISTER. \nDon’t Forget! Your confirmation email is your ticket; confirm you have selected the correct store\, date\, time and number of mini-builders. Submitted registrations cannot be edited or undone. We look forward to building with you and your little ones!
URL:https://cvparentguide.com/calendar/diy-u-kids-workshops-by-lowes-3/
LOCATION:Oxnard Lowe’s\, 301 W Gonzales Rd\, Oxnard\, CA
CATEGORIES:Big Kid,Central Valley,East Valley,North Valley,Toddler
END:VEVENT
BEGIN:VEVENT
DTSTART;TZID=America/Los_Angeles:20251211T100000
DTEND;TZID=America/Los_Angeles:20251211T133000
DTSTAMP:20260425T082125
CREATED:20251021T005131Z
LAST-MODIFIED:20251021T005131Z
UID:10010719-1765447200-1765459800@cvparentguide.com
SUMMARY:Kids Cooking Club: Friendsgiving
DESCRIPTION:
URL:https://cvparentguide.com/calendar/kids-cooking-club-friendsgiving/
CATEGORIES:Tween & Teen
END:VEVENT
BEGIN:VEVENT
DTSTART;TZID=America/Los_Angeles:20251208T103000
DTEND;TZID=America/Los_Angeles:20251208T113000
DTSTAMP:20260425T082125
CREATED:20250814T165126Z
LAST-MODIFIED:20250817T154814Z
UID:10002571-1765189800-1765193400@cvparentguide.com
SUMMARY:Sensory Playtime
DESCRIPTION:Sensory Playtime is a welcoming hour of sensory exploration for children (ages 0-4) of all abilities on the second and fourth Monday of each month. While especially beneficial for children on the autism spectrum or those with sensory processing needs\, all children are invited to join. Experience a sensory storytime plus a variety of textures\, colors and sounds in a calm\, safe and inclusive environment. Capacity is limited to 40 people\, and admission is granted on a first come\, first served basis.
URL:https://cvparentguide.com/calendar/sensory-playtime/2025-12-08/
LOCATION:Camarillo Library\, 4101 Las Posas Rd\, Camarillo\, CA
CATEGORIES:Big Kid,North Valley,Toddler
END:VEVENT
END:VCALENDAR