BEGIN:VCALENDAR
VERSION:2.0
PRODID:-//Conejo Valley Parent Guide - ECPv6.15.20//NONSGML v1.0//EN
CALSCALE:GREGORIAN
METHOD:PUBLISH
X-ORIGINAL-URL:https://cvparentguide.com
X-WR-CALDESC:Events for Conejo Valley Parent Guide
REFRESH-INTERVAL;VALUE=DURATION:PT1H
X-Robots-Tag:noindex
X-PUBLISHED-TTL:PT1H
BEGIN:VTIMEZONE
TZID:America/Los_Angeles
BEGIN:DAYLIGHT
TZOFFSETFROM:-0800
TZOFFSETTO:-0700
TZNAME:PDT
DTSTART:20250309T100000
END:DAYLIGHT
BEGIN:STANDARD
TZOFFSETFROM:-0700
TZOFFSETTO:-0800
TZNAME:PST
DTSTART:20251102T090000
END:STANDARD
BEGIN:DAYLIGHT
TZOFFSETFROM:-0800
TZOFFSETTO:-0700
TZNAME:PDT
DTSTART:20260308T100000
END:DAYLIGHT
BEGIN:STANDARD
TZOFFSETFROM:-0700
TZOFFSETTO:-0800
TZNAME:PST
DTSTART:20261101T090000
END:STANDARD
BEGIN:DAYLIGHT
TZOFFSETFROM:-0800
TZOFFSETTO:-0700
TZNAME:PDT
DTSTART:20270314T100000
END:DAYLIGHT
BEGIN:STANDARD
TZOFFSETFROM:-0700
TZOFFSETTO:-0800
TZNAME:PST
DTSTART:20271107T090000
END:STANDARD
END:VTIMEZONE
BEGIN:VEVENT
DTSTART;TZID=America/Los_Angeles:20260607T110000
DTEND;TZID=America/Los_Angeles:20260607T210000
DTSTAMP:20260419T131348
CREATED:20250909T210514Z
LAST-MODIFIED:20250909T210609Z
UID:10008782-1780830000-1780866000@cvparentguide.com
SUMMARY:Sensory Sensitive Sundays @ Chuck E. Cheese
DESCRIPTION:Every child deserves a chance to have fun\nAt Chuck E. Cheese Thousand Oaks\, Sensory Sensitive Sundays are special hours designed to provide children with sensory sensitivities and their families a quieter\, more comfortable experience. With dimmed lighting\, reduced noise levels\, and a calm atmosphere\, we’ve made it easier for everyone to enjoy our games\, food\, and activities in a setting that feels just right. \nGame room\nDuring Sensory Sensitive Sundays at Chuck E. Cheese Thousand Oaks\, our game room transforms into a quieter\, more soothing space where children with sensory sensitivities can enjoy all their favorite games without the overwhelming sights and sounds
URL:https://cvparentguide.com/calendar/sensory-sensitive-sundays-chuck-e-cheese/2026-06-07/
LOCATION:Chuck E. Cheese TO\, 130 W. Hillcrest Dr.\, Thousand Oaks\, CA
CATEGORIES:Big Kid,Central Valley,Family,North Valley,Toddler,Tween & Teen
END:VEVENT
END:VCALENDAR