BEGIN:VCALENDAR
VERSION:2.0
PRODID:-//Conejo Valley Parent Guide - ECPv6.15.20//NONSGML v1.0//EN
CALSCALE:GREGORIAN
METHOD:PUBLISH
X-WR-CALNAME:Conejo Valley Parent Guide
X-ORIGINAL-URL:https://cvparentguide.com
X-WR-CALDESC:Events for Conejo Valley Parent Guide
REFRESH-INTERVAL;VALUE=DURATION:PT1H
X-Robots-Tag:noindex
X-PUBLISHED-TTL:PT1H
BEGIN:VTIMEZONE
TZID:America/Los_Angeles
BEGIN:DAYLIGHT
TZOFFSETFROM:-0800
TZOFFSETTO:-0700
TZNAME:PDT
DTSTART:20250309T100000
END:DAYLIGHT
BEGIN:STANDARD
TZOFFSETFROM:-0700
TZOFFSETTO:-0800
TZNAME:PST
DTSTART:20251102T090000
END:STANDARD
BEGIN:DAYLIGHT
TZOFFSETFROM:-0800
TZOFFSETTO:-0700
TZNAME:PDT
DTSTART:20260308T100000
END:DAYLIGHT
BEGIN:STANDARD
TZOFFSETFROM:-0700
TZOFFSETTO:-0800
TZNAME:PST
DTSTART:20261101T090000
END:STANDARD
BEGIN:DAYLIGHT
TZOFFSETFROM:-0800
TZOFFSETTO:-0700
TZNAME:PDT
DTSTART:20270314T100000
END:DAYLIGHT
BEGIN:STANDARD
TZOFFSETFROM:-0700
TZOFFSETTO:-0800
TZNAME:PST
DTSTART:20271107T090000
END:STANDARD
END:VTIMEZONE
BEGIN:VEVENT
DTSTART;TZID=America/Los_Angeles:20260609T110000
DTEND;TZID=America/Los_Angeles:20260609T123000
DTSTAMP:20260419T221226
CREATED:20250814T190038Z
LAST-MODIFIED:20250814T190038Z
UID:10002760-1781002800-1781008200@cvparentguide.com
SUMMARY:Come and Play
DESCRIPTION:Calling all toddlers\, parents\, and caregivers! Come gather\, meet new friends\, play with our selection of toys\, and find great books to take home. All are welcome!
URL:https://cvparentguide.com/calendar/come-and-play/2026-06-09/
LOCATION:Oak Park Library\, 899 North Kanan Road\, Oak Park\, CA
CATEGORIES:North Valley
END:VEVENT
BEGIN:VEVENT
DTSTART;TZID=America/Los_Angeles:20260609T110000
DTEND;TZID=America/Los_Angeles:20260609T150000
DTSTAMP:20260419T221226
CREATED:20250816T172555Z
LAST-MODIFIED:20250816T172555Z
UID:10007263-1781002800-1781017200@cvparentguide.com
SUMMARY:Simi Valley Farmer's Market
DESCRIPTION:Join us every Tuesday from 11:00 am to 3:00pm for a fresh and vibrant experience at our Farmers’ Market!\n\n\n✨ What to Expect:\n\n\n• 🥦 Fresh and locally sourced produce\n• 🍲 Hot and delicious food options\n• 🛍️ Prepackaged\, healthy snacks\n\n\nEmbrace a healthier lifestyle and support local farmers! Bring your friends\, family\, and coworkers to enjoy the goodness of farm-fresh products.
URL:https://cvparentguide.com/calendar/simi-valley-farmers-market-2/2026-06-09/
LOCATION:Adventist Health\, 3000 Sycamore Drive\, Simi Valley\, CA
CATEGORIES:East Valley
END:VEVENT
BEGIN:VEVENT
DTSTART;TZID=America/Los_Angeles:20260609T110000
DTEND;TZID=America/Los_Angeles:20260609T160000
DTSTAMP:20260419T221226
CREATED:20250909T211007Z
LAST-MODIFIED:20250909T211007Z
UID:10008798-1781002800-1781020800@cvparentguide.com
SUMMARY:Homeschool Play Days @ Chuck E. Cheese
DESCRIPTION:On the 2nd Tuesday of every month\, join us for Homeschool Play Days! From open – 4pm\, score 90-minutes of All You Can Play games\, a reusable Play Pass card\, unlimited soft drinks\, and all the E-Tickets you can earn on gameplay for just $11.99 per kid. A savings of up to $30 off! \nSimply arrive at your Fun Center and tell a cast member you’re there for Homeschool Play Day to receive this offer.
URL:https://cvparentguide.com/calendar/homeschool-play-days-chuck-e-cheese/2026-06-09/
LOCATION:Chuck E. Cheese TO\, 130 W. Hillcrest Dr.\, Thousand Oaks\, CA
CATEGORIES:Big Kid,Central Valley,Family,North Valley,Tween & Teen
END:VEVENT
BEGIN:VEVENT
DTSTART;TZID=America/Los_Angeles:20260609T130000
DTEND;TZID=America/Los_Angeles:20260609T140000
DTSTAMP:20260419T221226
CREATED:20250814T192633Z
LAST-MODIFIED:20250814T192633Z
UID:10003015-1781010000-1781013600@cvparentguide.com
SUMMARY:Little Explorers
DESCRIPTION:Hands-on fun for ages 3 through 7! Each week features playful activities that encourage creativity\, movement\, and discovery. Grown-ups are encouraged to participate. \n\nAugust 19: Art Party\nAugust 26: Goodbye Summer
URL:https://cvparentguide.com/calendar/little-explorers/2026-06-09/
LOCATION:Moorpark Library\, 699 Moorpark Ave\, Moorpark\, CA
CATEGORIES:East Valley
END:VEVENT
BEGIN:VEVENT
DTSTART;TZID=America/Los_Angeles:20260609T160000
DTEND;TZID=America/Los_Angeles:20260609T163000
DTSTAMP:20260419T221226
CREATED:20250814T190843Z
LAST-MODIFIED:20250814T190843Z
UID:10002882-1781020800-1781022600@cvparentguide.com
SUMMARY:Avenue Storytime
DESCRIPTION:Children are welcome to enjoy storytelling\, nursery rhymes\, and finger plays in both English and Spanish. \nThis program is free and suited for children ages 0 – 5
URL:https://cvparentguide.com/calendar/avenue-storytime/2026-06-09/
LOCATION:Avenue Library\, 606 North Ventura Avenue\, Ventura\, CA
CATEGORIES:North Valley
END:VEVENT
BEGIN:VEVENT
DTSTART;TZID=America/Los_Angeles:20260610T090000
DTEND;TZID=America/Los_Angeles:20260610T120000
DTSTAMP:20260419T221226
CREATED:20250816T163548Z
LAST-MODIFIED:20250816T163548Z
UID:10005435-1781082000-1781092800@cvparentguide.com
SUMMARY:Ventura Farmer's Market
DESCRIPTION:Located in the parking lot near Red Robin and California Pizza Kitchen \nEnjoy a wonderful outdoor shopping experience with California farmers bringing you the freshest\, vine and tree ripened fruits and vegetables. Other California agricultural items include: fresh meat products\, herbs\, honey\, eggs\, whole and shelled nuts\, cheese\, olive oil\, fruit juices\, jams\, jellies\, cut flowers and potted plants. Wonderful artisan bakery products\, ethnic foods and tasty hot foods prepared onsite. Ocean fish fresh from the boat is also a real treat offered here. \nThe Midtown Ventura location has been open since 1989 and was the second certified farmers’ market opened in Ventura County and offers access to over 25 California farmers and food vendors each week. \nBring the family and have fun! Sample new and exciting products. Open year-round\, rain or shine. SNAP/EBT customers welcome. Redemption’s authorized at Market Information Booth. \nSorry No Pets! California state health laws restrict all animals from the markets\, except service animals
URL:https://cvparentguide.com/calendar/ventura-farmers-market/2026-06-10/
LOCATION:Pacific View Mall\, 3301-1 E Main St\, Ventura\, CA
CATEGORIES:North Valley
END:VEVENT
BEGIN:VEVENT
DTSTART;TZID=America/Los_Angeles:20260610T100000
DTEND;TZID=America/Los_Angeles:20260610T110000
DTSTAMP:20260419T221226
CREATED:20251005T191304Z
LAST-MODIFIED:20251005T191304Z
UID:10010207-1781085600-1781089200@cvparentguide.com
SUMMARY:Kids Club @ The Lakes
DESCRIPTION:Every Wednesday on The Lawn. \nKids\, parents and caregivers are invited to experience a weekly dose of fun\, featuring live music\, storytelling\, puppet shows and so much more! \n\n\n\n\n10/8: Party Pal Puppets: Puppet Playtime\n\n\n10/22: Baila Baila\n\n\n10/29: Halloween Marionette Puppet Show with Franklin Haynes
URL:https://cvparentguide.com/calendar/kids-club-the-lakes/2026-06-10/
LOCATION:The Lakes at Thousand Oaks\, 2200 E. Thousand Oaks Blvd\, Thousand Oaks\, United States
CATEGORIES:Central Valley,Family,Infant,New Mom,Toddler
END:VEVENT
BEGIN:VEVENT
DTSTART;TZID=America/Los_Angeles:20260610T103000
DTEND;TZID=America/Los_Angeles:20260610T110000
DTSTAMP:20260419T221226
CREATED:20250814T191144Z
LAST-MODIFIED:20250814T191144Z
UID:10002941-1781087400-1781089200@cvparentguide.com
SUMMARY:Hill Road Storytime
DESCRIPTION:Join us every week for stories\, poems\, music\, movement\, & fun!
URL:https://cvparentguide.com/calendar/hill-road-storytime/2026-06-10/
LOCATION:Hill Road Library\, 1070 S. Hill Road\, Ventura\, CA
CATEGORIES:North Valley
END:VEVENT
BEGIN:VEVENT
DTSTART;TZID=America/Los_Angeles:20260610T103000
DTEND;TZID=America/Los_Angeles:20260610T111500
DTSTAMP:20260419T221226
CREATED:20250814T193308Z
LAST-MODIFIED:20250814T193308Z
UID:10003276-1781087400-1781090100@cvparentguide.com
SUMMARY:Sunshine Storytime
DESCRIPTION:A bright beginning to your day with stories\, songs\, and movement for babies\, toddlers\, and preschoolers. Build early literacy skills while having fun together!
URL:https://cvparentguide.com/calendar/sunshine-storytime/2026-06-10/
LOCATION:Moorpark Library\, 699 Moorpark Ave\, Moorpark\, CA
CATEGORIES:East Valley
END:VEVENT
BEGIN:VEVENT
DTSTART;TZID=America/Los_Angeles:20260610T110000
DTEND;TZID=America/Los_Angeles:20260610T120000
DTSTAMP:20260419T221226
CREATED:20250815T210903Z
LAST-MODIFIED:20250815T210903Z
UID:10004015-1781089200-1781092800@cvparentguide.com
SUMMARY:Wednesday Morning Storytime
DESCRIPTION:Join us every Wednesday at 11am for a storytime adventure!
URL:https://cvparentguide.com/calendar/wednesday-morning-storytime/2026-06-10/
LOCATION:TO Barnes & Noble\, 160 S. Westlake Blvd Ste M\, Thousand Oaks\, CA\, United States
CATEGORIES:Central Valley
END:VEVENT
BEGIN:VEVENT
DTSTART;TZID=America/Los_Angeles:20260610T140000
DTEND;TZID=America/Los_Angeles:20260610T150000
DTSTAMP:20260419T221226
CREATED:20250814T163631Z
LAST-MODIFIED:20250814T163631Z
UID:10002332-1781100000-1781103600@cvparentguide.com
SUMMARY:Baby Lapsit Storytime
DESCRIPTION:Baby Lapsit Storytime is a special bonding time designed for infants (0-18 months) and their caregivers. This gentle and engaging program features age-appropriate books\, simple songs\, rhymes and playful movement activities that support early literacy and developmental skills. \nBring a blanket or mat to keep your little one comfy and get ready for some fun and snuggly moments with your baby! \nNo registration required.
URL:https://cvparentguide.com/calendar/baby-lapsit-storytime/2026-06-10/
LOCATION:Camarillo Library\, 4101 Las Posas Rd\, Camarillo\, CA
CATEGORIES:North Valley
END:VEVENT
BEGIN:VEVENT
DTSTART;TZID=America/Los_Angeles:20260613T080000
DTEND;TZID=America/Los_Angeles:20260613T100000
DTSTAMP:20260419T221226
CREATED:20250816T155955Z
LAST-MODIFIED:20250818T212634Z
UID:10005278-1781337600-1781344800@cvparentguide.com
SUMMARY:County Line Cars & Coffee
DESCRIPTION:A monthly Auto event on 2nd Saturdays from 8am-10am.
URL:https://cvparentguide.com/calendar/county-line-cars-coffee/2026-06-13/
LOCATION:The Promenade\, 140 Promenade Way\, Westlake Village\, CA
CATEGORIES:Central Valley,Family
END:VEVENT
BEGIN:VEVENT
DTSTART;TZID=America/Los_Angeles:20260628T070000
DTEND;TZID=America/Los_Angeles:20260628T100000
DTSTAMP:20260419T221226
CREATED:20250816T160525Z
LAST-MODIFIED:20250818T212540Z
UID:10005339-1782630000-1782640800@cvparentguide.com
SUMMARY:Cars & Coffee
DESCRIPTION:Cars & Coffee Ventura meets from 7am-10am on the LAST SUNDAY of every month at. Open to everyone!
URL:https://cvparentguide.com/calendar/cars-coffee-3/2026-06-28/
LOCATION:Ventura Cars & Coffee\, 4360 East Main St\, Ventura\, CA
CATEGORIES:Family,North Valley
END:VEVENT
END:VCALENDAR