BEGIN:VCALENDAR
VERSION:2.0
PRODID:-//Conejo Valley Parent Guide - ECPv6.15.20//NONSGML v1.0//EN
CALSCALE:GREGORIAN
METHOD:PUBLISH
X-ORIGINAL-URL:https://cvparentguide.com
X-WR-CALDESC:Events for Conejo Valley Parent Guide
REFRESH-INTERVAL;VALUE=DURATION:PT1H
X-Robots-Tag:noindex
X-PUBLISHED-TTL:PT1H
BEGIN:VTIMEZONE
TZID:America/Los_Angeles
BEGIN:DAYLIGHT
TZOFFSETFROM:-0800
TZOFFSETTO:-0700
TZNAME:PDT
DTSTART:20250309T100000
END:DAYLIGHT
BEGIN:STANDARD
TZOFFSETFROM:-0700
TZOFFSETTO:-0800
TZNAME:PST
DTSTART:20251102T090000
END:STANDARD
BEGIN:DAYLIGHT
TZOFFSETFROM:-0800
TZOFFSETTO:-0700
TZNAME:PDT
DTSTART:20260308T100000
END:DAYLIGHT
BEGIN:STANDARD
TZOFFSETFROM:-0700
TZOFFSETTO:-0800
TZNAME:PST
DTSTART:20261101T090000
END:STANDARD
BEGIN:DAYLIGHT
TZOFFSETFROM:-0800
TZOFFSETTO:-0700
TZNAME:PDT
DTSTART:20270314T100000
END:DAYLIGHT
BEGIN:STANDARD
TZOFFSETFROM:-0700
TZOFFSETTO:-0800
TZNAME:PST
DTSTART:20271107T090000
END:STANDARD
END:VTIMEZONE
BEGIN:VEVENT
DTSTART;TZID=America/Los_Angeles:20260610T103000
DTEND;TZID=America/Los_Angeles:20260610T111500
DTSTAMP:20260421T195614
CREATED:20250814T193308Z
LAST-MODIFIED:20250814T193308Z
UID:10003276-1781087400-1781090100@cvparentguide.com
SUMMARY:Sunshine Storytime
DESCRIPTION:A bright beginning to your day with stories\, songs\, and movement for babies\, toddlers\, and preschoolers. Build early literacy skills while having fun together!
URL:https://cvparentguide.com/calendar/sunshine-storytime/2026-06-10/
LOCATION:Moorpark Library\, 699 Moorpark Ave\, Moorpark\, CA
CATEGORIES:East Valley
END:VEVENT
BEGIN:VEVENT
DTSTART;TZID=America/Los_Angeles:20260610T110000
DTEND;TZID=America/Los_Angeles:20260610T120000
DTSTAMP:20260421T195614
CREATED:20250815T210903Z
LAST-MODIFIED:20250815T210903Z
UID:10004015-1781089200-1781092800@cvparentguide.com
SUMMARY:Wednesday Morning Storytime
DESCRIPTION:Join us every Wednesday at 11am for a storytime adventure!
URL:https://cvparentguide.com/calendar/wednesday-morning-storytime/2026-06-10/
LOCATION:TO Barnes & Noble\, 160 S. Westlake Blvd Ste M\, Thousand Oaks\, CA\, United States
CATEGORIES:Central Valley
END:VEVENT
BEGIN:VEVENT
DTSTART;TZID=America/Los_Angeles:20260610T140000
DTEND;TZID=America/Los_Angeles:20260610T150000
DTSTAMP:20260421T195614
CREATED:20250814T163631Z
LAST-MODIFIED:20250814T163631Z
UID:10002332-1781100000-1781103600@cvparentguide.com
SUMMARY:Baby Lapsit Storytime
DESCRIPTION:Baby Lapsit Storytime is a special bonding time designed for infants (0-18 months) and their caregivers. This gentle and engaging program features age-appropriate books\, simple songs\, rhymes and playful movement activities that support early literacy and developmental skills. \nBring a blanket or mat to keep your little one comfy and get ready for some fun and snuggly moments with your baby! \nNo registration required.
URL:https://cvparentguide.com/calendar/baby-lapsit-storytime/2026-06-10/
LOCATION:Camarillo Library\, 4101 Las Posas Rd\, Camarillo\, CA
CATEGORIES:North Valley
END:VEVENT
BEGIN:VEVENT
DTSTART;TZID=America/Los_Angeles:20260611T090000
DTEND;TZID=America/Los_Angeles:20260611T133000
DTSTAMP:20260421T195614
CREATED:20250816T164900Z
LAST-MODIFIED:20250816T164900Z
UID:10005696-1781168400-1781184600@cvparentguide.com
SUMMARY:Oxnard Farmer's Market
DESCRIPTION:The Downtown Oxnard Certified Farmers’ Market is a free open-air community market located in the beautiful Plaza Park at 5th & B Streets in Oxnard\, CA. Open year-round\, the market offers an enormous variety of the freshest local fruits and produce available as well as freshly prepared items such bread\, dried fruits\, nuts\, and more. \nTables and chairs are provided for guests to relax in the park\, eat\, listen to live music performances by local entertainers and bring the kids to enjoy the fresh air and activities. Every Thursday all guests are welcome to participate in the free noon-time raffle.
URL:https://cvparentguide.com/calendar/oxnard-farmers-market/2026-06-11/
LOCATION:Plaza Park\, 500 S C St\, Oxnard\, CA
CATEGORIES:North Valley
END:VEVENT
BEGIN:VEVENT
DTSTART;TZID=America/Los_Angeles:20260611T100000
DTEND;TZID=America/Los_Angeles:20260611T110000
DTSTAMP:20260421T195614
CREATED:20250814T190419Z
LAST-MODIFIED:20250814T190419Z
UID:10002823-1781172000-1781175600@cvparentguide.com
SUMMARY:Saticoy Storytime Space
DESCRIPTION:Join us every week at our early literacy storytime for stories\, music and movement. For children ages 0-5 and their parent or caregiver.
URL:https://cvparentguide.com/calendar/saticoy-storytime-space/2026-06-11/
LOCATION:Saticoy Library\, 1292 Los Angeles Avenue\, Ventura\, CA
CATEGORIES:North Valley
END:VEVENT
BEGIN:VEVENT
DTSTART;TZID=America/Los_Angeles:20260611T103000
DTEND;TZID=America/Los_Angeles:20260611T110000
DTSTAMP:20260421T195614
CREATED:20250814T164430Z
LAST-MODIFIED:20250814T164430Z
UID:10002541-1781173800-1781175600@cvparentguide.com
SUMMARY:Preschool Storytime
DESCRIPTION:Listen\, move\, play and sing along! Our storytimes are full of engaging stories\, fingerplays and songs for preschool children ages 3-5\, along with early literacy tips for caregivers.
URL:https://cvparentguide.com/calendar/preschool-storytime-2/2026-06-11/
LOCATION:Camarillo Library\, 4101 Las Posas Rd\, Camarillo\, CA
CATEGORIES:North Valley
END:VEVENT
BEGIN:VEVENT
DTSTART;TZID=America/Los_Angeles:20260611T103000
DTEND;TZID=America/Los_Angeles:20260611T110000
DTSTAMP:20260421T195614
CREATED:20250904T205927Z
LAST-MODIFIED:20250904T205927Z
UID:10008316-1781173800-1781175600@cvparentguide.com
SUMMARY:Infant Fall Pumpkin Patch Story Time
DESCRIPTION:Pumpkin Patch Story Time is a program offered by the Calabasas Public Library. \nThe Children’s Librarian reads\, sings and entertains children during the story time. \nFall Pumpkin Patch Story Time\nThursday\, September 11th through October 16th. \nLap Sit ages up to 24 months –  10:30 a.m. \nToddler ages 2 to 4 years – 11:00 a.m. \nStory times will be held in the Multi-Purpose Room. \nGo to the front of the library and follow signs.
URL:https://cvparentguide.com/calendar/infant-fall-pumpkin-patch-story-time/2026-06-11/
LOCATION:Calabasas Public Library\, 200 Civic Center Way\, Calabasas\, CA
CATEGORIES:Infant,New Mom,South Valley,Toddler
END:VEVENT
BEGIN:VEVENT
DTSTART;TZID=America/Los_Angeles:20260611T103000
DTEND;TZID=America/Los_Angeles:20260611T111500
DTSTAMP:20260421T195614
CREATED:20250814T195722Z
LAST-MODIFIED:20250814T195722Z
UID:10003491-1781173800-1781176500@cvparentguide.com
SUMMARY:Tiny Tots Storytime
DESCRIPTION:Bring your toddlers to our weekly storytime in the Children’s Area for stories\, songs\, and playtime! This program is designed for children ages 1-3\, but everyone is welcome!
URL:https://cvparentguide.com/calendar/tiny-tots-storytime/2026-06-11/
LOCATION:Simi Valley Library\, 2969 Tapo Canyon Rd\, Simi Valley\, CA
CATEGORIES:East Valley
END:VEVENT
BEGIN:VEVENT
DTSTART;TZID=America/Los_Angeles:20260611T110000
DTEND;TZID=America/Los_Angeles:20260611T160000
DTSTAMP:20260421T195614
CREATED:20250816T165638Z
LAST-MODIFIED:20250816T165638Z
UID:10006218-1781175600-1781193600@cvparentguide.com
SUMMARY:Thousand Oaks Farmer's Market
DESCRIPTION:Since 1991\, Conejo Valley residents wanting the freshest in California produce have been shopping at our Thousand Oaks location. It’s a great place for the whole family to discover new tastes! Enjoy a wonderful outdoor shopping experience with California farmers bringing you the freshest\, vine and tree ripened fruits and vegetables. Other California agricultural items include fresh meat products\, herbs\, honey\, eggs\, whole and shelled nuts\, fruit juices\, jams\, jellies\, cut flowers\, potted plants\, and wine.
URL:https://cvparentguide.com/calendar/thousand-oaks-farmers-market/2026-06-11/
LOCATION:Oaks Mall\, 394 W Hillcrest Dr\, Thousand Oaks\, CA
CATEGORIES:Central Valley
END:VEVENT
BEGIN:VEVENT
DTSTART;TZID=America/Los_Angeles:20260611T113000
DTEND;TZID=America/Los_Angeles:20260611T130000
DTSTAMP:20260421T195614
CREATED:20250814T185402Z
LAST-MODIFIED:20250814T185402Z
UID:10002626-1781177400-1781182800@cvparentguide.com
SUMMARY:Oak Park Toddler Play
DESCRIPTION:Come stay and play with us after our Storytime every Thursday from 11:30am to 1pm! All are welcome.
URL:https://cvparentguide.com/calendar/oak-park-toddler-play/2026-06-11/
LOCATION:Oak Park Library\, 899 North Kanan Road\, Oak Park\, CA
CATEGORIES:South Valley
END:VEVENT
BEGIN:VEVENT
DTSTART;TZID=America/Los_Angeles:20260613T080000
DTEND;TZID=America/Los_Angeles:20260613T100000
DTSTAMP:20260421T195614
CREATED:20250816T155955Z
LAST-MODIFIED:20250818T212634Z
UID:10005278-1781337600-1781344800@cvparentguide.com
SUMMARY:County Line Cars & Coffee
DESCRIPTION:A monthly Auto event on 2nd Saturdays from 8am-10am.
URL:https://cvparentguide.com/calendar/county-line-cars-coffee/2026-06-13/
LOCATION:The Promenade\, 140 Promenade Way\, Westlake Village\, CA
CATEGORIES:Central Valley,Family
END:VEVENT
BEGIN:VEVENT
DTSTART;TZID=America/Los_Angeles:20260628T070000
DTEND;TZID=America/Los_Angeles:20260628T100000
DTSTAMP:20260421T195614
CREATED:20250816T160525Z
LAST-MODIFIED:20250818T212540Z
UID:10005339-1782630000-1782640800@cvparentguide.com
SUMMARY:Cars & Coffee
DESCRIPTION:Cars & Coffee Ventura meets from 7am-10am on the LAST SUNDAY of every month at. Open to everyone!
URL:https://cvparentguide.com/calendar/cars-coffee-3/2026-06-28/
LOCATION:Ventura Cars & Coffee\, 4360 East Main St\, Ventura\, CA
CATEGORIES:Family,North Valley
END:VEVENT
BEGIN:VEVENT
DTSTART;TZID=America/Los_Angeles:20260702T170000
DTEND;TZID=America/Los_Angeles:20260702T210000
DTSTAMP:20260421T195614
CREATED:20250826T174122Z
LAST-MODIFIED:20250826T174122Z
UID:10008019-1783011600-1783026000@cvparentguide.com
SUMMARY:First Thursdays Oxnard
DESCRIPTION:First Thursdays Food Trucks happens monthly at Plaza Park bringing an international menu of savory and sweet selections from the County’s best gourmet trucks. Seating is available or bring you own lawn chair or picnic blanket.
URL:https://cvparentguide.com/calendar/first-thursdays-oxnard/2026-07-02/
LOCATION:Plaza Park\, 500 S C St\, Oxnard\, CA
CATEGORIES:Age,Family,North Valley
END:VEVENT
END:VCALENDAR