BEGIN:VCALENDAR
VERSION:2.0
PRODID:-//Conejo Valley Parent Guide - ECPv6.15.20//NONSGML v1.0//EN
CALSCALE:GREGORIAN
METHOD:PUBLISH
X-ORIGINAL-URL:https://cvparentguide.com
X-WR-CALDESC:Events for Conejo Valley Parent Guide
REFRESH-INTERVAL;VALUE=DURATION:PT1H
X-Robots-Tag:noindex
X-PUBLISHED-TTL:PT1H
BEGIN:VTIMEZONE
TZID:America/Los_Angeles
BEGIN:DAYLIGHT
TZOFFSETFROM:-0800
TZOFFSETTO:-0700
TZNAME:PDT
DTSTART:20240310T100000
END:DAYLIGHT
BEGIN:STANDARD
TZOFFSETFROM:-0700
TZOFFSETTO:-0800
TZNAME:PST
DTSTART:20241103T090000
END:STANDARD
BEGIN:DAYLIGHT
TZOFFSETFROM:-0800
TZOFFSETTO:-0700
TZNAME:PDT
DTSTART:20250309T100000
END:DAYLIGHT
BEGIN:STANDARD
TZOFFSETFROM:-0700
TZOFFSETTO:-0800
TZNAME:PST
DTSTART:20251102T090000
END:STANDARD
BEGIN:DAYLIGHT
TZOFFSETFROM:-0800
TZOFFSETTO:-0700
TZNAME:PDT
DTSTART:20260308T100000
END:DAYLIGHT
BEGIN:STANDARD
TZOFFSETFROM:-0700
TZOFFSETTO:-0800
TZNAME:PST
DTSTART:20261101T090000
END:STANDARD
BEGIN:DAYLIGHT
TZOFFSETFROM:-0800
TZOFFSETTO:-0700
TZNAME:PDT
DTSTART:20270314T100000
END:DAYLIGHT
BEGIN:STANDARD
TZOFFSETFROM:-0700
TZOFFSETTO:-0800
TZNAME:PST
DTSTART:20271107T090000
END:STANDARD
END:VTIMEZONE
BEGIN:VEVENT
DTSTART;TZID=America/Los_Angeles:20250829T183000
DTEND;TZID=America/Los_Angeles:20250829T200000
DTSTAMP:20260423T025719
CREATED:20250823T160627Z
LAST-MODIFIED:20250823T160627Z
UID:10007898-1756492200-1756497600@cvparentguide.com
SUMMARY:Family Paint Night
DESCRIPTION:Join us at the studio this month for Family Paint Night! Paint a masterpiece of your own on wood panel– fun for all ages to do! \nRegister online today! Click the link in our bio to visit arttrek.org/fampaint 🌴 \nFamily Paint Night\nFriday\, August 29th\n6:30-8:00 PM\n$15 PP\nAll ages!\nRegister online at arttrek.org/fampaint
URL:https://cvparentguide.com/calendar/family-paint-night/
LOCATION:Art Trek\, 1144 Tourmaline Dr\, Newbury Park\, CA
CATEGORIES:Big Kid,Central Valley,Family,Toddler,Tween & Teen
END:VEVENT
BEGIN:VEVENT
DTSTART;TZID=America/Los_Angeles:20250905T180000
DTEND;TZID=America/Los_Angeles:20250905T200000
DTSTAMP:20260423T025719
CREATED:20250823T161401Z
LAST-MODIFIED:20250823T161401Z
UID:10007901-1757095200-1757102400@cvparentguide.com
SUMMARY:Autumn Paint & Sip
DESCRIPTION:Paint Night is Back! 🎨 🍂\nFriday September 5th at LuckyDogCoffee\n6-8pm\n$40/painter\nAll ages welcome! \n🥐 ☕️ 🍷\nfood and drinks available for purchase
URL:https://cvparentguide.com/calendar/autumn-paint-sip/
LOCATION:Lucky Dog Cafe\, 2139 Tapo St #113\, Simi Valley\, CA
CATEGORIES:Big Kid,East Valley,Family,Tween & Teen
END:VEVENT
BEGIN:VEVENT
DTSTART;TZID=America/Los_Angeles:20250906T100000
DTEND;TZID=America/Los_Angeles:20250906T160000
DTSTAMP:20260423T025719
CREATED:20250826T173913Z
LAST-MODIFIED:20250826T173913Z
UID:10008008-1757152800-1757174400@cvparentguide.com
SUMMARY:Art Walk
DESCRIPTION:This event is by the people for the people of Oxnard!\n.\nOxnard is overflowing with talent- let’s show it off!\n.\n❤️Saturday September 6th 10:00 am to 4:00 pm\n.\nLet’s turn the streets into a gallery\, and show the talent of 805.
URL:https://cvparentguide.com/calendar/art-walk/
LOCATION:Downtown Oxnard\, 519 South C Street\, Oxnard\, CA
CATEGORIES:Big Kid,Family,Infant,New Mom,North Valley,Toddler,Tween & Teen
END:VEVENT
BEGIN:VEVENT
DTSTART;TZID=America/Los_Angeles:20250907T120000
DTEND;TZID=America/Los_Angeles:20250907T150000
DTSTAMP:20260423T025719
CREATED:20250825T021247Z
LAST-MODIFIED:20250825T021247Z
UID:10007935-1757246400-1757257200@cvparentguide.com
SUMMARY:Free Family Day: Indigenous Arts and Culture
DESCRIPTION:Join us for Free Family Day inside SPAM’s Cole Creativity Center on Our September event invites families to explore the rich traditions\, stories\, and artistic expressions of Indigenous cultures through hands-on art activities designed for all ages. Guests will learn about Indigenous materials\, symbols\, and techniques while creating their own inspired artworks. Admission is free\, all are welcome\, and all materials are provided. \nAt 1 PM\, Tonetta Lone Elk\, a Northern Cheyenne Native American and Ventura County educator\, will lead a book reading and hands-on activity that explores pictographs and the visual storytelling traditions of her ancestors.
URL:https://cvparentguide.com/calendar/free-family-day-indigenous-arts-and-culture/
LOCATION:Santa Paula Art Museum\, 117 N 10th St\, Santa Paula\, CA
CATEGORIES:Big Kid,East Valley,Family,Toddler,Tween & Teen
END:VEVENT
BEGIN:VEVENT
DTSTART;TZID=America/Los_Angeles:20250913T100000
DTEND;TZID=America/Los_Angeles:20250913T150000
DTSTAMP:20260423T025719
CREATED:20250826T180145Z
LAST-MODIFIED:20250826T180145Z
UID:10008071-1757757600-1757775600@cvparentguide.com
SUMMARY:Market by the Sea
DESCRIPTION:🧡Makers Market\n🥤Delicious Food & Drinks\n🎶Live Music\n🖌️Face Painting\n🍪Sweet Treats\n⛓️‍💥Permanent Jewelry\n🎨Arts & Crafts\n👗Clothing & Accessories\n🧼Bath\, Body\, and Beauty\n🛍️Raffle Prizes & more
URL:https://cvparentguide.com/calendar/market-by-the-sea/
LOCATION:Portside Ventura\, 1196 Portside Dr\, Ventura\, CA
CATEGORIES:Big Kid,Family,Infant,North Valley,Toddler,Tween & Teen
END:VEVENT
BEGIN:VEVENT
DTSTART;TZID=America/Los_Angeles:20250914T080000
DTEND;TZID=America/Los_Angeles:20250914T160000
DTSTAMP:20260423T025719
CREATED:20250909T200441Z
LAST-MODIFIED:20250909T200846Z
UID:10008769-1757836800-1757865600@cvparentguide.com
SUMMARY:Ventura Harvest Festival
DESCRIPTION:Family-owned and operated\, we take pride in upholding the tradition of excellence that has been enjoyed for over 50 years. Shop a vast collection of local makers and small business owners all in one place! Community driven and artisan inspired\, it’s truly a unique experience. With hundreds of handcrafted and mindfully curated art & crafts featuring photography\, fine jewelry\, specialty food\, blown glass\, wood art\, metalwork\, vintage wares and more. Three days for the price of one ticket – you won’t find a better bargain! \nAdmission:\n$9 General\n$7 Senior and Military\n$4 Youth\n12 and under FREE\nAvailable to purchase online and at the gate \nParking:\n$10 \nWebsite
URL:https://cvparentguide.com/calendar/ventura-harvest-festival/2025-09-14/
LOCATION:Ventura Fair Grounds\, 10 West Harbor Boulevard\, Ventura\, CA
CATEGORIES:Big Kid,Family,Infant,New Mom,North Valley,Toddler,Tween & Teen
END:VEVENT
BEGIN:VEVENT
DTSTART;TZID=America/Los_Angeles:20250914T120000
DTEND;TZID=America/Los_Angeles:20250914T140000
DTSTAMP:20260423T025719
CREATED:20250825T020436Z
LAST-MODIFIED:20250825T020955Z
UID:10007933-1757851200-1757858400@cvparentguide.com
SUMMARY:Kids' Clay & Cookies: Polymer
DESCRIPTION:It’s sculpting time at SPAM’s Cole Creativity Center! In Kids’ Clay & Cookies: Polymer\, young artists (ages 9 and up) will join teaching artist Haya Cuzick for a fun\, hands-on class where they’ll create their very own adorable polymer creation. We’ll fuel the creativity with sweet treats (cookies\, of course!) and provide all the supplies your kiddo needs to bring their creation to life. Best part? We fire the polymer clay during class to harden their sculptures\, so everyone gets to take their masterpiece home the very same day. \nParents are welcome to drop off\, or stay and sculpt alongside your child (just be sure to reserve an extra spot for yourself). \n. Preregistration is required.
URL:https://cvparentguide.com/calendar/kids-clay-cookies-polymer/
LOCATION:Santa Paula Art Museum\, 117 N 10th St\, Santa Paula\, CA
CATEGORIES:Big Kid,East Valley,Tween & Teen
END:VEVENT
BEGIN:VEVENT
DTSTART;TZID=America/Los_Angeles:20250914T150000
DTEND;TZID=America/Los_Angeles:20250914T170000
DTSTAMP:20260423T025719
CREATED:20250825T020919Z
LAST-MODIFIED:20250825T020919Z
UID:10007934-1757862000-1757869200@cvparentguide.com
SUMMARY:Kids' Paint & Sip: Bears and Boba
DESCRIPTION:Get ready for a beary fun afternoon at SPAM’s Cole Creativity Center! In Kids’ Paint and Sip: Bears and Boba\, young artists (ages 7+) will join teaching artist Haya Cuzick for a playful\, step-by-step painting adventure\, creating their own bright and cheerful bear-themed masterpiece with acrylics. Between brushstrokes\, they’ll sip on cool\, refreshing boba to keep the creativity flowing. \nParents can drop off\, or grab a brush and join the fun (just be sure to reserve your own spot). All art supplies (and boba!) are included. \nBeginners are welcome and all materials are provided. Preregistration is required.
URL:https://cvparentguide.com/calendar/kids-paint-sip-bears-and-boba/
LOCATION:Santa Paula Art Museum\, 117 N 10th St\, Santa Paula\, CA
CATEGORIES:Big Kid,East Valley,Tween & Teen
END:VEVENT
BEGIN:VEVENT
DTSTART;TZID=America/Los_Angeles:20250918T180000
DTEND;TZID=America/Los_Angeles:20250918T200000
DTSTAMP:20260423T025719
CREATED:20250823T162428Z
LAST-MODIFIED:20250823T162428Z
UID:10007904-1758218400-1758225600@cvparentguide.com
SUMMARY:Autumn Paint & Sip
DESCRIPTION:Out first Autumn paint night\nJoin us in starting off the season with this fun fall design. All ages welcome. Text for sign up. Spots will fill up fast
URL:https://cvparentguide.com/calendar/autumn-paint-sip-2/
LOCATION:Chuy’s Simi\, 1397 E Los Angeles Ave\, Simi Valley\, CA
CATEGORIES:Big Kid,East Valley,Family,Tween & Teen
END:VEVENT
BEGIN:VEVENT
DTSTART;TZID=America/Los_Angeles:20251005T120000
DTEND;TZID=America/Los_Angeles:20251005T150000
DTSTAMP:20260423T025719
CREATED:20250825T021459Z
LAST-MODIFIED:20250825T021459Z
UID:10007936-1759665600-1759676400@cvparentguide.com
SUMMARY:Free Family Day: Happy Halloween
DESCRIPTION:Join us for Free Family Day inside SPAM’s Cole Creativity Center. Our October event invites families to get into the Halloween spirit through scary fun art projects\, including skeleton window hangings\, painted mini-pumpkins\, and more. Admission is free\, all are welcome\, and all materials are provided.
URL:https://cvparentguide.com/calendar/free-family-day-happy-halloween/
LOCATION:Santa Paula Art Museum\, 117 N 10th St\, Santa Paula\, CA
CATEGORIES:Big Kid,East Valley,Family,Infant,New Mom,Toddler,Tween & Teen
END:VEVENT
BEGIN:VEVENT
DTSTART;TZID=America/Los_Angeles:20251009T180000
DTEND;TZID=America/Los_Angeles:20251009T200000
DTSTAMP:20260423T025719
CREATED:20250823T161900Z
LAST-MODIFIED:20250823T161900Z
UID:10007903-1760032800-1760040000@cvparentguide.com
SUMMARY:Ghost Paint & Sip
DESCRIPTION:Check out our Halloween themed Ghost paint & Sip. All ages welcome. Text for sign ups! Spots will go fast!
URL:https://cvparentguide.com/calendar/ghost-paint-sip/
LOCATION:Chuy’s Simi\, 1397 E Los Angeles Ave\, Simi Valley\, CA
CATEGORIES:Big Kid,East Valley,Family,Tween & Teen
END:VEVENT
BEGIN:VEVENT
DTSTART;TZID=America/Los_Angeles:20251017T180000
DTEND;TZID=America/Los_Angeles:20251017T200000
DTSTAMP:20260423T025719
CREATED:20250823T161627Z
LAST-MODIFIED:20250823T161627Z
UID:10007902-1760724000-1760731200@cvparentguide.com
SUMMARY:Jack & Sally Paint Night
DESCRIPTION:This is Halloween paint night! Spots will go fast. All ages welcome text for sign ups!
URL:https://cvparentguide.com/calendar/jack-sally-paint-night/
LOCATION:FunBurger\, 2490 Sycamore Dr Suite C\, Simi Valley\, CA
CATEGORIES:Big Kid,East Valley,Family,Tween & Teen
END:VEVENT
BEGIN:VEVENT
DTSTART;TZID=America/Los_Angeles:20251024T180000
DTEND;TZID=America/Los_Angeles:20251024T200000
DTSTAMP:20260423T025719
CREATED:20250823T152244Z
LAST-MODIFIED:20250823T152244Z
UID:10007491-1761328800-1761336000@cvparentguide.com
SUMMARY:OOGIE BOOGIE PAINT NIGHT!
DESCRIPTION:🐾 🎨\nJOIN US FOR A UV/ BLACK LIGHT OOGIE\nBOOGIE PAINT NIGHT! \n🖌️STEP- BY-STEP INSTRUCTION AND ALL AGES WELCOME.\nBLACK LIGHT ATTIRE ENCOURAGED.\nTHIS WILL SELL OUT SO RSVP TO SAVE YOUR SPOT!\n📱 RSVP KATIE 805-868-9735
URL:https://cvparentguide.com/calendar/oogie-boogie-paint-night/
LOCATION:Lucky Dog Cafe\, 2139 Tapo St #113\, Simi Valley\, CA
CATEGORIES:Big Kid,East Valley,Family,Tween & Teen
END:VEVENT
BEGIN:VEVENT
DTSTART;TZID=America/Los_Angeles:20251024T183000
DTEND;TZID=America/Los_Angeles:20251024T200000
DTSTAMP:20260423T025719
CREATED:20251010T013909Z
LAST-MODIFIED:20251010T013909Z
UID:10010706-1761330600-1761336000@cvparentguide.com
SUMMARY:Family Paint Night
DESCRIPTION:Gather at the studio with friends and family for this month’s Family Paint Night! Paint scarecrows in a pumpkin patch– fun for all ages to do! \nRegister online today!
URL:https://cvparentguide.com/calendar/family-paint-night-2/
LOCATION:Art Trek\, 1144 Tourmaline Dr\, Newbury Park\, CA
CATEGORIES:Central Valley,Family
END:VEVENT
BEGIN:VEVENT
DTSTART;TZID=America/Los_Angeles:20251026T100000
DTEND;TZID=America/Los_Angeles:20251026T103000
DTSTAMP:20260423T025719
CREATED:20251010T011349Z
LAST-MODIFIED:20251010T011349Z
UID:10010699-1761472800-1761474600@cvparentguide.com
SUMMARY:Little Pumpkins Art in the Park
DESCRIPTION:Join us for a special morning\, October 26th\, just for our tiniest artists 👶✨\nLittle Pumpkins Art in the Park is a cozy\, keepsake-making event for parents & babies (newborn–1 year). \n✨ Space is limited + registration closes October 15th!\n📩 Sign up today through the link in bio. \nLet’s make memories together! 🎃🍂
URL:https://cvparentguide.com/calendar/little-pumpkins-art-in-the-park/
LOCATION:CA
CATEGORIES:Central Valley,Infant,New Mom,Toddler
END:VEVENT
BEGIN:VEVENT
DTSTART;TZID=America/Los_Angeles:20251102T110000
DTEND;TZID=America/Los_Angeles:20251102T170000
DTSTAMP:20260423T025719
CREATED:20250825T022256Z
LAST-MODIFIED:20250825T022256Z
UID:10007939-1762081200-1762102800@cvparentguide.com
SUMMARY:Dia de Los Muertos Celebration
DESCRIPTION:Join us for a day of festivities and cultural celebration with family and friends. Activities include free Face Painting\, Sugar Skull Decorating\, Crafts\, Aztec Dancers\, Folklorico Dancers\, Mariachi\, and more. Create an Ofrenda on a loved one’s grave or share their life story on our community Ofrenda. Catholic Mass will be celebrated at 1:00pm with Father Thomas Dome with the blessing of your loved one’s grave to follow. Costume attire welcome.
URL:https://cvparentguide.com/calendar/dia-de-los-muertos-celebration/
LOCATION:Pierce Brothers Santa Paula Cemetery\, 380 Cemetery Rd\, Santa Paula\, CA
CATEGORIES:Big Kid,East Valley,Family,Infant,New Mom,Toddler,Tween & Teen
END:VEVENT
BEGIN:VEVENT
DTSTART;TZID=America/Los_Angeles:20251102T120000
DTEND;TZID=America/Los_Angeles:20251102T150000
DTSTAMP:20260423T025719
CREATED:20250825T021801Z
LAST-MODIFIED:20250825T021801Z
UID:10007937-1762084800-1762095600@cvparentguide.com
SUMMARY:Free Family Day: Día de los Muertos
DESCRIPTION:Guests of all ages are invited to celebrate Día de los Muertos at three locations in downtown Santa Paula on Sunday\, November 2\, 2025! This free\, family-friendly community celebration at the Santa Paula Art Museum\,  offers traditional craft-making activities\, music\, altar installations\, face painting\, and more. Día de los Muertos attire is encouraged! Admission and activities are free for everyone.
URL:https://cvparentguide.com/calendar/free-family-day-dia-de-los-muertos/
LOCATION:Santa Paula Art Museum\, 117 N 10th St\, Santa Paula\, CA
CATEGORIES:Big Kid,Family,Infant,New Mom,Toddler,Tween & Teen
END:VEVENT
BEGIN:VEVENT
DTSTART;TZID=America/Los_Angeles:20251207T120000
DTEND;TZID=America/Los_Angeles:20251207T150000
DTSTAMP:20260423T025719
CREATED:20250825T022022Z
LAST-MODIFIED:20250825T022022Z
UID:10007938-1765108800-1765119600@cvparentguide.com
SUMMARY:Free Family Day: Happy Holidays
DESCRIPTION:Join us for Free Family Day inside SPAM’s Cole Creativity Center. Our December events invites families to celebrate the magic of the season with winter- and holiday-themed art activities. Admission is free\, all are welcome\, and all materials are provided.
URL:https://cvparentguide.com/calendar/free-family-day-happy-holidays/
LOCATION:Santa Paula Art Museum\, 117 N 10th St\, Santa Paula\, CA
CATEGORIES:Big Kid,East Valley,Family,Toddler,Tween & Teen
END:VEVENT
BEGIN:VEVENT
DTSTART;TZID=America/Los_Angeles:20260403T140000
DTEND;TZID=America/Los_Angeles:20260403T153000
DTSTAMP:20260423T025719
CREATED:20250904T212702Z
LAST-MODIFIED:20250904T212702Z
UID:10008401-1775224800-1775230200@cvparentguide.com
SUMMARY:Create & Celebrate
DESCRIPTION:Travel the world without leaving the library! Learn about traditions\, holidays\, and art styles while creating something special together. All ages welcome—perfect for curious kids and their grown-ups! \nSeptember 5: Mini Piñatas \nOctober 3: Sugar Skulls \nNovember 7: Dream Catchers
URL:https://cvparentguide.com/calendar/create-celebrate/2026-04-03/
LOCATION:Moorpark Library\, 699 Moorpark Ave\, Moorpark\, CA
CATEGORIES:Big Kid,East Valley,Family,Toddler,Tween & Teen
END:VEVENT
END:VCALENDAR