BEGIN:VCALENDAR
VERSION:2.0
PRODID:-//Conejo Valley Parent Guide - ECPv6.15.20//NONSGML v1.0//EN
CALSCALE:GREGORIAN
METHOD:PUBLISH
X-ORIGINAL-URL:https://cvparentguide.com
X-WR-CALDESC:Events for Conejo Valley Parent Guide
REFRESH-INTERVAL;VALUE=DURATION:PT1H
X-Robots-Tag:noindex
X-PUBLISHED-TTL:PT1H
BEGIN:VTIMEZONE
TZID:America/Los_Angeles
BEGIN:DAYLIGHT
TZOFFSETFROM:-0800
TZOFFSETTO:-0700
TZNAME:PDT
DTSTART:20240310T100000
END:DAYLIGHT
BEGIN:STANDARD
TZOFFSETFROM:-0700
TZOFFSETTO:-0800
TZNAME:PST
DTSTART:20241103T090000
END:STANDARD
BEGIN:DAYLIGHT
TZOFFSETFROM:-0800
TZOFFSETTO:-0700
TZNAME:PDT
DTSTART:20250309T100000
END:DAYLIGHT
BEGIN:STANDARD
TZOFFSETFROM:-0700
TZOFFSETTO:-0800
TZNAME:PST
DTSTART:20251102T090000
END:STANDARD
BEGIN:DAYLIGHT
TZOFFSETFROM:-0800
TZOFFSETTO:-0700
TZNAME:PDT
DTSTART:20260308T100000
END:DAYLIGHT
BEGIN:STANDARD
TZOFFSETFROM:-0700
TZOFFSETTO:-0800
TZNAME:PST
DTSTART:20261101T090000
END:STANDARD
END:VTIMEZONE
BEGIN:VEVENT
DTSTART;TZID=America/Los_Angeles:20250820T083000
DTEND;TZID=America/Los_Angeles:20250820T120000
DTSTAMP:20260425T045559
CREATED:20250818T180732Z
LAST-MODIFIED:20250818T180732Z
UID:10007484-1755678600-1755691200@cvparentguide.com
SUMMARY:Moms Mimosa Morning
DESCRIPTION:It’s that time of year again! Come celebrate the back to school drop off with us! 🥂 Come mingle with $6 mimosas. Shop\, craft\, make a candle\, make an item from the Patch Bar\, or just hang out!
URL:https://cvparentguide.com/calendar/moms-mimosa-morning/
LOCATION:The Craft House\, 330 Zachary St. #102\, Moorpark\, CA
CATEGORIES:East Valley
END:VEVENT
BEGIN:VEVENT
DTSTART;TZID=America/Los_Angeles:20250820T083000
DTEND;TZID=America/Los_Angeles:20250820T130000
DTSTAMP:20260425T045559
CREATED:20250816T234116Z
LAST-MODIFIED:20250816T234116Z
UID:10007482-1755678600-1755694800@cvparentguide.com
SUMMARY:Kids in Class\, Mimosas in Glass
DESCRIPTION:Kids in class\, mimosas in glass — your quiet morning starts here. 🥂\nBecause you’ve earned this! \n✨ First mimosas on us with any brunch entrée from 8:30 AM–1 PM on the first day of school. \n📍Book Now\nhttps://www.opentable.com/r/selvins-thousand-oaks
URL:https://cvparentguide.com/calendar/kids-in-class-mimosas-in-glass/
LOCATION:Selvin’s\, 495 N Ventu Park Rd\, Thousand Oaks\, CA
CATEGORIES:Central Valley
END:VEVENT
BEGIN:VEVENT
DTSTART;TZID=America/Los_Angeles:20250820T090000
DTEND;TZID=America/Los_Angeles:20250820T120000
DTSTAMP:20260425T045559
CREATED:20250813T211132Z
LAST-MODIFIED:20250813T211132Z
UID:10001964-1755680400-1755691200@cvparentguide.com
SUMMARY:Momosas @ Cronies
DESCRIPTION:School’s back\, and so are the MOMOSAS! 🥂✨ Join us at the Home of the Original Mommymosa and celebrate with $10 Mimosa Schooners after school drop-off.\nLet’s raise a glass to a fresh new school year
URL:https://cvparentguide.com/calendar/momosas-cronies-3/
LOCATION:Cronies Camarillo\, 370 N Lantana St\, Camarillo\, CA
CATEGORIES:North Valley
END:VEVENT
BEGIN:VEVENT
DTSTART;TZID=America/Los_Angeles:20250820T090000
DTEND;TZID=America/Los_Angeles:20250820T120000
DTSTAMP:20260425T045559
CREATED:20250813T211006Z
LAST-MODIFIED:20250813T211006Z
UID:10001963-1755680400-1755691200@cvparentguide.com
SUMMARY:Momosas @ Cronies
DESCRIPTION:School’s back\, and so are the MOMOSAS! 🥂✨ Join us at the Home of the Original Mommymosa and celebrate with $10 Mimosa Schooners after school drop-off.\nLet’s raise a glass to a fresh new school year
URL:https://cvparentguide.com/calendar/momosas-cronies-2/
LOCATION:Cronies NP\, 1620 Newbury Rd\, Newbury Park\, CA
CATEGORIES:Central Valley
END:VEVENT
BEGIN:VEVENT
DTSTART;TZID=America/Los_Angeles:20250820T090000
DTEND;TZID=America/Los_Angeles:20250820T120000
DTSTAMP:20260425T045559
CREATED:20250813T210653Z
LAST-MODIFIED:20250813T210653Z
UID:10001962-1755680400-1755691200@cvparentguide.com
SUMMARY:Momosas @ Cronies
DESCRIPTION:School’s back\, and so are the MOMOSAS! 🥂✨ Join us at the Home of the Original Mommymosa and celebrate with $10 Mimosa Schooners after school drop-off.\nLet’s raise a glass to a fresh new school year
URL:https://cvparentguide.com/calendar/momosas-cronies/
LOCATION:Cronies AH\, 5687 Kanan Rd\, Agoura Hills\, CA
CATEGORIES:South Valley
END:VEVENT
BEGIN:VEVENT
DTSTART;TZID=America/Los_Angeles:20250830T170000
DTEND;TZID=America/Los_Angeles:20250830T200000
DTSTAMP:20260425T045559
CREATED:20250824T210053Z
LAST-MODIFIED:20250824T210053Z
UID:10007926-1756573200-1756584000@cvparentguide.com
SUMMARY:PNO: Pokemon Boss Battle
DESCRIPTION:Calling all ninjas and Pokémon trainers!The Shadow Clan has unleashed a wild team of rogue Pokémon to invade the dojo—and it’s time to team up\, power up\, and battle back with epic moves\, teamwork\, and pure ninja skill! \nJoin us for a legendary drop-off night where kids dive into action-packed ninja missions\, Pokémon-themed boss battles\, and end the night with a well-earned pizza party! \nGold Coast Pizza Night | 5 PM – 8 PM | Ages 4+ \nRegister now and let the pizza party begin!
URL:https://cvparentguide.com/calendar/pno-pokemon-boss-battle/
LOCATION:Gold Coast Gymnastics\, 4005 E Main St\, Ventura\, CA
CATEGORIES:Big Kid,North Valley,Toddler,Tween & Teen
END:VEVENT
BEGIN:VEVENT
DTSTART;TZID=America/Los_Angeles:20250905T180000
DTEND;TZID=America/Los_Angeles:20250905T220000
DTSTAMP:20260425T045559
CREATED:20250823T162939Z
LAST-MODIFIED:20250823T162939Z
UID:10007905-1757095200-1757109600@cvparentguide.com
SUMMARY:MNO: Uncorked
DESCRIPTION:Moms’ Night Out is almost here!✨ The school year is in full swing—now it’s YOUR turn to exhale. 🍷 \nJoin Moms of Thousand Oaks\, founded by @leighasmithphotography\, for an evening just for you: ✅ $12 Wine Spritzers (light\, sparkling\, and effortlessly chic) ✅ Dinner + curated wines ✅ Raffles for amazing prizes (hello\, mini photo session – just in time for the holidays!) ✅ A custom playlist YOU help create (DM us your song requests 🎶) \nTake a night for yourself—you deserve it. ✨ \nSpace is limited\, so reserve your spot now \nTag your mom crew or come solo and meet new friends!
URL:https://cvparentguide.com/calendar/mno-uncorked/
LOCATION:West Tasting Room\, 1867 Thousand Oaks Blvd\, Thousand Oaks\, CA
CATEGORIES:Central Valley
END:VEVENT
BEGIN:VEVENT
DTSTART;TZID=America/Los_Angeles:20250912T113000
DTEND;TZID=America/Los_Angeles:20250912T123000
DTSTAMP:20260425T045559
CREATED:20250910T230203Z
LAST-MODIFIED:20250910T230203Z
UID:10009375-1757676600-1757680200@cvparentguide.com
SUMMARY:Pilates Pelvic Floor Workshop
DESCRIPTION:Your core is more than just abs\, it is your foundation for strength\, posture\, balance\, and confidence in movement. Join me and Dr Rachel Cappuccino PT for a powerful workshop that blends education\, Pilates\, and pelvic floor therapy so you can feel stronger and more supported every day 💪💫 \nRegistration closes soon ⏳ Limited spots available\, reserve your spot today 🧘‍♀️ \nYou will learn how to build lasting core strength at home\, understand your pelvic floor on a deeper level\, and leave with tools you can use right away 🙌 \n📍 Thousand Oaks\n📅 Friday Sept 12 11:30am \n💫 This is your chance to invest in strength that lasts a lifetime 💫
URL:https://cvparentguide.com/calendar/pilates-pelvic-floor-workshop/
LOCATION:Cappuccino Physical Therapy\, 4165 E Thousand Oaks Blvd #259\, Thousand Oaks\, CA
CATEGORIES:Central Valley
END:VEVENT
BEGIN:VEVENT
DTSTART;TZID=America/Los_Angeles:20250912T183000
DTEND;TZID=America/Los_Angeles:20250912T210000
DTSTAMP:20260425T045559
CREATED:20250824T203613Z
LAST-MODIFIED:20250824T204015Z
UID:10007922-1757701800-1757710800@cvparentguide.com
SUMMARY:PNO: Zoo Night
DESCRIPTION:Enjoy a night out while we watch your kiddos. Parents night\nout activities will include: A Petting Zoo\, Game Room\, Arts &\nCrafts\, Gym Free play\, and a safari party!* Dinner\, snacks\, drinks\, and dessert provided* \nOpen to Ages: 3 and up (Must be able to use restroom on their own) \n\n\n\nCosts\nMember: $23.00\nNon-Member: $33.00\nProgram Member: $33.00\nSpots are limited\, must reserve!\n\nContact\n\nTori Cusack\nvcusack@sevymca.org
URL:https://cvparentguide.com/calendar/zoo-night-parents-night-out/
LOCATION:Yarrow Family YMCA\, 31105 Thousand Oaks Blvd.\, Westlake Village\, CA
CATEGORIES:Big Kid,Central Valley,Toddler,Tween & Teen
END:VEVENT
BEGIN:VEVENT
DTSTART;TZID=America/Los_Angeles:20250913T133000
DTEND;TZID=America/Los_Angeles:20250913T153000
DTSTAMP:20260425T045559
CREATED:20250909T020412Z
LAST-MODIFIED:20250909T020412Z
UID:10008761-1757770200-1757777400@cvparentguide.com
SUMMARY:Mama Fascial Flow + Restore
DESCRIPTION:Join Dr. Charisse Balance for Mama Fascial Flow + Restore\, a workshop designed to release tension\, restore balance\, and help you reconnect with you. She’s a myofascial release therapist\, a perinatal pelvic PT\, AND a mama of 3\, so she knows what’s up 😉 \nUsing therapy balls\, you’ll melt away the tight\, overworked spots that motherhood creates\, then close with a deeply supported restorative savasana to leave you feeling open\, grounded\, and renewed. 🌿 \n📅 Saturday\, Sept. 13th\n🕛 1:30pm – 3:30 pm\n📍 \nSign up here
URL:https://cvparentguide.com/calendar/mama-fascial-flow-restore/
LOCATION:Grassroots Yoga Ventura\, 2280 E Main St\, Ventura\, CA
CATEGORIES:North Valley
END:VEVENT
BEGIN:VEVENT
DTSTART;TZID=America/Los_Angeles:20250913T170000
DTEND;TZID=America/Los_Angeles:20250913T200000
DTSTAMP:20260425T045559
CREATED:20250824T210331Z
LAST-MODIFIED:20250824T210331Z
UID:10007927-1757782800-1757793600@cvparentguide.com
SUMMARY:PNO: Space Jam Pizza Night
DESCRIPTION:Get ready to flip through the galaxy! \nJoin us for a night of gymnastics\, games\, and pizza — all with a fun outer space theme! \n🛸 What’s Happening: \n\n\nGlow-in-the-dark obstacle course \n\n\nSpace games and moon rock hunt \n\n\nPizza + treats for all kids \n\n\nFun space crafts to take home \n\n\nMusic\, glow sticks & more! \n\n\n👽 Dress up as an alien\, astronaut\, or wear your favorite space outfit!(Glow or neon colors are perfect!) \nMake sure to reserve your spot!
URL:https://cvparentguide.com/calendar/pno-space-jam-pizza-night/
LOCATION:Gold Coast Gymnastics\, 4005 E Main St\, Ventura\, CA
CATEGORIES:Big Kid,North Valley,Toddler,Tween & Teen
END:VEVENT
BEGIN:VEVENT
DTSTART;TZID=America/Los_Angeles:20250919T190000
DTEND;TZID=America/Los_Angeles:20250919T210000
DTSTAMP:20260425T045559
CREATED:20250904T182351Z
LAST-MODIFIED:20250904T182351Z
UID:10008258-1758308400-1758315600@cvparentguide.com
SUMMARY:Taco ‘Bout A Mom Meet Up
DESCRIPTION:WE’LL MEET AT MOTHERS TACOS FOR TACOS AND DRINKS ON THE PATIO\, WITH A RESERVED SPACE JUST FOR US. 🌮🍻 \n​A MAMAS-ONLY NIGHT TO UNWIND\, CONNECT\, ANDSOAK UP THE VILLAGE VIBE. ✨ \n​LIMITED TO 25 MAMAS! BE SURE TO SAVE YOUR SPOT!
URL:https://cvparentguide.com/calendar/taco-bout-a-mom-meet-up/
LOCATION:Mothers\, 1177 E Thompson Blvd Suite 101\, Ventura\, CA
CATEGORIES:North Valley
END:VEVENT
BEGIN:VEVENT
DTSTART;TZID=America/Los_Angeles:20250927T173000
DTEND;TZID=America/Los_Angeles:20250927T203000
DTSTAMP:20260425T045559
CREATED:20250824T204628Z
LAST-MODIFIED:20250927T005840Z
UID:10007923-1758994200-1759005000@cvparentguide.com
SUMMARY:PNO: Back to School Bash
DESCRIPTION:Back to School Bash\n\n\n\n\n\nTake the night off and enjoy some time for yourself. Kid’s Night Out is a place where kids can be KIDS! \nEvery event has fun themes\, kid-friendly movies\, pizza for dinner\, arts\, and games! Your kids will also get to play in our Adventure Zone! Parents\, have peace of mind knowing your child is having fun with friends in a safe environment with First Aid & CPR trained Y staff. \nThe movie shown for this event will be Inside Out. \nChildren must be potty-trained and wear socks. \nSpaces are limited\, must register! \nMembers: $45 \nNon Members: $85
URL:https://cvparentguide.com/calendar/pno-back-to-school-bash/
LOCATION:Ventura YMCA\, 3760 Telegraph Rd\, Ventura\, CA
CATEGORIES:Big Kid,North Valley,Toddler,Tween & Teen
END:VEVENT
BEGIN:VEVENT
DTSTART;TZID=America/Los_Angeles:20251018T183000
DTEND;TZID=America/Los_Angeles:20251018T210000
DTSTAMP:20260425T045559
CREATED:20250824T204940Z
LAST-MODIFIED:20250824T204940Z
UID:10007924-1760812200-1760821200@cvparentguide.com
SUMMARY:PNO: Halloween Fest
DESCRIPTION:Take the night off and enjoy some time for yourself. Kid’s Night Out is a place where kids can be KIDS! \nSpaces limited\, must reserve spot \nMembers: $40 \nNon Member: $55
URL:https://cvparentguide.com/calendar/pno-halloween-fest/
LOCATION:Camarillo YMCA\, 3111 Village at the Park Dr\, Camarillo\, CA
CATEGORIES:Big Kid,North Valley,Toddler,Tween & Teen
END:VEVENT
BEGIN:VEVENT
DTSTART;TZID=America/Los_Angeles:20251019T110000
DTEND;TZID=America/Los_Angeles:20251019T130000
DTSTAMP:20260425T045559
CREATED:20251010T012856Z
LAST-MODIFIED:20251010T012856Z
UID:10010704-1760871600-1760878800@cvparentguide.com
SUMMARY:Bubbles\, Boos & Brunch
DESCRIPTION:​Mamas\, mimosas\, and a touch of magic. that’s the vibe. 🪄🥂 Join your sisterhood of mamas for Bubbles\, Boos &Brunch at Downtown Café in Oxnard. We’ll laugh\, unwind\, and raise a glass to the power of our mama magic. Nobroomsticks (or binkies) \, just bottomless vibes. 👻✨ \n​*ONLY 15 SPOTS AVAILABLE \n​IF YOU REGISTER AND END UP NOT BEING ABLE TO MAKE IT PLS CANCEL YOUR REGISTRATION SO THE NEXT MAMA ON THE WAITLIST CAN BE ADDED
URL:https://cvparentguide.com/calendar/bubbles-boos-brunch/
LOCATION:Downtown Cafe by JL\, 221 W 5th St\, Oxnard\, United States
CATEGORIES:North Valley
END:VEVENT
BEGIN:VEVENT
DTSTART;TZID=America/Los_Angeles:20251025T183000
DTEND;TZID=America/Los_Angeles:20251025T210000
DTSTAMP:20260425T045559
CREATED:20250824T205244Z
LAST-MODIFIED:20250824T205244Z
UID:10007925-1761417000-1761426000@cvparentguide.com
SUMMARY:PNO: Monster Mash
DESCRIPTION:Take the night off and enjoy some time for yourself. Kid’s Night Out is a place where kids can be KIDS! \nEvery event has fun themes\, kid-friendly movies\, pizza for dinner\, arts\, and games! Your kids will also get to play in our Adventure Zone! Parents\, have peace of mind knowing your child is having fun with friends in a safe environment with First Aid & CPR trained Y staff. \nThe movie shown for this event will be Monsters Inc. \nChildren must be potty-trained and wear socks. \nSpaces limited\, must reserve spot
URL:https://cvparentguide.com/calendar/pno-monster-mash/
LOCATION:Ventura YMCA\, 3760 Telegraph Rd\, Ventura\, CA
CATEGORIES:Big Kid,North Valley,Toddler,Tween & Teen
END:VEVENT
BEGIN:VEVENT
DTSTART;TZID=America/Los_Angeles:20251119T090000
DTEND;TZID=America/Los_Angeles:20251119T100000
DTSTAMP:20260425T045559
CREATED:20251002T023555Z
LAST-MODIFIED:20251002T023555Z
UID:10010168-1763542800-1763546400@cvparentguide.com
SUMMARY:Becoming Mama: A Sound Bath Series for Moms
DESCRIPTION:A gentle reset to help you soothe your nervous system\, let go of perfectionism\, and reconnect with your full\, authentic self. \nAs moms\, we carry a lot—physically\, emotionally\, mentally. That stress can build up in our bodies and leave us feeling tired\, tense\, anxious\, or constantly on edge. While talk therapy helps us make sense of what we’re going through\, sound baths offer something different: a way to relax and release in the body\, without needing to find the right words. \nEach session blends guided meditation with rich\, restorative sound to help you unwind and come back to yourself. \nThis series was created for moms who feel stuck in the most common places we all get stuck sometimes: \n✨ Self-Compassion \n✨ Comparison & Perfectionism \n✨ Mom Guilt \n✨ Healing Our Inner Child \n✨ Nervous System Regulation \n✨ Challenging fears of speaking up about our feelings and needs \n✨ Reconnecting With “Her” (aka the parts of self we may feel we have disconnected from or struggled to make space for) \n✨ And more! \nCome exactly as you are—messy bun\, yoga pants\, and all. \nAlthough this sound bath series is just for moms\, check out my other sound bath offerings open to all adults\, as well as family-friendly options for kids. \nTickets: Each date is ticketed individually\, so you can join us whenever it works for you. \n📆 Wednesday Mornings \n📍 Ventura (Marina Park)- Please make sure to check my Instagram story the morning of the event for the exact location within the park @heartandsoundhealing \n🧘‍♀️ Please bring a yoga mat and comfy layers. Optional: pillow\, blanket\, or bolster to stay cozy. \nPlease note: Sound baths are not recommended for individuals diagnosed with sound-induced epilepsy\, individuals in their first trimester of pregnancy\, and people with a history of severe mental health conditions.
URL:https://cvparentguide.com/calendar/becoming-mama-a-sound-bath-series-for-moms/2025-11-19/
LOCATION:Marina Park\, 2950 Pierpont Blvd\, Ventura\, CA
CATEGORIES:New Mom,North Valley
END:VEVENT
END:VCALENDAR