BEGIN:VCALENDAR
VERSION:2.0
PRODID:-//Conejo Valley Parent Guide - ECPv6.15.20//NONSGML v1.0//EN
CALSCALE:GREGORIAN
METHOD:PUBLISH
X-ORIGINAL-URL:https://cvparentguide.com
X-WR-CALDESC:Events for Conejo Valley Parent Guide
REFRESH-INTERVAL;VALUE=DURATION:PT1H
X-Robots-Tag:noindex
X-PUBLISHED-TTL:PT1H
BEGIN:VTIMEZONE
TZID:America/Los_Angeles
BEGIN:DAYLIGHT
TZOFFSETFROM:-0800
TZOFFSETTO:-0700
TZNAME:PDT
DTSTART:20240310T100000
END:DAYLIGHT
BEGIN:STANDARD
TZOFFSETFROM:-0700
TZOFFSETTO:-0800
TZNAME:PST
DTSTART:20241103T090000
END:STANDARD
BEGIN:DAYLIGHT
TZOFFSETFROM:-0800
TZOFFSETTO:-0700
TZNAME:PDT
DTSTART:20250309T100000
END:DAYLIGHT
BEGIN:STANDARD
TZOFFSETFROM:-0700
TZOFFSETTO:-0800
TZNAME:PST
DTSTART:20251102T090000
END:STANDARD
BEGIN:DAYLIGHT
TZOFFSETFROM:-0800
TZOFFSETTO:-0700
TZNAME:PDT
DTSTART:20260308T100000
END:DAYLIGHT
BEGIN:STANDARD
TZOFFSETFROM:-0700
TZOFFSETTO:-0800
TZNAME:PST
DTSTART:20261101T090000
END:STANDARD
BEGIN:DAYLIGHT
TZOFFSETFROM:-0800
TZOFFSETTO:-0700
TZNAME:PDT
DTSTART:20270314T100000
END:DAYLIGHT
BEGIN:STANDARD
TZOFFSETFROM:-0700
TZOFFSETTO:-0800
TZNAME:PST
DTSTART:20271107T090000
END:STANDARD
END:VTIMEZONE
BEGIN:VEVENT
DTSTART;TZID=America/Los_Angeles:20250823T111500
DTEND;TZID=America/Los_Angeles:20250823T114500
DTSTAMP:20260422T031038
CREATED:20250813T212624Z
LAST-MODIFIED:20250813T212624Z
UID:10001967-1755947700-1755949500@cvparentguide.com
SUMMARY:Music & Movement
DESCRIPTION:Register Here \n10:15 Class \n11:15 Class \n \n 
URL:https://cvparentguide.com/calendar/music-movement/2025-08-23/2/
LOCATION:Brimhall Library\, 1401 E. Janss Road\, Thousand Oaks\, CA\, United States
CATEGORIES:Central Valley
END:VEVENT
BEGIN:VEVENT
DTSTART;TZID=America/Los_Angeles:20250827T100000
DTEND;TZID=America/Los_Angeles:20250827T110000
DTSTAMP:20260422T031038
CREATED:20250823T153144Z
LAST-MODIFIED:20250823T153144Z
UID:10007492-1756288800-1756292400@cvparentguide.com
SUMMARY:Talk\, Read\, Sing Play Group
DESCRIPTION:Come enjoy some fresh air and outdoor fun with us! \nAll families with children newborn to age 5 are invited to our Talk\, Read\, Sing Playgroup. \nMake new friends and enjoy fun activities!\nFree\, and registration is not required.\nContact us with any questions: 805-869-1317 or NfL@First5Ventura.org
URL:https://cvparentguide.com/calendar/talk-read-sing-play-group/
LOCATION:Nyeland Acres Community Park\, 3334 Santa Clara Avenue\, Oxnard\, CA
CATEGORIES:Infant,New Mom,North Valley,Toddler
END:VEVENT
BEGIN:VEVENT
DTSTART;TZID=America/Los_Angeles:20250913T140000
DTEND;TZID=America/Los_Angeles:20250913T150000
DTSTAMP:20260422T031038
CREATED:20250814T171533Z
LAST-MODIFIED:20250817T154730Z
UID:10002572-1757772000-1757775600@cvparentguide.com
SUMMARY:Sing & Smile: A Family Sing-along with Los Robles Chorale
DESCRIPTION:Join us for a fun-filled interactive sing-along led by professional music group Los Robles Chorale. This joyful event is designed for children and their families to spark a lot of music together.
URL:https://cvparentguide.com/calendar/sing-smile-a-family-sing-along-with-los-robles-chorale/
LOCATION:Camarillo Library\, 4101 Las Posas Rd\, Camarillo\, CA
CATEGORIES:Big Kid,Family,North Valley,Toddler
END:VEVENT
BEGIN:VEVENT
DTSTART;TZID=America/Los_Angeles:20250920T160000
DTEND;TZID=America/Los_Angeles:20250920T173000
DTSTAMP:20260422T031038
CREATED:20250827T170709Z
LAST-MODIFIED:20250827T170709Z
UID:10008074-1758384000-1758389400@cvparentguide.com
SUMMARY:Gabby's Dollhouse Live!
DESCRIPTION:In this a-MEOW-zing new live show\, Gabby unboxes a special acorn that needs the magical touch of a rainbow to grow. But when CatRat causes a color cat-astrophe and breaks the rainbow\, Gabby and the Gabby Cats must find the colors again to set things right. Gabby’s Dollhouse Live! Presented by Walmart brings to life an original story featuring incredible puppets\, dynamic staging\, and songs that will have audiences singing and dancing along\, from beginning to end.
URL:https://cvparentguide.com/calendar/gabbys-dollhouse-live/2025-09-20/2/
LOCATION:Fred Kavli Theatre\, 2100 E. Thousand Oaks Boulevard\, Thousand Oaks\, CA\, United States
CATEGORIES:Big Kid,Central Valley,Toddler
END:VEVENT
BEGIN:VEVENT
DTSTART;TZID=America/Los_Angeles:20251015T093000
DTEND;TZID=America/Los_Angeles:20251015T110000
DTSTAMP:20260422T031038
CREATED:20251010T012003Z
LAST-MODIFIED:20251010T012026Z
UID:10010701-1760520600-1760526000@cvparentguide.com
SUMMARY:FALLIN’ EVENT: MOVE\, MUSIC\, & MINGLE
DESCRIPTION:Join us for our FALLIN’ EVENT: MOVE\, MUSIC\, & MINGLE! \n​If you plan to attend\, a completed registration is required. If you are no longer able to attend\, please notify us asap to open up a spot for another family. Space is limited. \n​MEET outside the playground (between the restrooms and park’s parking lot). USE INSTRUCTIONS BELOW for location exact location. \n​We will follow the paved walking path for 1-1.5 laps (.78 mile distance per lap). The path is paved and has sections of incline. There are benches along the path if a break is needed or you can stop and head to our end spot at any time. After the walk\, we will head to the enclosed playground for a mini music class. Following the mini music class\, there will be time to mingle with mom talks\, play time\, photos\, and a beverage pop-up. For the route and gathering timeline\, please check our social media within 24 hours of the meet time. \n​DAY-OF SPONSORS / COLLABS: \n\n\n​Teacher Carmen – Kindermusik Mini Music Class \n\n\n​Juice It Up – Special Pop-Up Menu (Purchase a Medium Smoothie\, Get a Small Smoothie for Free – CASH ONLY) \n\n\n​Photography by Kayla – Capturing Mom and Me Moments \n\n\n​The Touch of G Banners – Special Mom Talks & Walks Banner for Photos \n\n\n​Please wear appropriate clothing and shoes and bring water along with sun care for your children and yourself.
URL:https://cvparentguide.com/calendar/fallin-event-move-music-mingle/
LOCATION:Banyan Park\, 3605 Erinlea Ave\, Thousand Oaks\, United States
CATEGORIES:Central Valley,Infant,New Mom,Toddler
END:VEVENT
BEGIN:VEVENT
DTSTART;TZID=America/Los_Angeles:20251029T103000
DTEND;TZID=America/Los_Angeles:20251029T111500
DTSTAMP:20260422T031038
CREATED:20250814T193649Z
LAST-MODIFIED:20250814T193649Z
UID:10003308-1761733800-1761736500@cvparentguide.com
SUMMARY:Music & Movement
DESCRIPTION:Last Wednesday of every month\, from 10:30 – 11:15 am\nSing\, dance\, and play! This high-energy program is designed for babies\, toddlers\, and preschoolers to build coordination\, rhythm\, and early literacy skills through songs and movement.
URL:https://cvparentguide.com/calendar/music-movement-2/2025-10-29/
LOCATION:Moorpark Library\, 699 Moorpark Ave\, Moorpark\, CA
CATEGORIES:East Valley
END:VEVENT
BEGIN:VEVENT
DTSTART;TZID=America/Los_Angeles:20251029T110000
DTEND;TZID=America/Los_Angeles:20251029T123000
DTSTAMP:20260422T031038
CREATED:20251005T194227Z
LAST-MODIFIED:20251005T194227Z
UID:10010628-1761735600-1761741000@cvparentguide.com
SUMMARY:Halloween Music + Movement
DESCRIPTION:Join us for a spooktacular Halloween Music Class!\nGet ready for a morning filled with music\, movement\, crafts\, sensory play\, and special Halloween fun for your little ones! \n✨ October 29th at 11AM-1PM | Camarillo\, CA ✨\n🎶 Halloween-themed music class\n🎨 Free take-home craft\n📸 Mommy & Me mini sessions by @avonleeamisphotography\n🎟 Free raffle ticket with registration\n🪄 Halloween sensory bins\n🍭 Treats for the little ones\n☕️ Coffee cart by @muse.brew \n🕷 Spots are limited — register now to secure your spot!
URL:https://cvparentguide.com/calendar/halloween-music-movement/
CATEGORIES:Infant,New Mom,Toddler
END:VEVENT
BEGIN:VEVENT
DTSTART;TZID=America/Los_Angeles:20251114T180000
DTEND;TZID=America/Los_Angeles:20251114T200000
DTSTAMP:20260422T031038
CREATED:20250827T173905Z
LAST-MODIFIED:20250827T173905Z
UID:10008077-1763143200-1763150400@cvparentguide.com
SUMMARY:CoComelon: Sing-A-Long Live!
DESCRIPTION:CoComelon: Sing-A-Long LIVE  is the perfect way to make memories you’ll cherish for years to come! Join Ms. Appleberry\, JJ\, Cody\, Nina and Cece for a lively Melon Patch musical adventure in this exciting touring production. This interactive live show brings CoComelon’s vibrant world to life\, inviting families to sing\, dance\, and play together. With beloved characters\, delightful surprises\, and favorite songs like “Wheels on the Bus\,” “Animal Dance\,” and “If You’re Happy and You Know It\,” it’s a celebration of connection and childhood wonder. Don’t miss the chance to share the magic of your child’s very first live show!
URL:https://cvparentguide.com/calendar/cocomelon-sing-a-long-live/
LOCATION:Fred Kavli Theatre\, 2100 E. Thousand Oaks Boulevard\, Thousand Oaks\, CA\, United States
CATEGORIES:Central Valley,Family,Toddler
END:VEVENT
BEGIN:VEVENT
DTSTART;TZID=America/Los_Angeles:20260415T100000
DTEND;TZID=America/Los_Angeles:20260415T110000
DTSTAMP:20260422T031038
CREATED:20251005T191304Z
LAST-MODIFIED:20251005T191304Z
UID:10010199-1776247200-1776250800@cvparentguide.com
SUMMARY:Kids Club @ The Lakes
DESCRIPTION:Every Wednesday on The Lawn. \nKids\, parents and caregivers are invited to experience a weekly dose of fun\, featuring live music\, storytelling\, puppet shows and so much more! \n\n\n\n\n10/8: Party Pal Puppets: Puppet Playtime\n\n\n10/22: Baila Baila\n\n\n10/29: Halloween Marionette Puppet Show with Franklin Haynes
URL:https://cvparentguide.com/calendar/kids-club-the-lakes/2026-04-15/
LOCATION:The Lakes at Thousand Oaks\, 2200 E. Thousand Oaks Blvd\, Thousand Oaks\, United States
CATEGORIES:Central Valley,Family,Infant,New Mom,Toddler
END:VEVENT
BEGIN:VEVENT
DTSTART;TZID=America/Los_Angeles:20260415T103000
DTEND;TZID=America/Los_Angeles:20260415T110000
DTSTAMP:20260422T031038
CREATED:20250814T191144Z
LAST-MODIFIED:20250814T191144Z
UID:10002933-1776249000-1776250800@cvparentguide.com
SUMMARY:Hill Road Storytime
DESCRIPTION:Join us every week for stories\, poems\, music\, movement\, & fun!
URL:https://cvparentguide.com/calendar/hill-road-storytime/2026-04-15/
LOCATION:Hill Road Library\, 1070 S. Hill Road\, Ventura\, CA
CATEGORIES:North Valley
END:VEVENT
BEGIN:VEVENT
DTSTART;TZID=America/Los_Angeles:20260416T100000
DTEND;TZID=America/Los_Angeles:20260416T110000
DTSTAMP:20260422T031038
CREATED:20250814T190419Z
LAST-MODIFIED:20250814T190419Z
UID:10002815-1776333600-1776337200@cvparentguide.com
SUMMARY:Saticoy Storytime Space
DESCRIPTION:Join us every week at our early literacy storytime for stories\, music and movement. For children ages 0-5 and their parent or caregiver.
URL:https://cvparentguide.com/calendar/saticoy-storytime-space/2026-04-16/
LOCATION:Saticoy Library\, 1292 Los Angeles Avenue\, Ventura\, CA
CATEGORIES:North Valley
END:VEVENT
BEGIN:VEVENT
DTSTART;TZID=America/Los_Angeles:20260421T113000
DTEND;TZID=America/Los_Angeles:20260421T123000
DTSTAMP:20260422T031038
CREATED:20250910T224116Z
LAST-MODIFIED:20250910T224425Z
UID:10008916-1776771000-1776774600@cvparentguide.com
SUMMARY:Music and Movement In The Park
DESCRIPTION:Step into a magical morning where music meets discovery! Join us Tuesdays & Saturdays at at Mel Vincent Park in Camarillo for a music class for infants and toddlers 0-4 years old. Enjoy live acoustic music\, movement\, and play outdoors! Siblings 0-4 included in registration fee. Bring a blanket and come connect\, explore\, and boogie with us!
URL:https://cvparentguide.com/calendar/music-and-movement-in-the-park/2026-04-21/
LOCATION:Mel Vincent Park\, 668 Calistoga Rd\, Camarillo\, CA
CATEGORIES:Infant,New Mom,North Valley,Toddler
END:VEVENT
END:VCALENDAR