BEGIN:VCALENDAR
VERSION:2.0
PRODID:-//Conejo Valley Parent Guide - ECPv6.15.20//NONSGML v1.0//EN
CALSCALE:GREGORIAN
METHOD:PUBLISH
X-WR-CALNAME:Conejo Valley Parent Guide
X-ORIGINAL-URL:https://cvparentguide.com
X-WR-CALDESC:Events for Conejo Valley Parent Guide
REFRESH-INTERVAL;VALUE=DURATION:PT1H
X-Robots-Tag:noindex
X-PUBLISHED-TTL:PT1H
BEGIN:VTIMEZONE
TZID:America/Los_Angeles
BEGIN:DAYLIGHT
TZOFFSETFROM:-0800
TZOFFSETTO:-0700
TZNAME:PDT
DTSTART:20240310T100000
END:DAYLIGHT
BEGIN:STANDARD
TZOFFSETFROM:-0700
TZOFFSETTO:-0800
TZNAME:PST
DTSTART:20241103T090000
END:STANDARD
BEGIN:DAYLIGHT
TZOFFSETFROM:-0800
TZOFFSETTO:-0700
TZNAME:PDT
DTSTART:20250309T100000
END:DAYLIGHT
BEGIN:STANDARD
TZOFFSETFROM:-0700
TZOFFSETTO:-0800
TZNAME:PST
DTSTART:20251102T090000
END:STANDARD
BEGIN:DAYLIGHT
TZOFFSETFROM:-0800
TZOFFSETTO:-0700
TZNAME:PDT
DTSTART:20260308T100000
END:DAYLIGHT
BEGIN:STANDARD
TZOFFSETFROM:-0700
TZOFFSETTO:-0800
TZNAME:PST
DTSTART:20261101T090000
END:STANDARD
END:VTIMEZONE
BEGIN:VEVENT
DTSTART;TZID=America/Los_Angeles:20250925T100000
DTEND;TZID=America/Los_Angeles:20250925T120000
DTSTAMP:20260424T061433
CREATED:20250904T182746Z
LAST-MODIFIED:20250904T182746Z
UID:10008259-1758794400-1758801600@cvparentguide.com
SUMMARY:Ventura Coffee & Play Date
DESCRIPTION:WE’LL MEET AT BLANCHE REYNOLDS PARK! \n​OHLALA CAFECITO IS JOINING US AGAIN\, BRINGINGTHEIR COFFEE CART STRAIGHT TO THE PARK\, \n​HONEYSHINE CALENDULA WILL BE THERE TOO\, SHARING THEIR AMAZING PRODUCTS. 🌼 \n​GRAB YOUR MAMA FRIENDS\, LET THE LITTLES PLAY\, AND ENJOY A COZY MORNING WITH YOUR VILLAGE!💕 \n\n\n	Related
URL:https://cvparentguide.com/calendar/ventura-coffee-play-date-2/
LOCATION:Blanche Reynolds Park\, 3164 Preble Ave\, Ventura\, CA
CATEGORIES:Big Kid,Infant,New Mom,North Valley,Toddler
END:VEVENT
END:VCALENDAR