BEGIN:VCALENDAR
VERSION:2.0
PRODID:-//Conejo Valley Parent Guide - ECPv6.15.20//NONSGML v1.0//EN
CALSCALE:GREGORIAN
METHOD:PUBLISH
X-ORIGINAL-URL:https://cvparentguide.com
X-WR-CALDESC:Events for Conejo Valley Parent Guide
REFRESH-INTERVAL;VALUE=DURATION:PT1H
X-Robots-Tag:noindex
X-PUBLISHED-TTL:PT1H
BEGIN:VTIMEZONE
TZID:America/Los_Angeles
BEGIN:DAYLIGHT
TZOFFSETFROM:-0800
TZOFFSETTO:-0700
TZNAME:PDT
DTSTART:20240310T100000
END:DAYLIGHT
BEGIN:STANDARD
TZOFFSETFROM:-0700
TZOFFSETTO:-0800
TZNAME:PST
DTSTART:20241103T090000
END:STANDARD
BEGIN:DAYLIGHT
TZOFFSETFROM:-0800
TZOFFSETTO:-0700
TZNAME:PDT
DTSTART:20250309T100000
END:DAYLIGHT
BEGIN:STANDARD
TZOFFSETFROM:-0700
TZOFFSETTO:-0800
TZNAME:PST
DTSTART:20251102T090000
END:STANDARD
BEGIN:DAYLIGHT
TZOFFSETFROM:-0800
TZOFFSETTO:-0700
TZNAME:PDT
DTSTART:20260308T100000
END:DAYLIGHT
BEGIN:STANDARD
TZOFFSETFROM:-0700
TZOFFSETTO:-0800
TZNAME:PST
DTSTART:20261101T090000
END:STANDARD
END:VTIMEZONE
BEGIN:VEVENT
DTSTART;TZID=America/Los_Angeles:20251025T150000
DTEND;TZID=America/Los_Angeles:20251025T170000
DTSTAMP:20260425T201549
CREATED:20250910T213433Z
LAST-MODIFIED:20250910T213433Z
UID:10008850-1761404400-1761411600@cvparentguide.com
SUMMARY:Parade of Frights
DESCRIPTION:If you’re looking for a family-friendly event that’ll keep your children busy during the day and light up your night\, you’re in for a treat – our should we say\, a ‘trick-or-treat’? \nThe 4th Annual Parade of Frights at the Channel Islands Harbor is going to be bigger\, better\, and spookier than ever! \nThis event\, scheduled for Saturday\, October 25th\, will include a 7 p.m. boat parade and numerous family-friendly land side activities starting at 3 p.m. This event is all about celebrating the spooky season in style\, and it’s the perfect opportunity to bring the whole family together for a day of laughter\, thrills\, and\, of course\, free candy! \n\n\n	Related
URL:https://cvparentguide.com/calendar/parade-of-frights/
LOCATION:Channel Islands Harbor\, 3550 Harbor Blvd\, Oxnard\, CA
CATEGORIES:Big Kid,Family,Infant,New Mom,North Valley,Toddler,Tween & Teen
END:VEVENT
END:VCALENDAR