BEGIN:VCALENDAR
VERSION:2.0
PRODID:-//Conejo Valley Parent Guide - ECPv6.15.20//NONSGML v1.0//EN
CALSCALE:GREGORIAN
METHOD:PUBLISH
X-ORIGINAL-URL:https://cvparentguide.com
X-WR-CALDESC:Events for Conejo Valley Parent Guide
REFRESH-INTERVAL;VALUE=DURATION:PT1H
X-Robots-Tag:noindex
X-PUBLISHED-TTL:PT1H
BEGIN:VTIMEZONE
TZID:America/Los_Angeles
BEGIN:DAYLIGHT
TZOFFSETFROM:-0800
TZOFFSETTO:-0700
TZNAME:PDT
DTSTART:20240310T100000
END:DAYLIGHT
BEGIN:STANDARD
TZOFFSETFROM:-0700
TZOFFSETTO:-0800
TZNAME:PST
DTSTART:20241103T090000
END:STANDARD
BEGIN:DAYLIGHT
TZOFFSETFROM:-0800
TZOFFSETTO:-0700
TZNAME:PDT
DTSTART:20250309T100000
END:DAYLIGHT
BEGIN:STANDARD
TZOFFSETFROM:-0700
TZOFFSETTO:-0800
TZNAME:PST
DTSTART:20251102T090000
END:STANDARD
BEGIN:DAYLIGHT
TZOFFSETFROM:-0800
TZOFFSETTO:-0700
TZNAME:PDT
DTSTART:20260308T100000
END:DAYLIGHT
BEGIN:STANDARD
TZOFFSETFROM:-0700
TZOFFSETTO:-0800
TZNAME:PST
DTSTART:20261101T090000
END:STANDARD
END:VTIMEZONE
BEGIN:VEVENT
DTSTART;TZID=America/Los_Angeles:20250913T100000
DTEND;TZID=America/Los_Angeles:20250913T120000
DTSTAMP:20260424T043704
CREATED:20250904T181347Z
LAST-MODIFIED:20250904T181347Z
UID:10008256-1757757600-1757764800@cvparentguide.com
SUMMARY:Oxnard Coffee & Play Date
DESCRIPTION:​WE’RE HEADING BACK TO EAST PARK NEAR THE COLLECTION FOR OUR NEXT COFFEE + PLAY DATE!🧋☕💫 \n​WE’VE GOT SOME AMAZING THINGS LINED UP FOR YOU + YOUR LITTLES AT THIS ONE 👏🏼💕 \n​🧋 Muse Brew is pulling up with their boba coffee cart. yes\, the coffee is coming straight to us at the park! \n​🎨 First 5 will be joining us with fun activities for the littles + sharing amazing resources for 805 families. \n​📸 @capturedxnoemi will be offering complimentary mommy & me mini sessions—with 5 digital images to cherish forever! Whether you dress it up or keep it everyday\, this is your moment with your babies. 💕 \n​✨ Jardin LA will have their beautiful mini charm bar on-site\, gifting every registered mama a free charm + the chance to shop their gorgeous collection. \n\n\n	Related
URL:https://cvparentguide.com/calendar/oxnard-coffee-play-date/
LOCATION:East Park\, 351 Indus Pl\, Oxnard\, CA
CATEGORIES:Big Kid,Infant,New Mom,North Valley,Toddler
END:VEVENT
END:VCALENDAR