BEGIN:VCALENDAR
VERSION:2.0
PRODID:-//Conejo Valley Parent Guide - ECPv6.15.20//NONSGML v1.0//EN
CALSCALE:GREGORIAN
METHOD:PUBLISH
X-WR-CALNAME:Conejo Valley Parent Guide
X-ORIGINAL-URL:https://cvparentguide.com
X-WR-CALDESC:Events for Conejo Valley Parent Guide
REFRESH-INTERVAL;VALUE=DURATION:PT1H
X-Robots-Tag:noindex
X-PUBLISHED-TTL:PT1H
BEGIN:VTIMEZONE
TZID:America/Los_Angeles
BEGIN:DAYLIGHT
TZOFFSETFROM:-0800
TZOFFSETTO:-0700
TZNAME:PDT
DTSTART:20240310T100000
END:DAYLIGHT
BEGIN:STANDARD
TZOFFSETFROM:-0700
TZOFFSETTO:-0800
TZNAME:PST
DTSTART:20241103T090000
END:STANDARD
BEGIN:DAYLIGHT
TZOFFSETFROM:-0800
TZOFFSETTO:-0700
TZNAME:PDT
DTSTART:20250309T100000
END:DAYLIGHT
BEGIN:STANDARD
TZOFFSETFROM:-0700
TZOFFSETTO:-0800
TZNAME:PST
DTSTART:20251102T090000
END:STANDARD
BEGIN:DAYLIGHT
TZOFFSETFROM:-0800
TZOFFSETTO:-0700
TZNAME:PDT
DTSTART:20260308T100000
END:DAYLIGHT
BEGIN:STANDARD
TZOFFSETFROM:-0700
TZOFFSETTO:-0800
TZNAME:PST
DTSTART:20261101T090000
END:STANDARD
END:VTIMEZONE
BEGIN:VEVENT
DTSTART;TZID=America/Los_Angeles:20251025T160000
DTEND;TZID=America/Los_Angeles:20251025T180000
DTSTAMP:20260423T104337
CREATED:20251010T013057Z
LAST-MODIFIED:20251010T013057Z
UID:10010705-1761408000-1761415200@cvparentguide.com
SUMMARY:Family Movie Day In Fillmore
DESCRIPTION:JOIN US FOR A COZY AFTERNOON AT THE FILLMORE TOWN THEATRE TO WATCH THE HALLOWEEN CLASSIC HOCUS POCUS! \n​BRING THE WHOLE FAMILY\, GRAB SOME SNACKS\, AND SUPPORT OUR SWEET LOCAL GEM OF A THEATER. \n​🎥 SHOWTIME: 4:00 PM \n​🎟️ TICKETS AVAILABLE AT THE DOOR \n​LET’S MAKE IT A MAGICAL FALL MEMORY TOGETHER. 🍂 \n\n\n	Related
URL:https://cvparentguide.com/calendar/family-movie-day-in-fillmore/
LOCATION:Fillmore Town Theatre\, 338 Central Ave\, Fillmore\, United States
CATEGORIES:Big Kid,East Valley,Family,Toddler
END:VEVENT
END:VCALENDAR