BEGIN:VCALENDAR
VERSION:2.0
PRODID:-//Conejo Valley Parent Guide - ECPv6.15.20//NONSGML v1.0//EN
CALSCALE:GREGORIAN
METHOD:PUBLISH
X-WR-CALNAME:Conejo Valley Parent Guide
X-ORIGINAL-URL:https://cvparentguide.com
X-WR-CALDESC:Events for Conejo Valley Parent Guide
REFRESH-INTERVAL;VALUE=DURATION:PT1H
X-Robots-Tag:noindex
X-PUBLISHED-TTL:PT1H
BEGIN:VTIMEZONE
TZID:America/Los_Angeles
BEGIN:DAYLIGHT
TZOFFSETFROM:-0800
TZOFFSETTO:-0700
TZNAME:PDT
DTSTART:20240310T100000
END:DAYLIGHT
BEGIN:STANDARD
TZOFFSETFROM:-0700
TZOFFSETTO:-0800
TZNAME:PST
DTSTART:20241103T090000
END:STANDARD
BEGIN:DAYLIGHT
TZOFFSETFROM:-0800
TZOFFSETTO:-0700
TZNAME:PDT
DTSTART:20250309T100000
END:DAYLIGHT
BEGIN:STANDARD
TZOFFSETFROM:-0700
TZOFFSETTO:-0800
TZNAME:PST
DTSTART:20251102T090000
END:STANDARD
BEGIN:DAYLIGHT
TZOFFSETFROM:-0800
TZOFFSETTO:-0700
TZNAME:PDT
DTSTART:20260308T100000
END:DAYLIGHT
BEGIN:STANDARD
TZOFFSETFROM:-0700
TZOFFSETTO:-0800
TZNAME:PST
DTSTART:20261101T090000
END:STANDARD
BEGIN:DAYLIGHT
TZOFFSETFROM:-0800
TZOFFSETTO:-0700
TZNAME:PDT
DTSTART:20270314T100000
END:DAYLIGHT
BEGIN:STANDARD
TZOFFSETFROM:-0700
TZOFFSETTO:-0800
TZNAME:PST
DTSTART:20271107T090000
END:STANDARD
END:VTIMEZONE
BEGIN:VEVENT
DTSTART;TZID=America/Los_Angeles:20260415T090000
DTEND;TZID=America/Los_Angeles:20260415T120000
DTSTAMP:20260422T080350
CREATED:20250816T163548Z
LAST-MODIFIED:20250816T163548Z
UID:10005427-1776243600-1776254400@cvparentguide.com
SUMMARY:Ventura Farmer's Market
DESCRIPTION:Located in the parking lot near Red Robin and California Pizza Kitchen \nEnjoy a wonderful outdoor shopping experience with California farmers bringing you the freshest\, vine and tree ripened fruits and vegetables. Other California agricultural items include: fresh meat products\, herbs\, honey\, eggs\, whole and shelled nuts\, cheese\, olive oil\, fruit juices\, jams\, jellies\, cut flowers and potted plants. Wonderful artisan bakery products\, ethnic foods and tasty hot foods prepared onsite. Ocean fish fresh from the boat is also a real treat offered here. \nThe Midtown Ventura location has been open since 1989 and was the second certified farmers’ market opened in Ventura County and offers access to over 25 California farmers and food vendors each week. \nBring the family and have fun! Sample new and exciting products. Open year-round\, rain or shine. SNAP/EBT customers welcome. Redemption’s authorized at Market Information Booth. \nSorry No Pets! California state health laws restrict all animals from the markets\, except service animals \n\n\n	Related
URL:https://cvparentguide.com/calendar/ventura-farmers-market/2026-04-15/
LOCATION:Pacific View Mall\, 3301-1 E Main St\, Ventura\, CA
CATEGORIES:North Valley
END:VEVENT
BEGIN:VEVENT
DTSTART;TZID=America/Los_Angeles:20251013T110000
DTEND;TZID=America/Los_Angeles:20251013T120000
DTSTAMP:20260422T080350
CREATED:20250812T221544Z
LAST-MODIFIED:20250817T154202Z
UID:10000008-1760353200-1760356800@cvparentguide.com
SUMMARY:JCPenney Kids Zone
DESCRIPTION:Join JCPenney on the second Saturday of each month for FREE crafts for kids and extra savings for parents. \nKids get a FREE: \n– Craft\, ID badge & lanyard Collector’s pin each month + Craft Medallion after completing 6 crafts. \nExtra 10% Off coupon for parents to boost your savings! \nSaturday\, October 11 13: 11AM – Noon \n\nBuild a fire safety scene\n\n\n\n	Related
URL:https://cvparentguide.com/calendar/jcpenney-kids-zone-2/
LOCATION:Oaks Mall JcPenny\, 280 W Hillcrest Dr\, Thousand Oaks\, CA
CATEGORIES:Big Kid,Central Valley,Toddler
ATTACH;FMTTYPE=image/jpeg:https://cvparentguide.com/wp-content/uploads/2025/08/Imaginarium-Gallery-Rose-Garden.jpg
END:VEVENT
BEGIN:VEVENT
DTSTART;TZID=America/Los_Angeles:20250913T110000
DTEND;TZID=America/Los_Angeles:20250913T120000
DTSTAMP:20260422T080350
CREATED:20250812T221458Z
LAST-MODIFIED:20250817T154743Z
UID:10000007-1757761200-1757764800@cvparentguide.com
SUMMARY:JCPenney Kids Zone
DESCRIPTION:Join JCPenney on the second Saturday of each month for FREE crafts for kids and extra savings for parents. \nKids get a FREE: \n– Craft\, ID badge & lanyard Collector’s pin each month + Craft Medallion after completing 6 crafts. \nExtra 10% Off coupon for parents to boost your savings! \nSaturday\, September 13: 11AM – Noon \n\nMake a football tic tac toe board\n\n\n\n	Related
URL:https://cvparentguide.com/calendar/jcpenney-kids-zone/
LOCATION:Oaks Mall JcPenny\, 280 W Hillcrest Dr\, Thousand Oaks\, CA
CATEGORIES:Big Kid,Central Valley,Toddler
ATTACH;FMTTYPE=image/webp:https://cvparentguide.com/wp-content/uploads/2025/08/Screenshot-2025-08-11-at-1.33.44-PM.webp
END:VEVENT
END:VCALENDAR