BEGIN:VCALENDAR
VERSION:2.0
PRODID:-//Conejo Valley Parent Guide - ECPv6.15.20//NONSGML v1.0//EN
CALSCALE:GREGORIAN
METHOD:PUBLISH
X-ORIGINAL-URL:https://cvparentguide.com
X-WR-CALDESC:Events for Conejo Valley Parent Guide
REFRESH-INTERVAL;VALUE=DURATION:PT1H
X-Robots-Tag:noindex
X-PUBLISHED-TTL:PT1H
BEGIN:VTIMEZONE
TZID:America/Los_Angeles
BEGIN:DAYLIGHT
TZOFFSETFROM:-0800
TZOFFSETTO:-0700
TZNAME:PDT
DTSTART:20240310T100000
END:DAYLIGHT
BEGIN:STANDARD
TZOFFSETFROM:-0700
TZOFFSETTO:-0800
TZNAME:PST
DTSTART:20241103T090000
END:STANDARD
BEGIN:DAYLIGHT
TZOFFSETFROM:-0800
TZOFFSETTO:-0700
TZNAME:PDT
DTSTART:20250309T100000
END:DAYLIGHT
BEGIN:STANDARD
TZOFFSETFROM:-0700
TZOFFSETTO:-0800
TZNAME:PST
DTSTART:20251102T090000
END:STANDARD
BEGIN:DAYLIGHT
TZOFFSETFROM:-0800
TZOFFSETTO:-0700
TZNAME:PDT
DTSTART:20260308T100000
END:DAYLIGHT
BEGIN:STANDARD
TZOFFSETFROM:-0700
TZOFFSETTO:-0800
TZNAME:PST
DTSTART:20261101T090000
END:STANDARD
END:VTIMEZONE
BEGIN:VEVENT
DTSTART;TZID=America/Los_Angeles:20251031T150000
DTEND;TZID=America/Los_Angeles:20251031T180000
DTSTAMP:20260419T071600
CREATED:20250824T170306Z
LAST-MODIFIED:20250824T170306Z
UID:10007920-1761922800-1761933600@cvparentguide.com
SUMMARY:YOUTH HALLOWEEN CARNIVAL
DESCRIPTION:Get ready for another SPOOKTACULAR Halloween Carnival! This year’s event will have classic features and some new elements!!! \nTickets\nOnline ticket sales will be $5 per person. Kids ages 2 and under are FREE! \nAttractions\n\nBalloon Twisting\nThere’s no better accessory to a Halloween costume than a balloon! Cleo\, David\, and Their Balloon Twisting Crew will be doing up twisting for the event.\n \nFace Painting\nOur  friends at Paint Pals will be doing face painting. Be sure to stop by and see their beautiful artwork!\n\n \nHay Ride\nEnjoy a brisk wagon ride around the spooktacular park.\n \nCarnival Booths\nWe’ll have 10 booths of carnival style games for you to enjoy with prizes. There will be an additional 4 booths for the little ones under 5.\n \nInflatables\nThere will be multiple interactive inflatables for ghouls and goblins of all ages. With slides\, a bungee wall\, obstacle course\, tot bounce house\, and interactive games\, everyone is sure to have a jumpin’ good time!\n \nGuessing Station\nWin a prize for guessing the correct amount of candy in each container or the weight of a Halloween 🎃 pumpkin.\n \nPhoto Ops\nThe entire place will be decked out with spots to capture the moment.\n \nWe’ll have Rock ‘n Roll Café and Lucky Dog Café on site serving up our local favorites!! \n\n\n\n	Related
URL:https://cvparentguide.com/calendar/youth-halloween-carnival/
LOCATION:Rancho Santa Susana Community Center\, 5005 E Los Angeles Ave\, Simi Valley\, ca
CATEGORIES:Big Kid,East Valley,Family,Toddler,Tween & Teen
END:VEVENT
END:VCALENDAR