BEGIN:VCALENDAR
VERSION:2.0
PRODID:-//Conejo Valley Parent Guide - ECPv6.15.20//NONSGML v1.0//EN
CALSCALE:GREGORIAN
METHOD:PUBLISH
X-WR-CALNAME:Conejo Valley Parent Guide
X-ORIGINAL-URL:https://cvparentguide.com
X-WR-CALDESC:Events for Conejo Valley Parent Guide
REFRESH-INTERVAL;VALUE=DURATION:PT1H
X-Robots-Tag:noindex
X-PUBLISHED-TTL:PT1H
BEGIN:VTIMEZONE
TZID:America/Los_Angeles
BEGIN:DAYLIGHT
TZOFFSETFROM:-0800
TZOFFSETTO:-0700
TZNAME:PDT
DTSTART:20240310T100000
END:DAYLIGHT
BEGIN:STANDARD
TZOFFSETFROM:-0700
TZOFFSETTO:-0800
TZNAME:PST
DTSTART:20241103T090000
END:STANDARD
BEGIN:DAYLIGHT
TZOFFSETFROM:-0800
TZOFFSETTO:-0700
TZNAME:PDT
DTSTART:20250309T100000
END:DAYLIGHT
BEGIN:STANDARD
TZOFFSETFROM:-0700
TZOFFSETTO:-0800
TZNAME:PST
DTSTART:20251102T090000
END:STANDARD
BEGIN:DAYLIGHT
TZOFFSETFROM:-0800
TZOFFSETTO:-0700
TZNAME:PDT
DTSTART:20260308T100000
END:DAYLIGHT
BEGIN:STANDARD
TZOFFSETFROM:-0700
TZOFFSETTO:-0800
TZNAME:PST
DTSTART:20261101T090000
END:STANDARD
END:VTIMEZONE
BEGIN:VEVENT
DTSTART;TZID=America/Los_Angeles:20251025T130000
DTEND;TZID=America/Los_Angeles:20251025T160000
DTSTAMP:20260421T181542
CREATED:20250909T021203Z
LAST-MODIFIED:20250909T021203Z
UID:10008762-1761397200-1761408000@cvparentguide.com
SUMMARY:Harvest Festival
DESCRIPTION:👗 Dress in costume or your favorite fall outfit\n🛍️ Trick or Treating\n🎶 Live music\n✂️ Children’s crafts\n🏆 Games\, prizes & more\n🌾 Vote for your favorite decorated Scarecrow!\n✨ Admission: $10 Seniors\, Adults & Teens | $5 Kids 5–12 | FREE 4 & under \n\n\n	Related
URL:https://cvparentguide.com/calendar/harvest-festival/
LOCATION:Stagecoach Inn\, 51 S. Ventu Park Rd.\, Newbury Park\, CA
CATEGORIES:Big Kid,Central Valley,Family,Infant,New Mom,Toddler,Tween & Teen
END:VEVENT
BEGIN:VEVENT
DTSTART;TZID=America/Los_Angeles:20250913T130000
DTEND;TZID=America/Los_Angeles:20250913T160000
DTSTAMP:20260421T181542
CREATED:20250813T193423Z
LAST-MODIFIED:20250817T154735Z
UID:10000449-1757768400-1757779200@cvparentguide.com
SUMMARY:Hispanic Heritage at The Inn
DESCRIPTION:Related
URL:https://cvparentguide.com/calendar/hispanic-heritage-at-the-inn/
LOCATION:Stagecoach Inn\, 51 S. Ventu Park Rd.\, Newbury Park\, CA
CATEGORIES:Central Valley,Family
END:VEVENT
BEGIN:VEVENT
DTSTART;TZID=America/Los_Angeles:20250906T170000
DTEND;TZID=America/Los_Angeles:20250906T200000
DTSTAMP:20260421T181542
CREATED:20250813T193608Z
LAST-MODIFIED:20250817T154903Z
UID:10000450-1757178000-1757188800@cvparentguide.com
SUMMARY:Owl Release Front Lawn at the Stagecoach Inn
DESCRIPTION:Join us as we\, once again\, release a previously injured owl back into nature. Presented by the Ojai Raptor Wildlife Rehabilitation & Education Center. It’s truly a beautiful experience. \n\n\n\n\n\n\n\n\n\n\n	Related
URL:https://cvparentguide.com/calendar/owl-release-front-lawn-at-the-stagecoach-inn/
LOCATION:Stagecoach Inn\, 51 S. Ventu Park Rd.\, Newbury Park\, CA
CATEGORIES:Central Valley,Family
END:VEVENT
END:VCALENDAR