BEGIN:VCALENDAR
VERSION:2.0
PRODID:-//Conejo Valley Parent Guide - ECPv6.15.20//NONSGML v1.0//EN
CALSCALE:GREGORIAN
METHOD:PUBLISH
X-WR-CALNAME:Conejo Valley Parent Guide
X-ORIGINAL-URL:https://cvparentguide.com
X-WR-CALDESC:Events for Conejo Valley Parent Guide
REFRESH-INTERVAL;VALUE=DURATION:PT1H
X-Robots-Tag:noindex
X-PUBLISHED-TTL:PT1H
BEGIN:VTIMEZONE
TZID:America/Los_Angeles
BEGIN:DAYLIGHT
TZOFFSETFROM:-0800
TZOFFSETTO:-0700
TZNAME:PDT
DTSTART:20240310T100000
END:DAYLIGHT
BEGIN:STANDARD
TZOFFSETFROM:-0700
TZOFFSETTO:-0800
TZNAME:PST
DTSTART:20241103T090000
END:STANDARD
BEGIN:DAYLIGHT
TZOFFSETFROM:-0800
TZOFFSETTO:-0700
TZNAME:PDT
DTSTART:20250309T100000
END:DAYLIGHT
BEGIN:STANDARD
TZOFFSETFROM:-0700
TZOFFSETTO:-0800
TZNAME:PST
DTSTART:20251102T090000
END:STANDARD
BEGIN:DAYLIGHT
TZOFFSETFROM:-0800
TZOFFSETTO:-0700
TZNAME:PDT
DTSTART:20260308T100000
END:DAYLIGHT
BEGIN:STANDARD
TZOFFSETFROM:-0700
TZOFFSETTO:-0800
TZNAME:PST
DTSTART:20261101T090000
END:STANDARD
END:VTIMEZONE
BEGIN:VEVENT
DTSTART;TZID=America/Los_Angeles:20251220T100000
DTEND;TZID=America/Los_Angeles:20251220T130000
DTSTAMP:20260425T105213
CREATED:20250815T214829Z
LAST-MODIFIED:20250817T154046Z
UID:10004762-1766224800-1766235600@cvparentguide.com
SUMMARY:DIY-U Kids’ Workshops by Lowe’s
DESCRIPTION:Sleigh Ride\nGet ready to sleigh the season with Lowe’s Sleigh Ride Toy workshop! Mini-builders get to build and decorate their own toy complete with reindeer\, sleigh and Santa. This magical project brings holiday cheer while teaching kids basic construction and fine motor skills. A great way to get into the holiday spirit and create a toy they’ll treasure.\n\n\nWorkshops are hosted by our Red Vests from 10:00am – 1:00pm\, MUST REGISTER. \nDon’t Forget! Your confirmation email is your ticket; confirm you have selected the correct store\, date\, time and number of mini-builders. Submitted registrations cannot be edited or undone. We look forward to building with you and your little ones! \n\n\n\n\n\n	Related
URL:https://cvparentguide.com/calendar/diy-u-kids-workshops-by-lowes-3/
LOCATION:Oxnard Lowe’s\, 301 W Gonzales Rd\, Oxnard\, CA
CATEGORIES:Big Kid,Central Valley,East Valley,North Valley,Toddler
END:VEVENT
BEGIN:VEVENT
DTSTART;TZID=America/Los_Angeles:20251115T100000
DTEND;TZID=America/Los_Angeles:20251115T130000
DTSTAMP:20260425T105213
CREATED:20250815T214556Z
LAST-MODIFIED:20250817T154055Z
UID:10004761-1763200800-1763211600@cvparentguide.com
SUMMARY:DIY-U Kids’ Workshops by Lowe’s
DESCRIPTION:Letter Box\nCelebrate the season of giving and community with Lowe’s Holiday Letterbox workshop! Let your kid build a personalized hanging letterbox to hold the family cards while they countdown to the holidays using the calendar decal. This festive project sparks excitement and creativity as mini-builders learn basic building skills and make a forever keepsake!\n\nWorkshops are hosted by our Red Vests from 10:00am – 1:00pm\, in-store only\, MUST REGISTER. \n  \nDon’t Forget! Your confirmation email is your ticket; confirm you have selected the correct store\, date\, time and number of mini-builders. Submitted registrations cannot be edited or undone. \n  \nWe look forward to building with you and your little ones! \n\n\n\n	Related
URL:https://cvparentguide.com/calendar/diy-u-kids-workshops-by-lowes-2/
LOCATION:Oxnard Lowe’s\, 301 W Gonzales Rd\, Oxnard\, CA
CATEGORIES:Big Kid,Central Valley,East Valley,North Valley,Toddler
END:VEVENT
BEGIN:VEVENT
DTSTART;TZID=America/Los_Angeles:20251018T100000
DTEND;TZID=America/Los_Angeles:20251018T130000
DTSTAMP:20260425T105213
CREATED:20250815T214237Z
LAST-MODIFIED:20250817T154116Z
UID:10004760-1760781600-1760792400@cvparentguide.com
SUMMARY:DIY-U Kids’ Workshops by Lowe’s
DESCRIPTION:Play Firehouse\nThe fun alarm is ringing! Let your kid celebrate Fire Safety Month with mini-firehouse workshop by Lowe’s and First Alert. Mini-builders get to create their own miniature firehouse complete with a working pole. This hands-on project encourages creativity and introduces kids to the importance of fire safety. Fun all-around!\n\nCheck back soon! \nWorkshops are hosted by our Red Vests from 10:00am – 1:00pm\, in-store only\, must register. \nDon’t Forget! Your confirmation email is your ticket; confirm you have selected the correct store\, date\, time and number of mini-builders. Submitted registrations cannot be edited or undone. We look forward to building with you and your little ones! \n\n\n\n	Related
URL:https://cvparentguide.com/calendar/640/
LOCATION:Oxnard Lowe’s\, 301 W Gonzales Rd\, Oxnard\, CA
CATEGORIES:Big Kid,Central Valley,East Valley,North Valley,Toddler
END:VEVENT
BEGIN:VEVENT
DTSTART;TZID=America/Los_Angeles:20250920T100000
DTEND;TZID=America/Los_Angeles:20250920T130000
DTSTAMP:20260425T105213
CREATED:20250815T213436Z
LAST-MODIFIED:20250817T154634Z
UID:10004759-1758362400-1758373200@cvparentguide.com
SUMMARY:DIY-U Kids’ Workshops by Lowe’s
DESCRIPTION:Football Spirit Board\nGet into the NFL season with Lowe’s Home Town Scoreboard workshop! Kids get to build their favorite team’s scoreboard\, learn simple mechanics and add excitement to their space. It’s the perfect workshop for young sports fans.\n\n\nWorkshops are hosted by our Red Vests from 10:00am – 1:00pm\, in-store only\, must register. \nDon’t Forget! Your confirmation email is your ticket; confirm you have selected the correct store\, date\, time and number of mini-builders. Submitted registrations cannot be edited or undone. We look forward to building with you and your little ones! \n\nRegister Here\n\n\n\n	Related
URL:https://cvparentguide.com/calendar/diy-u-kids-workshops-by-lowes/
LOCATION:TO Lowe’s\, 1027 Academy Drive\, Thousand Oaks\, CA
CATEGORIES:Big Kid,Central Valley,East Valley,North Valley,Toddler
END:VEVENT
BEGIN:VEVENT
DTSTART;TZID=America/Los_Angeles:20250906T100000
DTEND;TZID=America/Los_Angeles:20250906T170000
DTSTAMP:20260425T105213
CREATED:20250823T154310Z
LAST-MODIFIED:20250823T154310Z
UID:10007493-1757152800-1757178000@cvparentguide.com
SUMMARY:FREE kids' water bottle at Lowe's
DESCRIPTION:Lowe’s is giving away a FREE kids’ water bottle and stickers on Sept. 6!\n\n\nTo claim your freebie:\n\n\n1) Become a Lowe’s rewards member — the rewards program is completely free to join.\n\n\n2)Head to Lowe’s on Sept. 6 right at 10 a.m. to be among the first 250 members at the store.\n\n\n3) Scan your member ID to claim the water bottle and stickers.\n\n\nItems are available while supplies last. https://zdcs.link/z3G8pq\n\n\n\n	Related
URL:https://cvparentguide.com/calendar/free-kids-water-bottle-at-lowes/
LOCATION:Oxnard Lowe’s\, 301 W Gonzales Rd\, Oxnard\, CA
CATEGORIES:Big Kid,Central Valley,East Valley,Family,North Valley
END:VEVENT
END:VCALENDAR