BEGIN:VCALENDAR
VERSION:2.0
PRODID:-//Conejo Valley Parent Guide - ECPv6.15.20//NONSGML v1.0//EN
CALSCALE:GREGORIAN
METHOD:PUBLISH
X-ORIGINAL-URL:https://cvparentguide.com
X-WR-CALDESC:Events for Conejo Valley Parent Guide
REFRESH-INTERVAL;VALUE=DURATION:PT1H
X-Robots-Tag:noindex
X-PUBLISHED-TTL:PT1H
BEGIN:VTIMEZONE
TZID:America/Los_Angeles
BEGIN:DAYLIGHT
TZOFFSETFROM:-0800
TZOFFSETTO:-0700
TZNAME:PDT
DTSTART:20240310T100000
END:DAYLIGHT
BEGIN:STANDARD
TZOFFSETFROM:-0700
TZOFFSETTO:-0800
TZNAME:PST
DTSTART:20241103T090000
END:STANDARD
BEGIN:DAYLIGHT
TZOFFSETFROM:-0800
TZOFFSETTO:-0700
TZNAME:PDT
DTSTART:20250309T100000
END:DAYLIGHT
BEGIN:STANDARD
TZOFFSETFROM:-0700
TZOFFSETTO:-0800
TZNAME:PST
DTSTART:20251102T090000
END:STANDARD
BEGIN:DAYLIGHT
TZOFFSETFROM:-0800
TZOFFSETTO:-0700
TZNAME:PDT
DTSTART:20260308T100000
END:DAYLIGHT
BEGIN:STANDARD
TZOFFSETFROM:-0700
TZOFFSETTO:-0800
TZNAME:PST
DTSTART:20261101T090000
END:STANDARD
END:VTIMEZONE
BEGIN:VEVENT
DTSTART;TZID=America/Los_Angeles:20250912T183000
DTEND;TZID=America/Los_Angeles:20250912T210000
DTSTAMP:20260425T134957
CREATED:20250824T203613Z
LAST-MODIFIED:20250824T204015Z
UID:10007922-1757701800-1757710800@cvparentguide.com
SUMMARY:PNO: Zoo Night
DESCRIPTION:Enjoy a night out while we watch your kiddos. Parents night\nout activities will include: A Petting Zoo\, Game Room\, Arts &\nCrafts\, Gym Free play\, and a safari party!* Dinner\, snacks\, drinks\, and dessert provided* \nOpen to Ages: 3 and up (Must be able to use restroom on their own) \n\n\n\nCosts\nMember: $23.00\nNon-Member: $33.00\nProgram Member: $33.00\nSpots are limited\, must reserve!\n\nContact\n\nTori Cusack\nvcusack@sevymca.org \n\n\n\n\n	Related
URL:https://cvparentguide.com/calendar/zoo-night-parents-night-out/
LOCATION:Yarrow Family YMCA\, 31105 Thousand Oaks Blvd.\, Westlake Village\, CA
CATEGORIES:Big Kid,Central Valley,Toddler,Tween & Teen
END:VEVENT
END:VCALENDAR